BEGIN:VCALENDAR
VERSION:2.0
PRODID:-//Independence Training - ECPv6.15.17//NONSGML v1.0//EN
CALSCALE:GREGORIAN
METHOD:PUBLISH
X-ORIGINAL-URL:https://independencetraining.com
X-WR-CALDESC:Events for Independence Training
REFRESH-INTERVAL;VALUE=DURATION:PT1H
X-Robots-Tag:noindex
X-PUBLISHED-TTL:PT1H
BEGIN:VTIMEZONE
TZID:America/Denver
BEGIN:DAYLIGHT
TZOFFSETFROM:-0700
TZOFFSETTO:-0600
TZNAME:MDT
DTSTART:20250309T090000
END:DAYLIGHT
BEGIN:STANDARD
TZOFFSETFROM:-0600
TZOFFSETTO:-0700
TZNAME:MST
DTSTART:20251102T080000
END:STANDARD
BEGIN:DAYLIGHT
TZOFFSETFROM:-0700
TZOFFSETTO:-0600
TZNAME:MDT
DTSTART:20260308T090000
END:DAYLIGHT
BEGIN:STANDARD
TZOFFSETFROM:-0600
TZOFFSETTO:-0700
TZNAME:MST
DTSTART:20261101T080000
END:STANDARD
BEGIN:DAYLIGHT
TZOFFSETFROM:-0700
TZOFFSETTO:-0600
TZNAME:MDT
DTSTART:20270314T090000
END:DAYLIGHT
BEGIN:STANDARD
TZOFFSETFROM:-0600
TZOFFSETTO:-0700
TZNAME:MST
DTSTART:20271107T080000
END:STANDARD
END:VTIMEZONE
BEGIN:VEVENT
DTSTART;VALUE=DATE:20260102
DTEND;VALUE=DATE:20260105
DTSTAMP:20260421T112302
CREATED:20250915T210804Z
LAST-MODIFIED:20250922T210648Z
UID:9431-1767312000-1767571199@independencetraining.com
SUMMARY:Precision Rifle
DESCRIPTION:
URL:https://independencetraining.com/event/intro-to-precision-rifle-i-3/
END:VEVENT
BEGIN:VEVENT
DTSTART;VALUE=DATE:20260106
DTEND;VALUE=DATE:20260107
DTSTAMP:20260421T112302
CREATED:20251121T000049Z
LAST-MODIFIED:20251121T000049Z
UID:9806-1767657600-1767743999@independencetraining.com
SUMMARY:Corporate Medical Training
DESCRIPTION:
URL:https://independencetraining.com/event/corporate-medical-training-202/
END:VEVENT
BEGIN:VEVENT
DTSTART;VALUE=DATE:20260108
DTEND;VALUE=DATE:20260109
DTSTAMP:20260421T112302
CREATED:20260105T182959Z
LAST-MODIFIED:20260105T182959Z
UID:9878-1767830400-1767916799@independencetraining.com
SUMMARY:Corporate Medical Training
DESCRIPTION:
URL:https://independencetraining.com/event/corporate-medical-training-206/
END:VEVENT
BEGIN:VEVENT
DTSTART;VALUE=DATE:20260109
DTEND;VALUE=DATE:20260110
DTSTAMP:20260421T112302
CREATED:20260105T191156Z
LAST-MODIFIED:20260105T191156Z
UID:9927-1767916800-1768003199@independencetraining.com
SUMMARY:EDC Combatives
DESCRIPTION:
URL:https://independencetraining.com/event/edc-combatives-18/
END:VEVENT
BEGIN:VEVENT
DTSTART;VALUE=DATE:20260110
DTEND;VALUE=DATE:20260111
DTSTAMP:20260421T112302
CREATED:20250915T210933Z
LAST-MODIFIED:20250915T210933Z
UID:9435-1768003200-1768089599@independencetraining.com
SUMMARY:Stop The Bleed
DESCRIPTION:
URL:https://independencetraining.com/event/stop-the-bleed-44/
END:VEVENT
BEGIN:VEVENT
DTSTART;VALUE=DATE:20260112
DTEND;VALUE=DATE:20260113
DTSTAMP:20260421T112302
CREATED:20260105T183113Z
LAST-MODIFIED:20260105T183113Z
UID:9880-1768176000-1768262399@independencetraining.com
SUMMARY:Private Firearms Training
DESCRIPTION:
URL:https://independencetraining.com/event/private-firearms-training-73/
END:VEVENT
BEGIN:VEVENT
DTSTART;VALUE=DATE:20260113
DTEND;VALUE=DATE:20260114
DTSTAMP:20260421T112302
CREATED:20251121T000136Z
LAST-MODIFIED:20251121T000136Z
UID:9808-1768262400-1768348799@independencetraining.com
SUMMARY:Corporate Medical Training
DESCRIPTION:
URL:https://independencetraining.com/event/corporate-medical-training-203/
END:VEVENT
BEGIN:VEVENT
DTSTART;VALUE=DATE:20260114
DTEND;VALUE=DATE:20260116
DTSTAMP:20260421T112302
CREATED:20260105T183153Z
LAST-MODIFIED:20260105T183153Z
UID:9882-1768348800-1768521599@independencetraining.com
SUMMARY:Corporate Medical Training
DESCRIPTION:
URL:https://independencetraining.com/event/corporate-medical-training-207/
END:VEVENT
BEGIN:VEVENT
DTSTART;VALUE=DATE:20260116
DTEND;VALUE=DATE:20260117
DTSTAMP:20260421T112302
CREATED:20260105T183225Z
LAST-MODIFIED:20260105T183225Z
UID:9884-1768521600-1768607999@independencetraining.com
SUMMARY:Private Medical Training
DESCRIPTION:
URL:https://independencetraining.com/event/private-medical-training-30/
END:VEVENT
BEGIN:VEVENT
DTSTART;VALUE=DATE:20260120
DTEND;VALUE=DATE:20260121
DTSTAMP:20260421T112302
CREATED:20260105T183344Z
LAST-MODIFIED:20260105T183344Z
UID:9886-1768867200-1768953599@independencetraining.com
SUMMARY:Corporate Medical Training
DESCRIPTION:
URL:https://independencetraining.com/event/corporate-medical-training-208/
END:VEVENT
BEGIN:VEVENT
DTSTART;VALUE=DATE:20260121
DTEND;VALUE=DATE:20260122
DTSTAMP:20260421T112302
CREATED:20260105T183411Z
LAST-MODIFIED:20260105T183411Z
UID:9888-1768953600-1769039999@independencetraining.com
SUMMARY:Corporate Medical Training
DESCRIPTION:
URL:https://independencetraining.com/event/corporate-medical-training-209/
END:VEVENT
BEGIN:VEVENT
DTSTART;VALUE=DATE:20260122
DTEND;VALUE=DATE:20260123
DTSTAMP:20260421T112302
CREATED:20251121T000231Z
LAST-MODIFIED:20251121T000231Z
UID:9811-1769040000-1769126399@independencetraining.com
SUMMARY:Corporate Medical Training
DESCRIPTION:
URL:https://independencetraining.com/event/corporate-medical-training-204/
END:VEVENT
BEGIN:VEVENT
DTSTART;VALUE=DATE:20260124
DTEND;VALUE=DATE:20260125
DTSTAMP:20260421T112302
CREATED:20250915T211215Z
LAST-MODIFIED:20250915T211215Z
UID:9439-1769212800-1769299199@independencetraining.com
SUMMARY:IFAK Life Saver
DESCRIPTION:
URL:https://independencetraining.com/event/ifak-life-saver-6/
END:VEVENT
BEGIN:VEVENT
DTSTART;VALUE=DATE:20260124
DTEND;VALUE=DATE:20260126
DTSTAMP:20260421T112302
CREATED:20250915T211301Z
LAST-MODIFIED:20250915T211301Z
UID:9441-1769212800-1769385599@independencetraining.com
SUMMARY:Close Contact Handgun
DESCRIPTION:
URL:https://independencetraining.com/event/close-contact-handgun/
END:VEVENT
BEGIN:VEVENT
DTSTART;VALUE=DATE:20260127
DTEND;VALUE=DATE:20260128
DTSTAMP:20260421T112302
CREATED:20250915T211005Z
LAST-MODIFIED:20250915T211005Z
UID:9437-1769472000-1769558399@independencetraining.com
SUMMARY:Stop The Bleed
DESCRIPTION:
URL:https://independencetraining.com/event/stop-the-bleed-45/
END:VEVENT
BEGIN:VEVENT
DTSTART;VALUE=DATE:20260127
DTEND;VALUE=DATE:20260128
DTSTAMP:20260421T112302
CREATED:20251121T000304Z
LAST-MODIFIED:20251121T000304Z
UID:9813-1769472000-1769558399@independencetraining.com
SUMMARY:Corporate Medical Training
DESCRIPTION:
URL:https://independencetraining.com/event/corporate-medical-training-205/
END:VEVENT
BEGIN:VEVENT
DTSTART;VALUE=DATE:20260128
DTEND;VALUE=DATE:20260129
DTSTAMP:20260421T112302
CREATED:20260128T232829Z
LAST-MODIFIED:20260128T232829Z
UID:10026-1769558400-1769644799@independencetraining.com
SUMMARY:Private Firearms Training
DESCRIPTION:
URL:https://independencetraining.com/event/private-firearms-training-74/
END:VEVENT
BEGIN:VEVENT
DTSTART;VALUE=DATE:20260129
DTEND;VALUE=DATE:20260130
DTSTAMP:20260421T112302
CREATED:20260128T232911Z
LAST-MODIFIED:20260128T232911Z
UID:10028-1769644800-1769731199@independencetraining.com
SUMMARY:Private Firearms Training
DESCRIPTION:
URL:https://independencetraining.com/event/private-firearms-training-75/
END:VEVENT
BEGIN:VEVENT
DTSTART;VALUE=DATE:20260131
DTEND;VALUE=DATE:20260201
DTSTAMP:20260421T112302
CREATED:20250915T211445Z
LAST-MODIFIED:20250915T211445Z
UID:9443-1769817600-1769903999@independencetraining.com
SUMMARY:Defensive Carbine
DESCRIPTION:
URL:https://independencetraining.com/event/defensive-carbine-11/
END:VEVENT
BEGIN:VEVENT
DTSTART;VALUE=DATE:20260201
DTEND;VALUE=DATE:20260202
DTSTAMP:20260421T112302
CREATED:20250915T211552Z
LAST-MODIFIED:20250915T211552Z
UID:9445-1769904000-1769990399@independencetraining.com
SUMMARY:Advanced Carbine
DESCRIPTION:
URL:https://independencetraining.com/event/advanced-carbine-5/
END:VEVENT
BEGIN:VEVENT
DTSTART;VALUE=DATE:20260203
DTEND;VALUE=DATE:20260204
DTSTAMP:20260421T112302
CREATED:20260105T184641Z
LAST-MODIFIED:20260105T184641Z
UID:9890-1770076800-1770163199@independencetraining.com
SUMMARY:Corporate Medical Training
DESCRIPTION:
URL:https://independencetraining.com/event/corporate-medical-training-210/
END:VEVENT
BEGIN:VEVENT
DTSTART;VALUE=DATE:20260203
DTEND;VALUE=DATE:20260204
DTSTAMP:20260421T112302
CREATED:20260128T233050Z
LAST-MODIFIED:20260128T233050Z
UID:10030-1770076800-1770163199@independencetraining.com
SUMMARY:Private Firearms Training
DESCRIPTION:
URL:https://independencetraining.com/event/private-firearms-training-76/
END:VEVENT
BEGIN:VEVENT
DTSTART;VALUE=DATE:20260204
DTEND;VALUE=DATE:20260205
DTSTAMP:20260421T112302
CREATED:20260128T233128Z
LAST-MODIFIED:20260128T233128Z
UID:10032-1770163200-1770249599@independencetraining.com
SUMMARY:Private Medical Training
DESCRIPTION:
URL:https://independencetraining.com/event/private-medical-training-31/
END:VEVENT
BEGIN:VEVENT
DTSTART;VALUE=DATE:20260206
DTEND;VALUE=DATE:20260207
DTSTAMP:20260421T112302
CREATED:20260105T191228Z
LAST-MODIFIED:20260105T191228Z
UID:9929-1770336000-1770422399@independencetraining.com
SUMMARY:EDC Combatives
DESCRIPTION:
URL:https://independencetraining.com/event/edc-combatives-19/
END:VEVENT
BEGIN:VEVENT
DTSTART;TZID=America/Denver:20260207T080000
DTEND;TZID=America/Denver:20260207T170000
DTSTAMP:20260421T112302
CREATED:20250915T211941Z
LAST-MODIFIED:20250915T211941Z
UID:9447-1770451200-1770483600@independencetraining.com
SUMMARY:Field Carbine
DESCRIPTION:
URL:https://independencetraining.com/event/field-carbine-6/
END:VEVENT
BEGIN:VEVENT
DTSTART;VALUE=DATE:20260208
DTEND;VALUE=DATE:20260209
DTSTAMP:20260421T112302
CREATED:20250915T212233Z
LAST-MODIFIED:20250915T212233Z
UID:9449-1770508800-1770595199@independencetraining.com
SUMMARY:Advanced Handgun
DESCRIPTION:
URL:https://independencetraining.com/event/advanced-handgun-6/
END:VEVENT
BEGIN:VEVENT
DTSTART;VALUE=DATE:20260208
DTEND;VALUE=DATE:20260209
DTSTAMP:20260421T112302
CREATED:20250915T212815Z
LAST-MODIFIED:20250915T212815Z
UID:9456-1770508800-1770595199@independencetraining.com
SUMMARY:Basic Handgun / AZ CCW
DESCRIPTION:
URL:https://independencetraining.com/event/basic-handgun-az-ccw-14/
END:VEVENT
BEGIN:VEVENT
DTSTART;VALUE=DATE:20260210
DTEND;VALUE=DATE:20260211
DTSTAMP:20260421T112302
CREATED:20260105T184706Z
LAST-MODIFIED:20260105T184706Z
UID:9892-1770681600-1770767999@independencetraining.com
SUMMARY:Corporate Medical Training
DESCRIPTION:
URL:https://independencetraining.com/event/corporate-medical-training-211/
END:VEVENT
BEGIN:VEVENT
DTSTART;VALUE=DATE:20260211
DTEND;VALUE=DATE:20260212
DTSTAMP:20260421T112302
CREATED:20260128T233216Z
LAST-MODIFIED:20260128T233216Z
UID:10034-1770768000-1770854399@independencetraining.com
SUMMARY:Private Firearms Training
DESCRIPTION:
URL:https://independencetraining.com/event/private-firearms-training-77/
END:VEVENT
BEGIN:VEVENT
DTSTART;VALUE=DATE:20260211
DTEND;VALUE=DATE:20260212
DTSTAMP:20260421T112302
CREATED:20260209T195521Z
LAST-MODIFIED:20260209T195521Z
UID:10140-1770768000-1770854399@independencetraining.com
SUMMARY:Private Firearms Training
DESCRIPTION:
URL:https://independencetraining.com/event/private-firearms-training-79/
END:VEVENT
END:VCALENDAR