BEGIN:VCALENDAR
VERSION:2.0
PRODID:-//Independence Training - ECPv6.15.17//NONSGML v1.0//EN
CALSCALE:GREGORIAN
METHOD:PUBLISH
X-WR-CALNAME:Independence Training
X-ORIGINAL-URL:https://independencetraining.com
X-WR-CALDESC:Events for Independence Training
REFRESH-INTERVAL;VALUE=DURATION:PT1H
X-Robots-Tag:noindex
X-PUBLISHED-TTL:PT1H
BEGIN:VTIMEZONE
TZID:America/Denver
BEGIN:DAYLIGHT
TZOFFSETFROM:-0700
TZOFFSETTO:-0600
TZNAME:MDT
DTSTART:20230312T090000
END:DAYLIGHT
BEGIN:STANDARD
TZOFFSETFROM:-0600
TZOFFSETTO:-0700
TZNAME:MST
DTSTART:20231105T080000
END:STANDARD
BEGIN:DAYLIGHT
TZOFFSETFROM:-0700
TZOFFSETTO:-0600
TZNAME:MDT
DTSTART:20240310T090000
END:DAYLIGHT
BEGIN:STANDARD
TZOFFSETFROM:-0600
TZOFFSETTO:-0700
TZNAME:MST
DTSTART:20241103T080000
END:STANDARD
BEGIN:DAYLIGHT
TZOFFSETFROM:-0700
TZOFFSETTO:-0600
TZNAME:MDT
DTSTART:20250309T090000
END:DAYLIGHT
BEGIN:STANDARD
TZOFFSETFROM:-0600
TZOFFSETTO:-0700
TZNAME:MST
DTSTART:20251102T080000
END:STANDARD
BEGIN:DAYLIGHT
TZOFFSETFROM:-0700
TZOFFSETTO:-0600
TZNAME:MDT
DTSTART:20260308T090000
END:DAYLIGHT
BEGIN:STANDARD
TZOFFSETFROM:-0600
TZOFFSETTO:-0700
TZNAME:MST
DTSTART:20261101T080000
END:STANDARD
END:VTIMEZONE
BEGIN:VEVENT
DTSTART;VALUE=DATE:20250111
DTEND;VALUE=DATE:20250112
DTSTAMP:20260422T161231
CREATED:20241119T222116Z
LAST-MODIFIED:20241119T222116Z
UID:8017-1736553600-1736639999@independencetraining.com
SUMMARY:Low Light / No Light - Handgun
DESCRIPTION:
URL:https://independencetraining.com/event/low-light-no-light-handgun/
END:VEVENT
BEGIN:VEVENT
DTSTART;VALUE=DATE:20250110
DTEND;VALUE=DATE:20250111
DTSTAMP:20260422T161231
CREATED:20250106T185809Z
LAST-MODIFIED:20250106T185809Z
UID:8330-1736467200-1736553599@independencetraining.com
SUMMARY:EDC Combatives
DESCRIPTION:
URL:https://independencetraining.com/event/edc-combatives-6/
END:VEVENT
BEGIN:VEVENT
DTSTART;VALUE=DATE:20250109
DTEND;VALUE=DATE:20250110
DTSTAMP:20260422T161231
CREATED:20241230T214942Z
LAST-MODIFIED:20241230T214942Z
UID:8273-1736380800-1736467199@independencetraining.com
SUMMARY:Corporate Medical Training
DESCRIPTION:
URL:https://independencetraining.com/event/corporate-medical-training-83/
END:VEVENT
BEGIN:VEVENT
DTSTART;VALUE=DATE:20250108
DTEND;VALUE=DATE:20250109
DTSTAMP:20260422T161231
CREATED:20241230T214805Z
LAST-MODIFIED:20241230T214824Z
UID:8269-1736294400-1736380799@independencetraining.com
SUMMARY:Corporate Medical Training
DESCRIPTION:
URL:https://independencetraining.com/event/corporate-medical-training-81/
END:VEVENT
BEGIN:VEVENT
DTSTART;VALUE=DATE:20250107
DTEND;VALUE=DATE:20250108
DTSTAMP:20260422T161231
CREATED:20241230T214854Z
LAST-MODIFIED:20241230T214854Z
UID:8271-1736208000-1736294399@independencetraining.com
SUMMARY:Corporate Medical Training
DESCRIPTION:
URL:https://independencetraining.com/event/corporate-medical-training-82/
END:VEVENT
BEGIN:VEVENT
DTSTART;VALUE=DATE:20250106
DTEND;VALUE=DATE:20250107
DTSTAMP:20260422T161231
CREATED:20241230T214523Z
LAST-MODIFIED:20241230T214737Z
UID:8265-1736121600-1736207999@independencetraining.com
SUMMARY:Corporate Medical Training
DESCRIPTION:
URL:https://independencetraining.com/event/private-medical-training-22/
END:VEVENT
BEGIN:VEVENT
DTSTART;VALUE=DATE:20250103
DTEND;VALUE=DATE:20250104
DTSTAMP:20260422T161231
CREATED:20241230T213619Z
LAST-MODIFIED:20241230T213619Z
UID:8263-1735862400-1735948799@independencetraining.com
SUMMARY:Private Firearms Training
DESCRIPTION:
URL:https://independencetraining.com/event/private-firearms-training-38/
END:VEVENT
BEGIN:VEVENT
DTSTART;VALUE=DATE:20250102
DTEND;VALUE=DATE:20250103
DTSTAMP:20260422T161231
CREATED:20241230T213516Z
LAST-MODIFIED:20241230T213516Z
UID:8261-1735776000-1735862399@independencetraining.com
SUMMARY:Private Firearms Training
DESCRIPTION:
URL:https://independencetraining.com/event/private-firearms-training-37/
END:VEVENT
BEGIN:VEVENT
DTSTART;VALUE=DATE:20241228
DTEND;VALUE=DATE:20241229
DTSTAMP:20260422T161231
CREATED:20241205T173842Z
LAST-MODIFIED:20241205T173842Z
UID:8211-1735344000-1735430399@independencetraining.com
SUMMARY:Out With A Bang!
DESCRIPTION:
URL:https://independencetraining.com/event/out-with-a-bang-3/
END:VEVENT
BEGIN:VEVENT
DTSTART;VALUE=DATE:20241219
DTEND;VALUE=DATE:20241220
DTSTAMP:20260422T161231
CREATED:20241007T221003Z
LAST-MODIFIED:20241007T221003Z
UID:7919-1734566400-1734652799@independencetraining.com
SUMMARY:Corporate Medical Training
DESCRIPTION:
URL:https://independencetraining.com/event/corporate-medical-training-80/
END:VEVENT
BEGIN:VEVENT
DTSTART;VALUE=DATE:20241217
DTEND;VALUE=DATE:20241218
DTSTAMP:20260422T161231
CREATED:20241007T220927Z
LAST-MODIFIED:20241007T220927Z
UID:7917-1734393600-1734479999@independencetraining.com
SUMMARY:Corporate Medical Training
DESCRIPTION:
URL:https://independencetraining.com/event/corporate-medical-training-79/
END:VEVENT
BEGIN:VEVENT
DTSTART;VALUE=DATE:20241217
DTEND;VALUE=DATE:20241218
DTSTAMP:20260422T161231
CREATED:20240613T181109Z
LAST-MODIFIED:20240613T181109Z
UID:7397-1734393600-1734479999@independencetraining.com
SUMMARY:Stop The Bleed
DESCRIPTION:Includes a Stop The Bleed kit
URL:https://independencetraining.com/event/stop-the-bleed-18/
END:VEVENT
BEGIN:VEVENT
DTSTART;VALUE=DATE:20241216
DTEND;VALUE=DATE:20241217
DTSTAMP:20260422T161231
CREATED:20241007T220854Z
LAST-MODIFIED:20241007T220854Z
UID:7915-1734307200-1734393599@independencetraining.com
SUMMARY:Corporate Medical Training
DESCRIPTION:
URL:https://independencetraining.com/event/corporate-medical-training-78/
END:VEVENT
BEGIN:VEVENT
DTSTART;VALUE=DATE:20241215
DTEND;VALUE=DATE:20241216
DTSTAMP:20260422T161231
CREATED:20231022T194430Z
LAST-MODIFIED:20240129T185315Z
UID:6308-1734220800-1734307199@independencetraining.com
SUMMARY:Defensive Handgun
DESCRIPTION:Phoenix\, AZ
URL:https://independencetraining.com/event/defensive-handgun-3/
END:VEVENT
BEGIN:VEVENT
DTSTART;VALUE=DATE:20241214
DTEND;VALUE=DATE:20241215
DTSTAMP:20260422T161231
CREATED:20230403T210425Z
LAST-MODIFIED:20240129T185335Z
UID:4428-1734134400-1734220799@independencetraining.com
SUMMARY:IFAK Life Saver
DESCRIPTION:Tempe\, AZ
URL:https://independencetraining.com/event/ifak-life-saver-9/
END:VEVENT
BEGIN:VEVENT
DTSTART;VALUE=DATE:20241213
DTEND;VALUE=DATE:20241214
DTSTAMP:20260422T161231
CREATED:20240708T210404Z
LAST-MODIFIED:20240708T210404Z
UID:7455-1734048000-1734134399@independencetraining.com
SUMMARY:EDC Combatives
DESCRIPTION:
URL:https://independencetraining.com/event/edc-combatives-5/
END:VEVENT
BEGIN:VEVENT
DTSTART;VALUE=DATE:20241212
DTEND;VALUE=DATE:20241213
DTSTAMP:20260422T161231
CREATED:20241007T220818Z
LAST-MODIFIED:20241007T220818Z
UID:7913-1733961600-1734047999@independencetraining.com
SUMMARY:Corporate Medical Training
DESCRIPTION:
URL:https://independencetraining.com/event/corporate-medical-training-77/
END:VEVENT
BEGIN:VEVENT
DTSTART;VALUE=DATE:20241209
DTEND;VALUE=DATE:20241210
DTSTAMP:20260422T161231
CREATED:20241007T220746Z
LAST-MODIFIED:20241007T220746Z
UID:7911-1733702400-1733788799@independencetraining.com
SUMMARY:Corporate Medical Training
DESCRIPTION:
URL:https://independencetraining.com/event/corporate-medical-training-76/
END:VEVENT
BEGIN:VEVENT
DTSTART;VALUE=DATE:20241207
DTEND;VALUE=DATE:20241208
DTSTAMP:20260422T161231
CREATED:20231022T185828Z
LAST-MODIFIED:20240129T185351Z
UID:6298-1733529600-1733615999@independencetraining.com
SUMMARY:Basic Handgun / AZ CCW
DESCRIPTION:Phoenix\, AZ
URL:https://independencetraining.com/event/basic-handgun-az-ccw-13/
END:VEVENT
BEGIN:VEVENT
DTSTART;VALUE=DATE:20241201
DTEND;VALUE=DATE:20241202
DTSTAMP:20260422T161231
CREATED:20231022T195628Z
LAST-MODIFIED:20240129T185408Z
UID:6316-1733011200-1733097599@independencetraining.com
SUMMARY:Defensive Carbine
DESCRIPTION:Phoenix\, AZ
URL:https://independencetraining.com/event/defensive-carbine-6/
END:VEVENT
BEGIN:VEVENT
DTSTART;VALUE=DATE:20241130
DTEND;VALUE=DATE:20241201
DTSTAMP:20260422T161231
CREATED:20230403T210435Z
LAST-MODIFIED:20240824T201611Z
UID:4447-1732924800-1733011199@independencetraining.com
SUMMARY:Defensive Carbine: AK-47 Focus
DESCRIPTION:Phoenix\, AZ
URL:https://independencetraining.com/event/defensive-carbine-ak-47-focus/
END:VEVENT
BEGIN:VEVENT
DTSTART;VALUE=DATE:20241129
DTEND;VALUE=DATE:20241130
DTSTAMP:20260422T161231
CREATED:20231022T200901Z
LAST-MODIFIED:20240129T185512Z
UID:6328-1732838400-1732924799@independencetraining.com
SUMMARY:Black Friday
DESCRIPTION:Phoenix\, AZ
URL:https://independencetraining.com/event/black-friday/
END:VEVENT
BEGIN:VEVENT
DTSTART;VALUE=DATE:20241126
DTEND;VALUE=DATE:20241127
DTSTAMP:20260422T161231
CREATED:20240613T181015Z
LAST-MODIFIED:20240613T181015Z
UID:7395-1732579200-1732665599@independencetraining.com
SUMMARY:Stop The Bleed
DESCRIPTION:Includes a Stop The Bleed kit
URL:https://independencetraining.com/event/stop-the-bleed-17/
END:VEVENT
BEGIN:VEVENT
DTSTART;VALUE=DATE:20241124
DTEND;VALUE=DATE:20241125
DTSTAMP:20260422T161231
CREATED:20240708T225009Z
LAST-MODIFIED:20240708T225009Z
UID:7478-1732406400-1732492799@independencetraining.com
SUMMARY:Winter Soldier
DESCRIPTION:Flagstaff\, AZ
URL:https://independencetraining.com/event/winter-soldier/
END:VEVENT
BEGIN:VEVENT
DTSTART;VALUE=DATE:20241123
DTEND;VALUE=DATE:20241124
DTSTAMP:20260422T161231
CREATED:20240708T222858Z
LAST-MODIFIED:20240708T222858Z
UID:7462-1732320000-1732406399@independencetraining.com
SUMMARY:Field Carbine
DESCRIPTION:Flagstaff\, AZ
URL:https://independencetraining.com/event/field-carbine-3/
END:VEVENT
BEGIN:VEVENT
DTSTART;VALUE=DATE:20241122
DTEND;VALUE=DATE:20241123
DTSTAMP:20260422T161231
CREATED:20240708T210332Z
LAST-MODIFIED:20240708T210332Z
UID:7453-1732233600-1732319999@independencetraining.com
SUMMARY:EDC Combatives
DESCRIPTION:
URL:https://independencetraining.com/event/edc-combatives-4/
END:VEVENT
BEGIN:VEVENT
DTSTART;VALUE=DATE:20241120
DTEND;VALUE=DATE:20241121
DTSTAMP:20260422T161231
CREATED:20241007T220629Z
LAST-MODIFIED:20241007T220629Z
UID:7909-1732060800-1732147199@independencetraining.com
SUMMARY:Private Firearms Training
DESCRIPTION:
URL:https://independencetraining.com/event/private-firearms-training-36/
END:VEVENT
BEGIN:VEVENT
DTSTART;VALUE=DATE:20241119
DTEND;VALUE=DATE:20241120
DTSTAMP:20260422T161231
CREATED:20241007T220434Z
LAST-MODIFIED:20241007T220434Z
UID:7904-1731974400-1732060799@independencetraining.com
SUMMARY:Corporate Medical Training
DESCRIPTION:
URL:https://independencetraining.com/event/corporate-medical-training-75/
END:VEVENT
BEGIN:VEVENT
DTSTART;TZID=America/Denver:20241117T080000
DTEND;TZID=America/Denver:20241117T170000
DTSTAMP:20260422T161231
CREATED:20231022T200119Z
LAST-MODIFIED:20231022T200119Z
UID:6322-1731830400-1731862800@independencetraining.com
SUMMARY:Advanced Handgun
DESCRIPTION:Phoenix\, AZ
URL:https://independencetraining.com/event/advanced-handgun-3/
END:VEVENT
BEGIN:VEVENT
DTSTART;TZID=America/Denver:20241116T080000
DTEND;TZID=America/Denver:20241116T170000
DTSTAMP:20260422T161231
CREATED:20231022T194257Z
LAST-MODIFIED:20231022T194257Z
UID:6306-1731744000-1731776400@independencetraining.com
SUMMARY:Defensive Handgun with optional Low Light / No Light
DESCRIPTION:Phoenix\, AZ
URL:https://independencetraining.com/event/defensive-handgun-with-optional-low-light-no-light/
END:VEVENT
END:VCALENDAR