BEGIN:VCALENDAR
VERSION:2.0
PRODID:-//Independence Training - ECPv6.15.17//NONSGML v1.0//EN
CALSCALE:GREGORIAN
METHOD:PUBLISH
X-WR-CALNAME:Independence Training
X-ORIGINAL-URL:https://independencetraining.com
X-WR-CALDESC:Events for Independence Training
REFRESH-INTERVAL;VALUE=DURATION:PT1H
X-Robots-Tag:noindex
X-PUBLISHED-TTL:PT1H
BEGIN:VTIMEZONE
TZID:America/Denver
BEGIN:DAYLIGHT
TZOFFSETFROM:-0700
TZOFFSETTO:-0600
TZNAME:MDT
DTSTART:20240310T090000
END:DAYLIGHT
BEGIN:STANDARD
TZOFFSETFROM:-0600
TZOFFSETTO:-0700
TZNAME:MST
DTSTART:20241103T080000
END:STANDARD
BEGIN:DAYLIGHT
TZOFFSETFROM:-0700
TZOFFSETTO:-0600
TZNAME:MDT
DTSTART:20250309T090000
END:DAYLIGHT
BEGIN:STANDARD
TZOFFSETFROM:-0600
TZOFFSETTO:-0700
TZNAME:MST
DTSTART:20251102T080000
END:STANDARD
BEGIN:DAYLIGHT
TZOFFSETFROM:-0700
TZOFFSETTO:-0600
TZNAME:MDT
DTSTART:20260308T090000
END:DAYLIGHT
BEGIN:STANDARD
TZOFFSETFROM:-0600
TZOFFSETTO:-0700
TZNAME:MST
DTSTART:20261101T080000
END:STANDARD
END:VTIMEZONE
BEGIN:VEVENT
DTSTART;VALUE=DATE:20251028
DTEND;VALUE=DATE:20251029
DTSTAMP:20260422T161057
CREATED:20241119T223722Z
LAST-MODIFIED:20241119T223722Z
UID:8059-1761609600-1761695999@independencetraining.com
SUMMARY:Stop The Bleed
DESCRIPTION:
URL:https://independencetraining.com/event/stop-the-bleed-38/
END:VEVENT
BEGIN:VEVENT
DTSTART;VALUE=DATE:20251028
DTEND;VALUE=DATE:20251029
DTSTAMP:20260422T161057
CREATED:20250308T224514Z
LAST-MODIFIED:20250308T224514Z
UID:8582-1761609600-1761695999@independencetraining.com
SUMMARY:Ladies Practical Handgun
DESCRIPTION:
URL:https://independencetraining.com/event/ladies-practical-handgun-4/
END:VEVENT
BEGIN:VEVENT
DTSTART;VALUE=DATE:20251028
DTEND;VALUE=DATE:20251029
DTSTAMP:20260422T161057
CREATED:20250922T214751Z
LAST-MODIFIED:20250922T214751Z
UID:9629-1761609600-1761695999@independencetraining.com
SUMMARY:Corporate Medical Training
DESCRIPTION:
URL:https://independencetraining.com/event/corporate-medical-training-191/
END:VEVENT
BEGIN:VEVENT
DTSTART;VALUE=DATE:20251029
DTEND;VALUE=DATE:20251030
DTSTAMP:20260422T161057
CREATED:20250807T174856Z
LAST-MODIFIED:20250807T174856Z
UID:9206-1761696000-1761782399@independencetraining.com
SUMMARY:Corporate Medical Training
DESCRIPTION:
URL:https://independencetraining.com/event/corporate-medical-training-172/
END:VEVENT
BEGIN:VEVENT
DTSTART;VALUE=DATE:20251030
DTEND;VALUE=DATE:20251031
DTSTAMP:20260422T161057
CREATED:20250915T210238Z
LAST-MODIFIED:20250915T210238Z
UID:9427-1761782400-1761868799@independencetraining.com
SUMMARY:Corporate Medical Training
DESCRIPTION:
URL:https://independencetraining.com/event/corporate-medical-training-185/
END:VEVENT
BEGIN:VEVENT
DTSTART;VALUE=DATE:20251103
DTEND;VALUE=DATE:20251107
DTSTAMP:20260422T161057
CREATED:20250807T175455Z
LAST-MODIFIED:20250807T175455Z
UID:9210-1762128000-1762473599@independencetraining.com
SUMMARY:Corporate Medical Training
DESCRIPTION:
URL:https://independencetraining.com/event/corporate-medical-training-174/
END:VEVENT
BEGIN:VEVENT
DTSTART;VALUE=DATE:20251105
DTEND;VALUE=DATE:20251106
DTSTAMP:20260422T161057
CREATED:20250807T175534Z
LAST-MODIFIED:20250807T175534Z
UID:9212-1762300800-1762387199@independencetraining.com
SUMMARY:Corporate Medical Training
DESCRIPTION:
URL:https://independencetraining.com/event/corporate-medical-training-175/
END:VEVENT
BEGIN:VEVENT
DTSTART;VALUE=DATE:20251107
DTEND;VALUE=DATE:20251108
DTSTAMP:20260422T161057
CREATED:20250106T190455Z
LAST-MODIFIED:20250106T190455Z
UID:8350-1762473600-1762559999@independencetraining.com
SUMMARY:EDC Combatives
DESCRIPTION:
URL:https://independencetraining.com/event/edc-combatives-16/
END:VEVENT
BEGIN:VEVENT
DTSTART;VALUE=DATE:20251108
DTEND;VALUE=DATE:20251109
DTSTAMP:20260422T161057
CREATED:20241119T223749Z
LAST-MODIFIED:20241119T223749Z
UID:8061-1762560000-1762646399@independencetraining.com
SUMMARY:Stop The Bleed
DESCRIPTION:
URL:https://independencetraining.com/event/stop-the-bleed-39/
END:VEVENT
BEGIN:VEVENT
DTSTART;VALUE=DATE:20251111
DTEND;VALUE=DATE:20251112
DTSTAMP:20260422T161057
CREATED:20250308T224808Z
LAST-MODIFIED:20250308T224808Z
UID:8590-1762819200-1762905599@independencetraining.com
SUMMARY:Ladies AR-15 101
DESCRIPTION:
URL:https://independencetraining.com/event/ladies-ar-15-101-6/
END:VEVENT
BEGIN:VEVENT
DTSTART;VALUE=DATE:20251112
DTEND;VALUE=DATE:20251113
DTSTAMP:20260422T161057
CREATED:20250915T210506Z
LAST-MODIFIED:20250915T210506Z
UID:9429-1762905600-1762991999@independencetraining.com
SUMMARY:Corporate Medical Training
DESCRIPTION:
URL:https://independencetraining.com/event/corporate-medical-training-186/
END:VEVENT
BEGIN:VEVENT
DTSTART;VALUE=DATE:20251115
DTEND;VALUE=DATE:20251116
DTSTAMP:20260422T161057
CREATED:20241119T225445Z
LAST-MODIFIED:20241119T225445Z
UID:8097-1763164800-1763251199@independencetraining.com
SUMMARY:IFAK Life Saver
DESCRIPTION:
URL:https://independencetraining.com/event/ifak-life-saver-5/
END:VEVENT
BEGIN:VEVENT
DTSTART;VALUE=DATE:20251118
DTEND;VALUE=DATE:20251119
DTSTAMP:20260422T161057
CREATED:20250308T224546Z
LAST-MODIFIED:20250308T224546Z
UID:8584-1763424000-1763510399@independencetraining.com
SUMMARY:Ladies Practical Handgun
DESCRIPTION:
URL:https://independencetraining.com/event/ladies-practical-handgun-5/
END:VEVENT
BEGIN:VEVENT
DTSTART;VALUE=DATE:20251120
DTEND;VALUE=DATE:20251121
DTSTAMP:20260422T161057
CREATED:20250807T175742Z
LAST-MODIFIED:20250807T175742Z
UID:9214-1763596800-1763683199@independencetraining.com
SUMMARY:Corporate Medical Training
DESCRIPTION:
URL:https://independencetraining.com/event/corporate-medical-training-176/
END:VEVENT
BEGIN:VEVENT
DTSTART;VALUE=DATE:20251122
DTEND;VALUE=DATE:20251123
DTSTAMP:20260422T161057
CREATED:20250807T175918Z
LAST-MODIFIED:20250807T175918Z
UID:9216-1763769600-1763855999@independencetraining.com
SUMMARY:Winter Soldier
DESCRIPTION:
URL:https://independencetraining.com/event/winter-soldier-2/
END:VEVENT
BEGIN:VEVENT
DTSTART;VALUE=DATE:20251123
DTEND;VALUE=DATE:20251124
DTSTAMP:20260422T161057
CREATED:20241119T230803Z
LAST-MODIFIED:20250907T010448Z
UID:8125-1763856000-1763942399@independencetraining.com
SUMMARY:Field Carbine
DESCRIPTION:
URL:https://independencetraining.com/event/field-carbine-5/
END:VEVENT
BEGIN:VEVENT
DTSTART;VALUE=DATE:20251125
DTEND;VALUE=DATE:20251126
DTSTAMP:20260422T161057
CREATED:20241119T223820Z
LAST-MODIFIED:20241119T223820Z
UID:8063-1764028800-1764115199@independencetraining.com
SUMMARY:Stop The Bleed
DESCRIPTION:
URL:https://independencetraining.com/event/stop-the-bleed-40/
END:VEVENT
BEGIN:VEVENT
DTSTART;VALUE=DATE:20251201
DTEND;VALUE=DATE:20251202
DTSTAMP:20260422T161057
CREATED:20251120T235359Z
LAST-MODIFIED:20251120T235359Z
UID:9786-1764547200-1764633599@independencetraining.com
SUMMARY:Corporate Medical Training
DESCRIPTION:
URL:https://independencetraining.com/event/corporate-medical-training-192/
END:VEVENT
BEGIN:VEVENT
DTSTART;VALUE=DATE:20251201
DTEND;VALUE=DATE:20251205
DTSTAMP:20260422T161057
CREATED:20250807T180156Z
LAST-MODIFIED:20250807T180156Z
UID:9218-1764547200-1764892799@independencetraining.com
SUMMARY:Corporate Medical Training
DESCRIPTION:
URL:https://independencetraining.com/event/corporate-medical-training-177/
END:VEVENT
BEGIN:VEVENT
DTSTART;VALUE=DATE:20251203
DTEND;VALUE=DATE:20251204
DTSTAMP:20260422T161057
CREATED:20251120T235431Z
LAST-MODIFIED:20251120T235431Z
UID:9788-1764720000-1764806399@independencetraining.com
SUMMARY:Corporate Medical Training
DESCRIPTION:
URL:https://independencetraining.com/event/corporate-medical-training-193/
END:VEVENT
BEGIN:VEVENT
DTSTART;VALUE=DATE:20251204
DTEND;VALUE=DATE:20251205
DTSTAMP:20260422T161057
CREATED:20251120T235504Z
LAST-MODIFIED:20251120T235504Z
UID:9790-1764806400-1764892799@independencetraining.com
SUMMARY:Corporate Medical Training
DESCRIPTION:
URL:https://independencetraining.com/event/corporate-medical-training-194/
END:VEVENT
BEGIN:VEVENT
DTSTART;VALUE=DATE:20251206
DTEND;VALUE=DATE:20251207
DTSTAMP:20260422T161057
CREATED:20241119T224531Z
LAST-MODIFIED:20241119T224531Z
UID:8081-1764979200-1765065599@independencetraining.com
SUMMARY:Basic Handgun / AZ CCW
DESCRIPTION:
URL:https://independencetraining.com/event/basic-handgun-az-ccw-12/
END:VEVENT
BEGIN:VEVENT
DTSTART;VALUE=DATE:20251206
DTEND;VALUE=DATE:20251207
DTSTAMP:20260422T161057
CREATED:20251120T235546Z
LAST-MODIFIED:20251120T235546Z
UID:9792-1764979200-1765065599@independencetraining.com
SUMMARY:Corporate Medical Training
DESCRIPTION:
URL:https://independencetraining.com/event/corporate-medical-training-195/
END:VEVENT
BEGIN:VEVENT
DTSTART;VALUE=DATE:20251207
DTEND;VALUE=DATE:20251208
DTSTAMP:20260422T161057
CREATED:20241119T225851Z
LAST-MODIFIED:20250922T211006Z
UID:8107-1765065600-1765151999@independencetraining.com
SUMMARY:Defensive Handgun with optional Low Light / No Light
DESCRIPTION:
URL:https://independencetraining.com/event/defensive-handgun-13/
END:VEVENT
BEGIN:VEVENT
DTSTART;VALUE=DATE:20251209
DTEND;VALUE=DATE:20251210
DTSTAMP:20260422T161057
CREATED:20251120T235659Z
LAST-MODIFIED:20251120T235659Z
UID:9794-1765238400-1765324799@independencetraining.com
SUMMARY:Corporate Medical Training
DESCRIPTION:
URL:https://independencetraining.com/event/corporate-medical-training-196/
END:VEVENT
BEGIN:VEVENT
DTSTART;VALUE=DATE:20251209
DTEND;VALUE=DATE:20251211
DTSTAMP:20260422T161057
CREATED:20251120T235811Z
LAST-MODIFIED:20251120T235811Z
UID:9798-1765238400-1765411199@independencetraining.com
SUMMARY:Corporate Medical Training
DESCRIPTION:
URL:https://independencetraining.com/event/corporate-medical-training-198/
END:VEVENT
BEGIN:VEVENT
DTSTART;VALUE=DATE:20251210
DTEND;VALUE=DATE:20251211
DTSTAMP:20260422T161057
CREATED:20251120T235738Z
LAST-MODIFIED:20251120T235738Z
UID:9796-1765324800-1765411199@independencetraining.com
SUMMARY:Corporate Medical Training
DESCRIPTION:
URL:https://independencetraining.com/event/corporate-medical-training-197/
END:VEVENT
BEGIN:VEVENT
DTSTART;VALUE=DATE:20251211
DTEND;VALUE=DATE:20251212
DTSTAMP:20260422T161057
CREATED:20250807T180243Z
LAST-MODIFIED:20250807T180243Z
UID:9220-1765411200-1765497599@independencetraining.com
SUMMARY:Corporate Medical Training
DESCRIPTION:
URL:https://independencetraining.com/event/corporate-medical-training-178/
END:VEVENT
BEGIN:VEVENT
DTSTART;VALUE=DATE:20251211
DTEND;VALUE=DATE:20251212
DTSTAMP:20260422T161057
CREATED:20251120T235838Z
LAST-MODIFIED:20251120T235838Z
UID:9800-1765411200-1765497599@independencetraining.com
SUMMARY:Corporate Medical Training
DESCRIPTION:
URL:https://independencetraining.com/event/corporate-medical-training-199/
END:VEVENT
BEGIN:VEVENT
DTSTART;VALUE=DATE:20251213
DTEND;VALUE=DATE:20251214
DTSTAMP:20260422T161057
CREATED:20241119T223847Z
LAST-MODIFIED:20241119T223847Z
UID:8065-1765584000-1765670399@independencetraining.com
SUMMARY:Stop The Bleed
DESCRIPTION:
URL:https://independencetraining.com/event/stop-the-bleed-41/
END:VEVENT
END:VCALENDAR