BEGIN:VCALENDAR
VERSION:2.0
PRODID:-//Independence Training - ECPv6.15.17//NONSGML v1.0//EN
CALSCALE:GREGORIAN
METHOD:PUBLISH
X-WR-CALNAME:Independence Training
X-ORIGINAL-URL:https://independencetraining.com
X-WR-CALDESC:Events for Independence Training
REFRESH-INTERVAL;VALUE=DURATION:PT1H
X-Robots-Tag:noindex
X-PUBLISHED-TTL:PT1H
BEGIN:VTIMEZONE
TZID:America/Denver
BEGIN:DAYLIGHT
TZOFFSETFROM:-0700
TZOFFSETTO:-0600
TZNAME:MDT
DTSTART:20230312T090000
END:DAYLIGHT
BEGIN:STANDARD
TZOFFSETFROM:-0600
TZOFFSETTO:-0700
TZNAME:MST
DTSTART:20231105T080000
END:STANDARD
BEGIN:DAYLIGHT
TZOFFSETFROM:-0700
TZOFFSETTO:-0600
TZNAME:MDT
DTSTART:20240310T090000
END:DAYLIGHT
BEGIN:STANDARD
TZOFFSETFROM:-0600
TZOFFSETTO:-0700
TZNAME:MST
DTSTART:20241103T080000
END:STANDARD
BEGIN:DAYLIGHT
TZOFFSETFROM:-0700
TZOFFSETTO:-0600
TZNAME:MDT
DTSTART:20250309T090000
END:DAYLIGHT
BEGIN:STANDARD
TZOFFSETFROM:-0600
TZOFFSETTO:-0700
TZNAME:MST
DTSTART:20251102T080000
END:STANDARD
END:VTIMEZONE
BEGIN:VEVENT
DTSTART;VALUE=DATE:20240810
DTEND;VALUE=DATE:20240811
DTSTAMP:20260422T195226
CREATED:20230420T184214Z
LAST-MODIFIED:20240129T190554Z
UID:5497-1723248000-1723334399@independencetraining.com
SUMMARY:Stop The Bleed
DESCRIPTION:Mesa\, AZ
URL:https://independencetraining.com/event/stop-the-bleed-7/
END:VEVENT
BEGIN:VEVENT
DTSTART;VALUE=DATE:20240809
DTEND;VALUE=DATE:20240810
DTSTAMP:20260422T195226
CREATED:20240708T210152Z
LAST-MODIFIED:20240708T210152Z
UID:7447-1723161600-1723247999@independencetraining.com
SUMMARY:EDC Combatvies
DESCRIPTION:
URL:https://independencetraining.com/event/edc-combatvies-2/
END:VEVENT
BEGIN:VEVENT
DTSTART;VALUE=DATE:20240808
DTEND;VALUE=DATE:20240810
DTSTAMP:20260422T195226
CREATED:20240515T190044Z
LAST-MODIFIED:20240515T190044Z
UID:7287-1723075200-1723247999@independencetraining.com
SUMMARY:Corporate Medical Training
DESCRIPTION:
URL:https://independencetraining.com/event/corporate-medical-training-21/
END:VEVENT
BEGIN:VEVENT
DTSTART;VALUE=DATE:20240806
DTEND;VALUE=DATE:20240807
DTSTAMP:20260422T195226
CREATED:20240219T204307Z
LAST-MODIFIED:20240219T204307Z
UID:6917-1722902400-1722988799@independencetraining.com
SUMMARY:Corporate Medical Training
DESCRIPTION:
URL:https://independencetraining.com/event/corporate-medical-training-36/
END:VEVENT
BEGIN:VEVENT
DTSTART;VALUE=DATE:20240729
DTEND;VALUE=DATE:20240803
DTSTAMP:20260422T195226
CREATED:20240515T185712Z
LAST-MODIFIED:20240515T185712Z
UID:7285-1722211200-1722643199@independencetraining.com
SUMMARY:Corporate Medical Training
DESCRIPTION:
URL:https://independencetraining.com/event/corporate-medical-training-59/
END:VEVENT
BEGIN:VEVENT
DTSTART;VALUE=DATE:20240728
DTEND;VALUE=DATE:20240729
DTSTAMP:20260422T195226
CREATED:20231022T200349Z
LAST-MODIFIED:20240129T213745Z
UID:6324-1722124800-1722211199@independencetraining.com
SUMMARY:Advanced Carbine
DESCRIPTION:Phoenix\, AZ
URL:https://independencetraining.com/event/advanced-carbine-3/
END:VEVENT
BEGIN:VEVENT
DTSTART;VALUE=DATE:20240727
DTEND;VALUE=DATE:20240728
DTSTAMP:20260422T195226
CREATED:20230403T210428Z
LAST-MODIFIED:20240129T213842Z
UID:4438-1722038400-1722124799@independencetraining.com
SUMMARY:Defensive Carbine
DESCRIPTION:Phoenix\, AZ
URL:https://independencetraining.com/event/defensive-carbine-3/
END:VEVENT
BEGIN:VEVENT
DTSTART;VALUE=DATE:20240726
DTEND;VALUE=DATE:20240727
DTSTAMP:20260422T195226
CREATED:20240708T210051Z
LAST-MODIFIED:20240708T210051Z
UID:7445-1721952000-1722038399@independencetraining.com
SUMMARY:EDC Combatvies
DESCRIPTION:
URL:https://independencetraining.com/event/edc-combatvies/
END:VEVENT
BEGIN:VEVENT
DTSTART;VALUE=DATE:20240725
DTEND;VALUE=DATE:20240726
DTSTAMP:20260422T195226
CREATED:20240515T185628Z
LAST-MODIFIED:20240515T185628Z
UID:7283-1721865600-1721951999@independencetraining.com
SUMMARY:Corporate Medical Training
DESCRIPTION:
URL:https://independencetraining.com/event/corporate-medical-training-58/
END:VEVENT
BEGIN:VEVENT
DTSTART;VALUE=DATE:20240723
DTEND;VALUE=DATE:20240724
DTSTAMP:20260422T195226
CREATED:20240613T180649Z
LAST-MODIFIED:20240613T180649Z
UID:7387-1721692800-1721779199@independencetraining.com
SUMMARY:Stop The Bleed
DESCRIPTION:Includes a Stop The Bleed kit
URL:https://independencetraining.com/event/stop-the-bleed-13/
END:VEVENT
BEGIN:VEVENT
DTSTART;VALUE=DATE:20240720
DTEND;VALUE=DATE:20240721
DTSTAMP:20260422T195226
CREATED:20230403T210425Z
LAST-MODIFIED:20240429T172236Z
UID:4427-1721433600-1721519999@independencetraining.com
SUMMARY:IFAK Life Saver
DESCRIPTION:Tempe\, AZ
URL:https://independencetraining.com/event/ifak-life-saver-8/
END:VEVENT
BEGIN:VEVENT
DTSTART;VALUE=DATE:20240715
DTEND;VALUE=DATE:20240719
DTSTAMP:20260422T195226
CREATED:20240515T185543Z
LAST-MODIFIED:20240515T185543Z
UID:7280-1721001600-1721347199@independencetraining.com
SUMMARY:Corporate Medical Training
DESCRIPTION:
URL:https://independencetraining.com/event/corporate-medical-training-57/
END:VEVENT
BEGIN:VEVENT
DTSTART;VALUE=DATE:20240714
DTEND;VALUE=DATE:20240715
DTSTAMP:20260422T195226
CREATED:20230627T005227Z
LAST-MODIFIED:20240129T213909Z
UID:5932-1720915200-1721001599@independencetraining.com
SUMMARY:Practical Shotgun
DESCRIPTION:Phoenix\, AZ
URL:https://independencetraining.com/event/practical-shotgun-2/
END:VEVENT
BEGIN:VEVENT
DTSTART;VALUE=DATE:20240713
DTEND;VALUE=DATE:20240714
DTSTAMP:20260422T195226
CREATED:20231130T204436Z
LAST-MODIFIED:20231130T204436Z
UID:6522-1720828800-1720915199@independencetraining.com
SUMMARY:TAC HUB: Armed Structural Movement Carbine
DESCRIPTION:Phoenix\, AZ
URL:https://independencetraining.com/event/tac-hub-armed-structural-movement-carbine/
END:VEVENT
BEGIN:VEVENT
DTSTART;VALUE=DATE:20240713
DTEND;VALUE=DATE:20240714
DTSTAMP:20260422T195226
CREATED:20230420T184138Z
LAST-MODIFIED:20240129T213951Z
UID:5495-1720828800-1720915199@independencetraining.com
SUMMARY:Stop The Bleed
DESCRIPTION:Mesa\, AZ
URL:https://independencetraining.com/event/stop-the-bleed-6/
END:VEVENT
BEGIN:VEVENT
DTSTART;VALUE=DATE:20240709
DTEND;VALUE=DATE:20240710
DTSTAMP:20260422T195226
CREATED:20240515T185454Z
LAST-MODIFIED:20240515T185454Z
UID:7278-1720483200-1720569599@independencetraining.com
SUMMARY:Corporate Medical Training
DESCRIPTION:
URL:https://independencetraining.com/event/corporate-medical-training-56/
END:VEVENT
BEGIN:VEVENT
DTSTART;VALUE=DATE:20240708
DTEND;VALUE=DATE:20240713
DTSTAMP:20260422T195226
CREATED:20240515T185408Z
LAST-MODIFIED:20240515T185408Z
UID:7276-1720396800-1720828799@independencetraining.com
SUMMARY:Instructor Development
DESCRIPTION:
URL:https://independencetraining.com/event/instructor-development-12/
END:VEVENT
BEGIN:VEVENT
DTSTART;VALUE=DATE:20240704
DTEND;VALUE=DATE:20240705
DTSTAMP:20260422T195226
CREATED:20230403T210359Z
LAST-MODIFIED:20240213T230700Z
UID:4394-1720051200-1720137599@independencetraining.com
SUMMARY:Independence Day Action Rifle Match (IDARM 2024)
DESCRIPTION:AZ
URL:https://independencetraining.com/event/independence-day-action-rifle-match-idarm-2022/
END:VEVENT
BEGIN:VEVENT
DTSTART;VALUE=DATE:20240630
DTEND;VALUE=DATE:20240701
DTSTAMP:20260422T195226
CREATED:20231022T200022Z
LAST-MODIFIED:20240129T214016Z
UID:6320-1719705600-1719791999@independencetraining.com
SUMMARY:Advanced Handgun
DESCRIPTION:Phoenix\, AZ
URL:https://independencetraining.com/event/advanced-handgun-2/
END:VEVENT
BEGIN:VEVENT
DTSTART;VALUE=DATE:20240629
DTEND;VALUE=DATE:20240630
DTSTAMP:20260422T195226
CREATED:20231022T195142Z
LAST-MODIFIED:20240129T214104Z
UID:6312-1719619200-1719705599@independencetraining.com
SUMMARY:Defensive Handgun
DESCRIPTION:Phoenix\, AZ
URL:https://independencetraining.com/event/defensive-handgun-4/
END:VEVENT
BEGIN:VEVENT
DTSTART;VALUE=DATE:20240628
DTEND;VALUE=DATE:20240629
DTSTAMP:20260422T195226
CREATED:20240515T185236Z
LAST-MODIFIED:20240515T185236Z
UID:7274-1719532800-1719619199@independencetraining.com
SUMMARY:Private Firearms Training
DESCRIPTION:
URL:https://independencetraining.com/event/private-firearms-training-28/
END:VEVENT
BEGIN:VEVENT
DTSTART;VALUE=DATE:20240627
DTEND;VALUE=DATE:20240628
DTSTAMP:20260422T195226
CREATED:20240213T230356Z
LAST-MODIFIED:20240213T230356Z
UID:6891-1719446400-1719532799@independencetraining.com
SUMMARY:Corporate Medical Training
DESCRIPTION:
URL:https://independencetraining.com/event/corporate-medical-training-33/
END:VEVENT
BEGIN:VEVENT
DTSTART;VALUE=DATE:20240626
DTEND;VALUE=DATE:20240627
DTSTAMP:20260422T195226
CREATED:20240515T185137Z
LAST-MODIFIED:20240515T185137Z
UID:7272-1719360000-1719446399@independencetraining.com
SUMMARY:Corporate Medical Training
DESCRIPTION:
URL:https://independencetraining.com/event/corporate-medical-training-55/
END:VEVENT
BEGIN:VEVENT
DTSTART;VALUE=DATE:20240625
DTEND;VALUE=DATE:20240626
DTSTAMP:20260422T195226
CREATED:20240515T185111Z
LAST-MODIFIED:20240515T185111Z
UID:7270-1719273600-1719359999@independencetraining.com
SUMMARY:Corporate Medical Training
DESCRIPTION:
URL:https://independencetraining.com/event/corporate-medical-training-54/
END:VEVENT
BEGIN:VEVENT
DTSTART;VALUE=DATE:20240625
DTEND;VALUE=DATE:20240626
DTSTAMP:20260422T195226
CREATED:20240315T194724Z
LAST-MODIFIED:20240520T212058Z
UID:6988-1719273600-1719359999@independencetraining.com
SUMMARY:Alumni Only - Medical updates and scenarios
DESCRIPTION:– Tempe\, AZ \nIndependence Training Schoolhouse \n6 pm – 9 pm \n– 25.00 \n– limited enrollment 20 alumni allowed. \nOne-hour medical update on recommendations and techniques\, then two hours of scenarios.
URL:https://independencetraining.com/event/alumni-only-mobility-and-strength-standards/
END:VEVENT
BEGIN:VEVENT
DTSTART;VALUE=DATE:20240624
DTEND;VALUE=DATE:20240625
DTSTAMP:20260422T195226
CREATED:20240515T185026Z
LAST-MODIFIED:20240515T185026Z
UID:7268-1719187200-1719273599@independencetraining.com
SUMMARY:Corporate Medical Training
DESCRIPTION:
URL:https://independencetraining.com/event/corporate-medical-training-53/
END:VEVENT
BEGIN:VEVENT
DTSTART;VALUE=DATE:20240622
DTEND;VALUE=DATE:20240623
DTSTAMP:20260422T195226
CREATED:20230403T210459Z
LAST-MODIFIED:20240129T214132Z
UID:4502-1719014400-1719100799@independencetraining.com
SUMMARY:Basic Handgun / AZ CCW
DESCRIPTION:Phoenix\, AZ
URL:https://independencetraining.com/event/basic-handgun-az-ccw-6/
END:VEVENT
BEGIN:VEVENT
DTSTART;VALUE=DATE:20240621
DTEND;VALUE=DATE:20240622
DTSTAMP:20260422T195226
CREATED:20240515T184942Z
LAST-MODIFIED:20240515T184942Z
UID:7266-1718928000-1719014399@independencetraining.com
SUMMARY:Corporate Medical Training
DESCRIPTION:
URL:https://independencetraining.com/event/corporate-medical-training-52/
END:VEVENT
BEGIN:VEVENT
DTSTART;VALUE=DATE:20240619
DTEND;VALUE=DATE:20240621
DTSTAMP:20260422T195226
CREATED:20240515T184907Z
LAST-MODIFIED:20240515T184907Z
UID:7264-1718755200-1718927999@independencetraining.com
SUMMARY:Corporate Medical Training
DESCRIPTION:
URL:https://independencetraining.com/event/corporate-medical-training-51/
END:VEVENT
BEGIN:VEVENT
DTSTART;VALUE=DATE:20240617
DTEND;VALUE=DATE:20240621
DTSTAMP:20260422T195226
CREATED:20240130T031600Z
LAST-MODIFIED:20240130T031600Z
UID:6825-1718582400-1718927999@independencetraining.com
SUMMARY:Corporate Medical Training
DESCRIPTION:
URL:https://independencetraining.com/event/corporate-medical-training-20/
END:VEVENT
END:VCALENDAR