BEGIN:VCALENDAR
VERSION:2.0
PRODID:-//Independence Training - ECPv6.15.17//NONSGML v1.0//EN
CALSCALE:GREGORIAN
METHOD:PUBLISH
X-WR-CALNAME:Independence Training
X-ORIGINAL-URL:https://independencetraining.com
X-WR-CALDESC:Events for Independence Training
REFRESH-INTERVAL;VALUE=DURATION:PT1H
X-Robots-Tag:noindex
X-PUBLISHED-TTL:PT1H
BEGIN:VTIMEZONE
TZID:America/Denver
BEGIN:DAYLIGHT
TZOFFSETFROM:-0700
TZOFFSETTO:-0600
TZNAME:MDT
DTSTART:20250309T090000
END:DAYLIGHT
BEGIN:STANDARD
TZOFFSETFROM:-0600
TZOFFSETTO:-0700
TZNAME:MST
DTSTART:20251102T080000
END:STANDARD
BEGIN:DAYLIGHT
TZOFFSETFROM:-0700
TZOFFSETTO:-0600
TZNAME:MDT
DTSTART:20260308T090000
END:DAYLIGHT
BEGIN:STANDARD
TZOFFSETFROM:-0600
TZOFFSETTO:-0700
TZNAME:MST
DTSTART:20261101T080000
END:STANDARD
BEGIN:DAYLIGHT
TZOFFSETFROM:-0700
TZOFFSETTO:-0600
TZNAME:MDT
DTSTART:20270314T090000
END:DAYLIGHT
BEGIN:STANDARD
TZOFFSETFROM:-0600
TZOFFSETTO:-0700
TZNAME:MST
DTSTART:20271107T080000
END:STANDARD
END:VTIMEZONE
BEGIN:VEVENT
DTSTART;VALUE=DATE:20261219
DTEND;VALUE=DATE:20261220
DTSTAMP:20260421T203959
CREATED:20250917T192452Z
LAST-MODIFIED:20250917T192452Z
UID:9583-1797638400-1797724799@independencetraining.com
SUMMARY:Defensive Handgun: Vehicles
DESCRIPTION:
URL:https://independencetraining.com/event/defensive-handgun-vehicles-2/
END:VEVENT
BEGIN:VEVENT
DTSTART;VALUE=DATE:20261220
DTEND;VALUE=DATE:20261221
DTSTAMP:20260421T203959
CREATED:20250917T192539Z
LAST-MODIFIED:20250917T192539Z
UID:9585-1797724800-1797811199@independencetraining.com
SUMMARY:Advanced Handgun
DESCRIPTION:
URL:https://independencetraining.com/event/advanced-handgun-9/
END:VEVENT
BEGIN:VEVENT
DTSTART;VALUE=DATE:20261222
DTEND;VALUE=DATE:20261223
DTSTAMP:20260421T203959
CREATED:20250917T192154Z
LAST-MODIFIED:20250917T192154Z
UID:9577-1797897600-1797983999@independencetraining.com
SUMMARY:Stop The Bleed
DESCRIPTION:
URL:https://independencetraining.com/event/stop-the-bleed-67/
END:VEVENT
END:VCALENDAR