BEGIN:VCALENDAR
VERSION:2.0
PRODID:-//Independence Training - ECPv6.15.17//NONSGML v1.0//EN
CALSCALE:GREGORIAN
METHOD:PUBLISH
X-WR-CALNAME:Independence Training
X-ORIGINAL-URL:https://independencetraining.com
X-WR-CALDESC:Events for Independence Training
REFRESH-INTERVAL;VALUE=DURATION:PT1H
X-Robots-Tag:noindex
X-PUBLISHED-TTL:PT1H
BEGIN:VTIMEZONE
TZID:America/Denver
BEGIN:DAYLIGHT
TZOFFSETFROM:-0700
TZOFFSETTO:-0600
TZNAME:MDT
DTSTART:20240310T090000
END:DAYLIGHT
BEGIN:STANDARD
TZOFFSETFROM:-0600
TZOFFSETTO:-0700
TZNAME:MST
DTSTART:20241103T080000
END:STANDARD
BEGIN:DAYLIGHT
TZOFFSETFROM:-0700
TZOFFSETTO:-0600
TZNAME:MDT
DTSTART:20250309T090000
END:DAYLIGHT
BEGIN:STANDARD
TZOFFSETFROM:-0600
TZOFFSETTO:-0700
TZNAME:MST
DTSTART:20251102T080000
END:STANDARD
BEGIN:DAYLIGHT
TZOFFSETFROM:-0700
TZOFFSETTO:-0600
TZNAME:MDT
DTSTART:20260308T090000
END:DAYLIGHT
BEGIN:STANDARD
TZOFFSETFROM:-0600
TZOFFSETTO:-0700
TZNAME:MST
DTSTART:20261101T080000
END:STANDARD
END:VTIMEZONE
BEGIN:VEVENT
DTSTART;VALUE=DATE:20250509
DTEND;VALUE=DATE:20250510
DTSTAMP:20260422T232402
CREATED:20250325T230454Z
LAST-MODIFIED:20250325T230454Z
UID:8668-1746748800-1746835199@independencetraining.com
SUMMARY:Private Medical Training
DESCRIPTION:
URL:https://independencetraining.com/event/private-medical-training-27/
END:VEVENT
BEGIN:VEVENT
DTSTART;VALUE=DATE:20250507
DTEND;VALUE=DATE:20250508
DTSTAMP:20260422T232402
CREATED:20250414T194136Z
LAST-MODIFIED:20250414T194136Z
UID:8719-1746576000-1746662399@independencetraining.com
SUMMARY:Corporate Medical Training
DESCRIPTION:
URL:https://independencetraining.com/event/corporate-medical-training-126/
END:VEVENT
BEGIN:VEVENT
DTSTART;VALUE=DATE:20250506
DTEND;VALUE=DATE:20250507
DTSTAMP:20260422T232402
CREATED:20250414T194107Z
LAST-MODIFIED:20250414T194107Z
UID:8717-1746489600-1746575999@independencetraining.com
SUMMARY:Corporate Medical Training
DESCRIPTION:
URL:https://independencetraining.com/event/corporate-medical-training-125/
END:VEVENT
BEGIN:VEVENT
DTSTART;VALUE=DATE:20250505
DTEND;VALUE=DATE:20250509
DTSTAMP:20260422T232402
CREATED:20250325T230252Z
LAST-MODIFIED:20250325T230252Z
UID:8664-1746403200-1746748799@independencetraining.com
SUMMARY:Corporate Medical Training
DESCRIPTION:
URL:https://independencetraining.com/event/corporate-medical-training-119/
END:VEVENT
BEGIN:VEVENT
DTSTART;VALUE=DATE:20250504
DTEND;VALUE=DATE:20250505
DTSTAMP:20260422T232402
CREATED:20241119T231621Z
LAST-MODIFIED:20241119T231621Z
UID:8140-1746316800-1746403199@independencetraining.com
SUMMARY:Intro to Precision Rifle II
DESCRIPTION:
URL:https://independencetraining.com/event/intro-to-precision-rifle-ii/
END:VEVENT
BEGIN:VEVENT
DTSTART;VALUE=DATE:20250503
DTEND;VALUE=DATE:20250504
DTSTAMP:20260422T232402
CREATED:20241119T231357Z
LAST-MODIFIED:20241119T231357Z
UID:8135-1746230400-1746316799@independencetraining.com
SUMMARY:Intro to Precision Rifle I
DESCRIPTION:
URL:https://independencetraining.com/event/intro-to-precision-rifle-i/
END:VEVENT
BEGIN:VEVENT
DTSTART;VALUE=DATE:20250430
DTEND;VALUE=DATE:20250501
DTSTAMP:20260422T232402
CREATED:20250414T193939Z
LAST-MODIFIED:20250414T193939Z
UID:8715-1745971200-1746057599@independencetraining.com
SUMMARY:Corporate Medical Training
DESCRIPTION:
URL:https://independencetraining.com/event/corporate-medical-training-124/
END:VEVENT
BEGIN:VEVENT
DTSTART;VALUE=DATE:20250429
DTEND;VALUE=DATE:20250430
DTSTAMP:20260422T232402
CREATED:20250127T210639Z
LAST-MODIFIED:20250127T210639Z
UID:8464-1745884800-1745971199@independencetraining.com
SUMMARY:Corporate Medical Training
DESCRIPTION:
URL:https://independencetraining.com/event/corporate-medical-training-112/
END:VEVENT
BEGIN:VEVENT
DTSTART;VALUE=DATE:20250428
DTEND;VALUE=DATE:20250429
DTSTAMP:20260422T232402
CREATED:20250325T230019Z
LAST-MODIFIED:20250325T230019Z
UID:8658-1745798400-1745884799@independencetraining.com
SUMMARY:Corporate Medical Training
DESCRIPTION:
URL:https://independencetraining.com/event/corporate-medical-training-117/
END:VEVENT
BEGIN:VEVENT
DTSTART;VALUE=DATE:20250424
DTEND;VALUE=DATE:20250425
DTSTAMP:20260422T232402
CREATED:20250325T225948Z
LAST-MODIFIED:20250325T225948Z
UID:8656-1745452800-1745539199@independencetraining.com
SUMMARY:Corporate Medical Training
DESCRIPTION:
URL:https://independencetraining.com/event/corporate-medical-training-116/
END:VEVENT
BEGIN:VEVENT
DTSTART;VALUE=DATE:20250423
DTEND;VALUE=DATE:20250424
DTSTAMP:20260422T232402
CREATED:20250414T193825Z
LAST-MODIFIED:20250414T193825Z
UID:8713-1745366400-1745452799@independencetraining.com
SUMMARY:Private Firearms Training
DESCRIPTION:
URL:https://independencetraining.com/event/private-firearms-training-42/
END:VEVENT
BEGIN:VEVENT
DTSTART;VALUE=DATE:20250422
DTEND;VALUE=DATE:20250423
DTSTAMP:20260422T232402
CREATED:20241119T222853Z
LAST-MODIFIED:20241119T222853Z
UID:8035-1745280000-1745366399@independencetraining.com
SUMMARY:Stop The Bleed
DESCRIPTION:
URL:https://independencetraining.com/event/stop-the-bleed-26/
END:VEVENT
BEGIN:VEVENT
DTSTART;VALUE=DATE:20250419
DTEND;VALUE=DATE:20250420
DTSTAMP:20260422T232402
CREATED:20241119T230715Z
LAST-MODIFIED:20241119T230715Z
UID:8123-1745020800-1745107199@independencetraining.com
SUMMARY:Field Carbine
DESCRIPTION:
URL:https://independencetraining.com/event/field-carbine-4/
END:VEVENT
BEGIN:VEVENT
DTSTART;VALUE=DATE:20250418
DTEND;VALUE=DATE:20250419
DTSTAMP:20260422T232402
CREATED:20250106T190014Z
LAST-MODIFIED:20250106T190014Z
UID:8336-1744934400-1745020799@independencetraining.com
SUMMARY:EDC Combatives
DESCRIPTION:
URL:https://independencetraining.com/event/edc-combatives-9/
END:VEVENT
BEGIN:VEVENT
DTSTART;VALUE=DATE:20250417
DTEND;VALUE=DATE:20250418
DTSTAMP:20260422T232402
CREATED:20250414T193719Z
LAST-MODIFIED:20250414T193719Z
UID:8711-1744848000-1744934399@independencetraining.com
SUMMARY:Private Firearms Training
DESCRIPTION:
URL:https://independencetraining.com/event/private-firearms-training-41/
END:VEVENT
BEGIN:VEVENT
DTSTART;VALUE=DATE:20250417
DTEND;VALUE=DATE:20250418
DTSTAMP:20260422T232402
CREATED:20250127T210603Z
LAST-MODIFIED:20250127T210603Z
UID:8462-1744848000-1744934399@independencetraining.com
SUMMARY:Corporate Medical Training
DESCRIPTION:
URL:https://independencetraining.com/event/corporate-medical-training-111/
END:VEVENT
BEGIN:VEVENT
DTSTART;VALUE=DATE:20250415
DTEND;VALUE=DATE:20250416
DTSTAMP:20260422T232402
CREATED:20250414T193634Z
LAST-MODIFIED:20250414T193634Z
UID:8709-1744675200-1744761599@independencetraining.com
SUMMARY:Private Firearms Training
DESCRIPTION:
URL:https://independencetraining.com/event/private-firearms-training-40/
END:VEVENT
BEGIN:VEVENT
DTSTART;VALUE=DATE:20250414
DTEND;VALUE=DATE:20250415
DTSTAMP:20260422T232402
CREATED:20250325T225839Z
LAST-MODIFIED:20250325T225839Z
UID:8654-1744588800-1744675199@independencetraining.com
SUMMARY:Corporate Medical Training
DESCRIPTION:
URL:https://independencetraining.com/event/corporate-medical-training-115/
END:VEVENT
BEGIN:VEVENT
DTSTART;VALUE=DATE:20250412
DTEND;VALUE=DATE:20250413
DTSTAMP:20260422T232402
CREATED:20250127T210801Z
LAST-MODIFIED:20250127T210801Z
UID:8466-1744416000-1744502399@independencetraining.com
SUMMARY:***Alumni Only Event***
DESCRIPTION:Rattlesnake aversion training quickly teaches your dog to avoid these venomous reptiles\, including their sounds/smells. Consequently\, it just might save their life! We will directly pay Rattlesnake Ready when we arrive at their facility. New dogs are $200 for the 1st dog and $160 for each additional dog and follow ups are $100 for the first dog and $80 for each additional follow up. \n$1.00 for enrollment to save your spot
URL:https://independencetraining.com/event/alumni-only-event-3/
END:VEVENT
BEGIN:VEVENT
DTSTART;VALUE=DATE:20250412
DTEND;VALUE=DATE:20250413
DTSTAMP:20260422T232402
CREATED:20241119T222805Z
LAST-MODIFIED:20241119T222805Z
UID:8033-1744416000-1744502399@independencetraining.com
SUMMARY:Stop The Bleed
DESCRIPTION:
URL:https://independencetraining.com/event/stop-the-bleed-25/
END:VEVENT
BEGIN:VEVENT
DTSTART;VALUE=DATE:20250410
DTEND;VALUE=DATE:20250411
DTSTAMP:20260422T232402
CREATED:20250127T210501Z
LAST-MODIFIED:20250127T210501Z
UID:8460-1744243200-1744329599@independencetraining.com
SUMMARY:Corporate Medical Training
DESCRIPTION:
URL:https://independencetraining.com/event/corporate-medical-training-110/
END:VEVENT
BEGIN:VEVENT
DTSTART;VALUE=DATE:20250409
DTEND;VALUE=DATE:20250412
DTSTAMP:20260422T232402
CREATED:20250325T225148Z
LAST-MODIFIED:20250325T225148Z
UID:8652-1744156800-1744415999@independencetraining.com
SUMMARY:Corporate Medical Training
DESCRIPTION:
URL:https://independencetraining.com/event/corporate-medical-training-114/
END:VEVENT
BEGIN:VEVENT
DTSTART;VALUE=DATE:20250409
DTEND;VALUE=DATE:20250410
DTSTAMP:20260422T232402
CREATED:20250127T210319Z
LAST-MODIFIED:20250127T210319Z
UID:8458-1744156800-1744243199@independencetraining.com
SUMMARY:Corporate Medical Training
DESCRIPTION:
URL:https://independencetraining.com/event/corporate-medical-training-109/
END:VEVENT
BEGIN:VEVENT
DTSTART;VALUE=DATE:20250408
DTEND;VALUE=DATE:20250409
DTSTAMP:20260422T232402
CREATED:20250127T210245Z
LAST-MODIFIED:20250127T210245Z
UID:8456-1744070400-1744156799@independencetraining.com
SUMMARY:Corporate Medical Training
DESCRIPTION:
URL:https://independencetraining.com/event/corporate-medical-training-108/
END:VEVENT
BEGIN:VEVENT
DTSTART;VALUE=DATE:20250407
DTEND;VALUE=DATE:20250408
DTSTAMP:20260422T232402
CREATED:20250325T224934Z
LAST-MODIFIED:20250325T224934Z
UID:8650-1743984000-1744070399@independencetraining.com
SUMMARY:Private Firearms Training
DESCRIPTION:
URL:https://independencetraining.com/event/private-firearms-training-39/
END:VEVENT
BEGIN:VEVENT
DTSTART;VALUE=DATE:20250406
DTEND;VALUE=DATE:20250407
DTSTAMP:20260422T232402
CREATED:20241119T224225Z
LAST-MODIFIED:20241119T224225Z
UID:8073-1743897600-1743983999@independencetraining.com
SUMMARY:Basic Handgun / AZ CCW
DESCRIPTION:
URL:https://independencetraining.com/event/basic-handgun-az-ccw-7/
END:VEVENT
BEGIN:VEVENT
DTSTART;VALUE=DATE:20250405
DTEND;VALUE=DATE:20250406
DTSTAMP:20260422T232402
CREATED:20241119T231016Z
LAST-MODIFIED:20241119T231016Z
UID:8129-1743811200-1743897599@independencetraining.com
SUMMARY:Intro to Emergency Radio Communications
DESCRIPTION:
URL:https://independencetraining.com/event/intro-to-emergency-radio-communications-5/
END:VEVENT
BEGIN:VEVENT
DTSTART;VALUE=DATE:20250405
DTEND;VALUE=DATE:20250406
DTSTAMP:20260422T232402
CREATED:20241119T230352Z
LAST-MODIFIED:20250325T214110Z
UID:8115-1743811200-1743897599@independencetraining.com
SUMMARY:Carbine: Movement with T4E
DESCRIPTION:
URL:https://independencetraining.com/event/defensive-carbine-movement-with-t4e/
END:VEVENT
BEGIN:VEVENT
DTSTART;VALUE=DATE:20250403
DTEND;VALUE=DATE:20250404
DTSTAMP:20260422T232402
CREATED:20250325T224808Z
LAST-MODIFIED:20250325T224808Z
UID:8648-1743638400-1743724799@independencetraining.com
SUMMARY:Corporate Medical Training
DESCRIPTION:
URL:https://independencetraining.com/event/corporate-medical-training-113/
END:VEVENT
BEGIN:VEVENT
DTSTART;VALUE=DATE:20250401
DTEND;VALUE=DATE:20250402
DTSTAMP:20260422T232402
CREATED:20250127T210200Z
LAST-MODIFIED:20250127T210200Z
UID:8454-1743465600-1743551999@independencetraining.com
SUMMARY:Corporate Medical Training
DESCRIPTION:
URL:https://independencetraining.com/event/corporate-medical-training-107/
END:VEVENT
END:VCALENDAR