BEGIN:VCALENDAR
VERSION:2.0
PRODID:-//Independence Training - ECPv6.15.17//NONSGML v1.0//EN
CALSCALE:GREGORIAN
METHOD:PUBLISH
X-WR-CALNAME:Independence Training
X-ORIGINAL-URL:https://independencetraining.com
X-WR-CALDESC:Events for Independence Training
REFRESH-INTERVAL;VALUE=DURATION:PT1H
X-Robots-Tag:noindex
X-PUBLISHED-TTL:PT1H
BEGIN:VTIMEZONE
TZID:America/Denver
BEGIN:DAYLIGHT
TZOFFSETFROM:-0700
TZOFFSETTO:-0600
TZNAME:MDT
DTSTART:20230312T090000
END:DAYLIGHT
BEGIN:STANDARD
TZOFFSETFROM:-0600
TZOFFSETTO:-0700
TZNAME:MST
DTSTART:20231105T080000
END:STANDARD
BEGIN:DAYLIGHT
TZOFFSETFROM:-0700
TZOFFSETTO:-0600
TZNAME:MDT
DTSTART:20240310T090000
END:DAYLIGHT
BEGIN:STANDARD
TZOFFSETFROM:-0600
TZOFFSETTO:-0700
TZNAME:MST
DTSTART:20241103T080000
END:STANDARD
BEGIN:DAYLIGHT
TZOFFSETFROM:-0700
TZOFFSETTO:-0600
TZNAME:MDT
DTSTART:20250309T090000
END:DAYLIGHT
BEGIN:STANDARD
TZOFFSETFROM:-0600
TZOFFSETTO:-0700
TZNAME:MST
DTSTART:20251102T080000
END:STANDARD
END:VTIMEZONE
BEGIN:VEVENT
DTSTART;VALUE=DATE:20240520
DTEND;VALUE=DATE:20240524
DTSTAMP:20260423T015949
CREATED:20240213T230111Z
LAST-MODIFIED:20240213T230111Z
UID:6883-1716163200-1716508799@independencetraining.com
SUMMARY:Corporate Medical Training
DESCRIPTION:
URL:https://independencetraining.com/event/corporate-medical-training-29/
END:VEVENT
BEGIN:VEVENT
DTSTART;VALUE=DATE:20240519
DTEND;VALUE=DATE:20240520
DTSTAMP:20260423T015949
CREATED:20231022T194020Z
LAST-MODIFIED:20240129T214438Z
UID:6302-1716076800-1716163199@independencetraining.com
SUMMARY:Defensive Handgun
DESCRIPTION:Phoenix\, AZ
URL:https://independencetraining.com/event/defensive-handgun/
END:VEVENT
BEGIN:VEVENT
DTSTART;VALUE=DATE:20240517
DTEND;VALUE=DATE:20240519
DTSTAMP:20260423T015949
CREATED:20230403T210746Z
LAST-MODIFIED:20240129T190702Z
UID:4885-1715904000-1716076799@independencetraining.com
SUMMARY:Close Contact Handgun
DESCRIPTION:Casa Grande\, AZ
URL:https://independencetraining.com/event/close-contact-handgun-2/
END:VEVENT
BEGIN:VEVENT
DTSTART;VALUE=DATE:20240516
DTEND;VALUE=DATE:20240517
DTSTAMP:20260423T015949
CREATED:20240515T183913Z
LAST-MODIFIED:20240515T184019Z
UID:7256-1715817600-1715903999@independencetraining.com
SUMMARY:Private Firearms Training
DESCRIPTION:
URL:https://independencetraining.com/event/private-firearms-training-27/
END:VEVENT
BEGIN:VEVENT
DTSTART;VALUE=DATE:20240514
DTEND;VALUE=DATE:20240515
DTSTAMP:20260423T015949
CREATED:20240401T201734Z
LAST-MODIFIED:20240401T201734Z
UID:7071-1715644800-1715731199@independencetraining.com
SUMMARY:Corporate Medical Training
DESCRIPTION:
URL:https://independencetraining.com/event/corporate-medical-training-46/
END:VEVENT
BEGIN:VEVENT
DTSTART;VALUE=DATE:20240511
DTEND;VALUE=DATE:20240512
DTSTAMP:20260423T015949
CREATED:20230420T183941Z
LAST-MODIFIED:20240129T214516Z
UID:5491-1715385600-1715471999@independencetraining.com
SUMMARY:Stop The Bleed
DESCRIPTION:Mesa\, AZ
URL:https://independencetraining.com/event/stop-the-bleed-4/
END:VEVENT
BEGIN:VEVENT
DTSTART;VALUE=DATE:20240509
DTEND;VALUE=DATE:20240510
DTSTAMP:20260423T015949
CREATED:20240219T203855Z
LAST-MODIFIED:20240219T203855Z
UID:6913-1715212800-1715299199@independencetraining.com
SUMMARY:Corporate Medical Training
DESCRIPTION:
URL:https://independencetraining.com/event/corporate-medical-training-34/
END:VEVENT
BEGIN:VEVENT
DTSTART;VALUE=DATE:20240506
DTEND;VALUE=DATE:20240510
DTSTAMP:20260423T015949
CREATED:20240219T203750Z
LAST-MODIFIED:20240219T203802Z
UID:6910-1714953600-1715299199@independencetraining.com
SUMMARY:Corporate Medical Training
DESCRIPTION:
URL:https://independencetraining.com/event/corproate-medical-training/
END:VEVENT
BEGIN:VEVENT
DTSTART;VALUE=DATE:20240505
DTEND;VALUE=DATE:20240506
DTSTAMP:20260423T015949
CREATED:20230403T210428Z
LAST-MODIFIED:20240129T223438Z
UID:4436-1714867200-1714953599@independencetraining.com
SUMMARY:Advanced Handgun
DESCRIPTION:Phoenix\, AZ
URL:https://independencetraining.com/event/advanced-handgun/
END:VEVENT
BEGIN:VEVENT
DTSTART;VALUE=DATE:20240502
DTEND;VALUE=DATE:20240503
DTSTAMP:20260423T015949
CREATED:20240401T201542Z
LAST-MODIFIED:20240401T201542Z
UID:7069-1714608000-1714694399@independencetraining.com
SUMMARY:Corporate Medical Training
DESCRIPTION:
URL:https://independencetraining.com/event/corporate-medical-training-45/
END:VEVENT
BEGIN:VEVENT
DTSTART;VALUE=DATE:20240427
DTEND;VALUE=DATE:20240428
DTSTAMP:20260423T015949
CREATED:20230403T210425Z
LAST-MODIFIED:20240129T214645Z
UID:4426-1714176000-1714262399@independencetraining.com
SUMMARY:IFAK Life Saver
DESCRIPTION:Tempe\, AZ
URL:https://independencetraining.com/event/ifak-life-saver-7/
END:VEVENT
BEGIN:VEVENT
DTSTART;VALUE=DATE:20240426
DTEND;VALUE=DATE:20240427
DTSTAMP:20260423T015949
CREATED:20240401T200605Z
LAST-MODIFIED:20240401T200605Z
UID:7067-1714089600-1714175999@independencetraining.com
SUMMARY:Private Firearms Training
DESCRIPTION:
URL:https://independencetraining.com/event/private-firearms-training-26/
END:VEVENT
BEGIN:VEVENT
DTSTART;VALUE=DATE:20240425
DTEND;VALUE=DATE:20240426
DTSTAMP:20260423T015949
CREATED:20240401T200531Z
LAST-MODIFIED:20240401T200531Z
UID:7065-1714003200-1714089599@independencetraining.com
SUMMARY:Private Firearms Training
DESCRIPTION:
URL:https://independencetraining.com/event/private-firearms-training-25/
END:VEVENT
BEGIN:VEVENT
DTSTART;VALUE=DATE:20240424
DTEND;VALUE=DATE:20240425
DTSTAMP:20260423T015949
CREATED:20240213T230004Z
LAST-MODIFIED:20240213T230004Z
UID:6881-1713916800-1714003199@independencetraining.com
SUMMARY:Corporate Firearms Training
DESCRIPTION:
URL:https://independencetraining.com/event/corporate-firearms-training-3/
END:VEVENT
BEGIN:VEVENT
DTSTART;VALUE=DATE:20240423
DTEND;VALUE=DATE:20240424
DTSTAMP:20260423T015949
CREATED:20240401T200426Z
LAST-MODIFIED:20240401T200456Z
UID:7063-1713830400-1713916799@independencetraining.com
SUMMARY:Private Firearms Training
DESCRIPTION:
URL:https://independencetraining.com/event/private-firearms-training-24/
END:VEVENT
BEGIN:VEVENT
DTSTART;VALUE=DATE:20240422
DTEND;VALUE=DATE:20240423
DTSTAMP:20260423T015949
CREATED:20240401T200338Z
LAST-MODIFIED:20240401T200338Z
UID:7061-1713744000-1713830399@independencetraining.com
SUMMARY:Corporate Medical Training
DESCRIPTION:
URL:https://independencetraining.com/event/corporate-medical-training-44/
END:VEVENT
BEGIN:VEVENT
DTSTART;VALUE=DATE:20240421
DTEND;VALUE=DATE:20240422
DTSTAMP:20260423T015949
CREATED:20231022T194936Z
LAST-MODIFIED:20240129T223535Z
UID:6310-1713657600-1713743999@independencetraining.com
SUMMARY:Defensive Handgun - Vehicle
DESCRIPTION:Casa Grande\, AZ
URL:https://independencetraining.com/event/defensive-handgun-vehicle/
END:VEVENT
BEGIN:VEVENT
DTSTART;VALUE=DATE:20240419
DTEND;VALUE=DATE:20240420
DTSTAMP:20260423T015949
CREATED:20240401T200222Z
LAST-MODIFIED:20240401T200222Z
UID:7059-1713484800-1713571199@independencetraining.com
SUMMARY:Private Firearms Training
DESCRIPTION:
URL:https://independencetraining.com/event/private-firearms-training-23/
END:VEVENT
BEGIN:VEVENT
DTSTART;VALUE=DATE:20240418
DTEND;VALUE=DATE:20240419
DTSTAMP:20260423T015949
CREATED:20240401T200125Z
LAST-MODIFIED:20240401T200125Z
UID:7057-1713398400-1713484799@independencetraining.com
SUMMARY:Private Firearms Training
DESCRIPTION:
URL:https://independencetraining.com/event/private-firearms-training-22/
END:VEVENT
BEGIN:VEVENT
DTSTART;VALUE=DATE:20240417
DTEND;VALUE=DATE:20240418
DTSTAMP:20260423T015949
CREATED:20240401T200044Z
LAST-MODIFIED:20240401T200044Z
UID:7055-1713312000-1713398399@independencetraining.com
SUMMARY:Corporate Medical Training
DESCRIPTION:
URL:https://independencetraining.com/event/corporate-medical-training-43/
END:VEVENT
BEGIN:VEVENT
DTSTART;VALUE=DATE:20240416
DTEND;VALUE=DATE:20240417
DTSTAMP:20260423T015949
CREATED:20240401T195957Z
LAST-MODIFIED:20240401T195957Z
UID:7053-1713225600-1713311999@independencetraining.com
SUMMARY:Corporate Medical Training
DESCRIPTION:
URL:https://independencetraining.com/event/corporate-medical-training-42/
END:VEVENT
BEGIN:VEVENT
DTSTART;VALUE=DATE:20240414
DTEND;VALUE=DATE:20240415
DTSTAMP:20260423T015949
CREATED:20230403T210458Z
LAST-MODIFIED:20240129T223626Z
UID:4501-1713052800-1713139199@independencetraining.com
SUMMARY:Basic Handgun / AZ CCW
DESCRIPTION:Phoenix\, AZ
URL:https://independencetraining.com/event/basic-handgun-az-ccw-5/
END:VEVENT
BEGIN:VEVENT
DTSTART;VALUE=DATE:20240413
DTEND;VALUE=DATE:20240414
DTSTAMP:20260423T015949
CREATED:20230526T222358Z
LAST-MODIFIED:20240129T223954Z
UID:5763-1712966400-1713052799@independencetraining.com
SUMMARY:Invasive Trauma Interventions
DESCRIPTION:Tempe\, AZ
URL:https://independencetraining.com/event/invasive-trauma-interventions/
END:VEVENT
BEGIN:VEVENT
DTSTART;VALUE=DATE:20240413
DTEND;VALUE=DATE:20240414
DTSTAMP:20260423T015949
CREATED:20230420T183837Z
LAST-MODIFIED:20240129T223744Z
UID:5489-1712966400-1713052799@independencetraining.com
SUMMARY:Stop The Bleed
DESCRIPTION:Mesa\, AZ
URL:https://independencetraining.com/event/stop-the-bleed-3/
END:VEVENT
BEGIN:VEVENT
DTSTART;VALUE=DATE:20240412
DTEND;VALUE=DATE:20240413
DTSTAMP:20260423T015949
CREATED:20240401T195904Z
LAST-MODIFIED:20240401T195904Z
UID:7051-1712880000-1712966399@independencetraining.com
SUMMARY:Private Firearms Training
DESCRIPTION:
URL:https://independencetraining.com/event/private-firearms-training-21/
END:VEVENT
BEGIN:VEVENT
DTSTART;VALUE=DATE:20240411
DTEND;VALUE=DATE:20240412
DTSTAMP:20260423T015949
CREATED:20240401T195825Z
LAST-MODIFIED:20240401T195825Z
UID:7049-1712793600-1712879999@independencetraining.com
SUMMARY:Private Firearms Training
DESCRIPTION:
URL:https://independencetraining.com/event/private-firearms-training-20/
END:VEVENT
BEGIN:VEVENT
DTSTART;VALUE=DATE:20240411
DTEND;VALUE=DATE:20240412
DTSTAMP:20260423T015949
CREATED:20240213T225858Z
LAST-MODIFIED:20240213T225858Z
UID:6879-1712793600-1712879999@independencetraining.com
SUMMARY:Corporate Medical Training
DESCRIPTION:
URL:https://independencetraining.com/event/corporate-medical-training-28/
END:VEVENT
BEGIN:VEVENT
DTSTART;VALUE=DATE:20240410
DTEND;VALUE=DATE:20240411
DTSTAMP:20260423T015949
CREATED:20240213T225807Z
LAST-MODIFIED:20240213T225807Z
UID:6877-1712707200-1712793599@independencetraining.com
SUMMARY:Corporate Medical Medical Training
DESCRIPTION:
URL:https://independencetraining.com/event/corporate-medical-medical-training/
END:VEVENT
BEGIN:VEVENT
DTSTART;VALUE=DATE:20240409
DTEND;VALUE=DATE:20240410
DTSTAMP:20260423T015949
CREATED:20240213T225729Z
LAST-MODIFIED:20240213T225729Z
UID:6875-1712620800-1712707199@independencetraining.com
SUMMARY:Corporate Medical Training
DESCRIPTION:
URL:https://independencetraining.com/event/corporate-medical-training-27/
END:VEVENT
BEGIN:VEVENT
DTSTART;VALUE=DATE:20240408
DTEND;VALUE=DATE:20240409
DTSTAMP:20260423T015949
CREATED:20240401T195728Z
LAST-MODIFIED:20240401T195728Z
UID:7047-1712534400-1712620799@independencetraining.com
SUMMARY:Corporate Medical Training
DESCRIPTION:
URL:https://independencetraining.com/event/corporate-medical-training-41/
END:VEVENT
END:VCALENDAR