BEGIN:VCALENDAR
VERSION:2.0
PRODID:-//Independence Training - ECPv6.15.17//NONSGML v1.0//EN
CALSCALE:GREGORIAN
METHOD:PUBLISH
X-WR-CALNAME:Independence Training
X-ORIGINAL-URL:https://independencetraining.com
X-WR-CALDESC:Events for Independence Training
REFRESH-INTERVAL;VALUE=DURATION:PT1H
X-Robots-Tag:noindex
X-PUBLISHED-TTL:PT1H
BEGIN:VTIMEZONE
TZID:America/Denver
BEGIN:DAYLIGHT
TZOFFSETFROM:-0700
TZOFFSETTO:-0600
TZNAME:MDT
DTSTART:20250309T090000
END:DAYLIGHT
BEGIN:STANDARD
TZOFFSETFROM:-0600
TZOFFSETTO:-0700
TZNAME:MST
DTSTART:20251102T080000
END:STANDARD
BEGIN:DAYLIGHT
TZOFFSETFROM:-0700
TZOFFSETTO:-0600
TZNAME:MDT
DTSTART:20260308T090000
END:DAYLIGHT
BEGIN:STANDARD
TZOFFSETFROM:-0600
TZOFFSETTO:-0700
TZNAME:MST
DTSTART:20261101T080000
END:STANDARD
BEGIN:DAYLIGHT
TZOFFSETFROM:-0700
TZOFFSETTO:-0600
TZNAME:MDT
DTSTART:20270314T090000
END:DAYLIGHT
BEGIN:STANDARD
TZOFFSETFROM:-0600
TZOFFSETTO:-0700
TZNAME:MST
DTSTART:20271107T080000
END:STANDARD
END:VTIMEZONE
BEGIN:VEVENT
DTSTART;VALUE=DATE:20260331
DTEND;VALUE=DATE:20260401
DTSTAMP:20260421T150949
CREATED:20260209T201304Z
LAST-MODIFIED:20260209T201304Z
UID:10152-1774915200-1775001599@independencetraining.com
SUMMARY:Private Firearms Training
DESCRIPTION:
URL:https://independencetraining.com/event/private-firearms-training-83/
END:VEVENT
BEGIN:VEVENT
DTSTART;VALUE=DATE:20260331
DTEND;VALUE=DATE:20260401
DTSTAMP:20260421T150949
CREATED:20260209T201219Z
LAST-MODIFIED:20260209T201219Z
UID:10150-1774915200-1775001599@independencetraining.com
SUMMARY:Corporate Medical Training
DESCRIPTION:
URL:https://independencetraining.com/event/corporate-medical-training-230/
END:VEVENT
BEGIN:VEVENT
DTSTART;VALUE=DATE:20260324
DTEND;VALUE=DATE:20260327
DTSTAMP:20260421T150949
CREATED:20260128T234301Z
LAST-MODIFIED:20260128T234301Z
UID:10046-1774310400-1774569599@independencetraining.com
SUMMARY:Corporate Medical Training
DESCRIPTION:
URL:https://independencetraining.com/event/corporate-medical-training-224/
END:VEVENT
BEGIN:VEVENT
DTSTART;VALUE=DATE:20260324
DTEND;VALUE=DATE:20260325
DTSTAMP:20260421T150949
CREATED:20250915T213922Z
LAST-MODIFIED:20250915T213922Z
UID:9470-1774310400-1774396799@independencetraining.com
SUMMARY:Stop The Bleed
DESCRIPTION:
URL:https://independencetraining.com/event/stop-the-bleed-49/
END:VEVENT
BEGIN:VEVENT
DTSTART;VALUE=DATE:20260323
DTEND;VALUE=DATE:20260324
DTSTAMP:20260421T150949
CREATED:20260209T201136Z
LAST-MODIFIED:20260209T201136Z
UID:10148-1774224000-1774310399@independencetraining.com
SUMMARY:Corporate Medical Training
DESCRIPTION:
URL:https://independencetraining.com/event/corporate-medical-training-229/
END:VEVENT
BEGIN:VEVENT
DTSTART;VALUE=DATE:20260321
DTEND;VALUE=DATE:20260322
DTSTAMP:20260421T150949
CREATED:20250915T213714Z
LAST-MODIFIED:20250915T213714Z
UID:9466-1774051200-1774137599@independencetraining.com
SUMMARY:Defensive Carbine
DESCRIPTION:
URL:https://independencetraining.com/event/defensive-carbine-12/
END:VEVENT
BEGIN:VEVENT
DTSTART;VALUE=DATE:20260318
DTEND;VALUE=DATE:20260319
DTSTAMP:20260421T150949
CREATED:20260105T185305Z
LAST-MODIFIED:20260105T185305Z
UID:9912-1773792000-1773878399@independencetraining.com
SUMMARY:Corporate Medical Training
DESCRIPTION:
URL:https://independencetraining.com/event/corporate-medical-training-221/
END:VEVENT
BEGIN:VEVENT
DTSTART;VALUE=DATE:20260317
DTEND;VALUE=DATE:20260318
DTSTAMP:20260421T150949
CREATED:20260204T164749Z
LAST-MODIFIED:20260204T164749Z
UID:10114-1773705600-1773791999@independencetraining.com
SUMMARY:Cyber Security Awareness with Vu
DESCRIPTION:
URL:https://independencetraining.com/event/cyber-security-awareness-with-vu/
END:VEVENT
BEGIN:VEVENT
DTSTART;VALUE=DATE:20260317
DTEND;VALUE=DATE:20260318
DTSTAMP:20260421T150949
CREATED:20260128T234205Z
LAST-MODIFIED:20260128T234205Z
UID:10044-1773705600-1773791999@independencetraining.com
SUMMARY:Cyber Security Course
DESCRIPTION:
URL:https://independencetraining.com/event/cyber-security-course/
END:VEVENT
BEGIN:VEVENT
DTSTART;VALUE=DATE:20260314
DTEND;VALUE=DATE:20260315
DTSTAMP:20260421T150949
CREATED:20250915T213829Z
LAST-MODIFIED:20250915T213829Z
UID:9468-1773446400-1773532799@independencetraining.com
SUMMARY:Stop The Bleed
DESCRIPTION:
URL:https://independencetraining.com/event/stop-the-bleed-48/
END:VEVENT
BEGIN:VEVENT
DTSTART;VALUE=DATE:20260312
DTEND;VALUE=DATE:20260313
DTSTAMP:20260421T150949
CREATED:20260105T185237Z
LAST-MODIFIED:20260105T185237Z
UID:9910-1773273600-1773359999@independencetraining.com
SUMMARY:Corporate Medical Training
DESCRIPTION:
URL:https://independencetraining.com/event/corporate-medical-training-220/
END:VEVENT
BEGIN:VEVENT
DTSTART;VALUE=DATE:20260310
DTEND;VALUE=DATE:20260311
DTSTAMP:20260421T150949
CREATED:20260105T185207Z
LAST-MODIFIED:20260105T185207Z
UID:9908-1773100800-1773187199@independencetraining.com
SUMMARY:Corporate Medical Training
DESCRIPTION:
URL:https://independencetraining.com/event/corporate-medical-training-219/
END:VEVENT
BEGIN:VEVENT
DTSTART;VALUE=DATE:20260309
DTEND;VALUE=DATE:20260313
DTSTAMP:20260421T150949
CREATED:20260105T185138Z
LAST-MODIFIED:20260105T185138Z
UID:9906-1773014400-1773359999@independencetraining.com
SUMMARY:Corporate Medical Training
DESCRIPTION:
URL:https://independencetraining.com/event/corporate-medical-training-218/
END:VEVENT
BEGIN:VEVENT
DTSTART;VALUE=DATE:20260308
DTEND;VALUE=DATE:20260309
DTSTAMP:20260421T150949
CREATED:20260202T182349Z
LAST-MODIFIED:20260202T182349Z
UID:10102-1772928000-1773014399@independencetraining.com
SUMMARY:Navigation Basics
DESCRIPTION:
URL:https://independencetraining.com/event/navigation-basics-2/
END:VEVENT
BEGIN:VEVENT
DTSTART;VALUE=DATE:20260308
DTEND;VALUE=DATE:20260309
DTSTAMP:20260421T150949
CREATED:20250915T213620Z
LAST-MODIFIED:20250915T213620Z
UID:9464-1772928000-1773014399@independencetraining.com
SUMMARY:Defensive Handgun
DESCRIPTION:
URL:https://independencetraining.com/event/defensive-handgun-14/
END:VEVENT
BEGIN:VEVENT
DTSTART;VALUE=DATE:20260307
DTEND;VALUE=DATE:20260308
DTSTAMP:20260421T150949
CREATED:20250915T213400Z
LAST-MODIFIED:20250915T213400Z
UID:9462-1772841600-1772927999@independencetraining.com
SUMMARY:IFAK Life Saver
DESCRIPTION:
URL:https://independencetraining.com/event/ifak-life-saver-13/
END:VEVENT
BEGIN:VEVENT
DTSTART;VALUE=DATE:20260306
DTEND;VALUE=DATE:20260307
DTSTAMP:20260421T150949
CREATED:20260209T200955Z
LAST-MODIFIED:20260209T200955Z
UID:10146-1772755200-1772841599@independencetraining.com
SUMMARY:Private Firearms Training
DESCRIPTION:
URL:https://independencetraining.com/event/private-firearms-training-82/
END:VEVENT
BEGIN:VEVENT
DTSTART;VALUE=DATE:20260306
DTEND;VALUE=DATE:20260307
DTSTAMP:20260421T150949
CREATED:20260105T191252Z
LAST-MODIFIED:20260105T191252Z
UID:9931-1772755200-1772841599@independencetraining.com
SUMMARY:EDC Combatives
DESCRIPTION:
URL:https://independencetraining.com/event/edc-combatives-20/
END:VEVENT
BEGIN:VEVENT
DTSTART;VALUE=DATE:20260305
DTEND;VALUE=DATE:20260306
DTSTAMP:20260421T150949
CREATED:20260209T200924Z
LAST-MODIFIED:20260209T200924Z
UID:10144-1772668800-1772755199@independencetraining.com
SUMMARY:Private Firearms Training
DESCRIPTION:
URL:https://independencetraining.com/event/private-firearms-training-81/
END:VEVENT
BEGIN:VEVENT
DTSTART;VALUE=DATE:20260304
DTEND;VALUE=DATE:20260305
DTSTAMP:20260421T150949
CREATED:20260128T234105Z
LAST-MODIFIED:20260128T234105Z
UID:10042-1772582400-1772668799@independencetraining.com
SUMMARY:Corporate Medical Training
DESCRIPTION:
URL:https://independencetraining.com/event/corporate-medical-training-223/
END:VEVENT
BEGIN:VEVENT
DTSTART;VALUE=DATE:20260303
DTEND;VALUE=DATE:20260304
DTSTAMP:20260421T150949
CREATED:20260105T185048Z
LAST-MODIFIED:20260105T185048Z
UID:9904-1772496000-1772582399@independencetraining.com
SUMMARY:Corporate Medical Training
DESCRIPTION:
URL:https://independencetraining.com/event/corporate-medical-training-217/
END:VEVENT
BEGIN:VEVENT
DTSTART;VALUE=DATE:20260226
DTEND;VALUE=DATE:20260227
DTSTAMP:20260421T150949
CREATED:20260209T200816Z
LAST-MODIFIED:20260209T200816Z
UID:10142-1772064000-1772150399@independencetraining.com
SUMMARY:Private Firearms Training
DESCRIPTION:
URL:https://independencetraining.com/event/private-firearms-training-80/
END:VEVENT
BEGIN:VEVENT
DTSTART;VALUE=DATE:20260225
DTEND;VALUE=DATE:20260226
DTSTAMP:20260421T150949
CREATED:20260128T233453Z
LAST-MODIFIED:20260128T233453Z
UID:10038-1771977600-1772063999@independencetraining.com
SUMMARY:Private Firearms Training
DESCRIPTION:
URL:https://independencetraining.com/event/private-firearms-training-78/
END:VEVENT
BEGIN:VEVENT
DTSTART;VALUE=DATE:20260224
DTEND;VALUE=DATE:20260225
DTSTAMP:20260421T150949
CREATED:20260105T184932Z
LAST-MODIFIED:20260105T184932Z
UID:9902-1771891200-1771977599@independencetraining.com
SUMMARY:Corporate Medical Training
DESCRIPTION:
URL:https://independencetraining.com/event/corporate-medical-training-216/
END:VEVENT
BEGIN:VEVENT
DTSTART;VALUE=DATE:20260224
DTEND;VALUE=DATE:20260225
DTSTAMP:20260421T150949
CREATED:20250915T212528Z
LAST-MODIFIED:20250915T212528Z
UID:9454-1771891200-1771977599@independencetraining.com
SUMMARY:Stop The Bleed
DESCRIPTION:
URL:https://independencetraining.com/event/stop-the-bleed-47/
END:VEVENT
BEGIN:VEVENT
DTSTART;VALUE=DATE:20260222
DTEND;VALUE=DATE:20260223
DTSTAMP:20260421T150949
CREATED:20260209T194022Z
LAST-MODIFIED:20260209T194022Z
UID:10137-1771718400-1771804799@independencetraining.com
SUMMARY:Practical Shotgun
DESCRIPTION:
URL:https://independencetraining.com/event/practical-shotgun-4/
END:VEVENT
BEGIN:VEVENT
DTSTART;VALUE=DATE:20260222
DTEND;VALUE=DATE:20260223
DTSTAMP:20260421T150949
CREATED:20260204T161619Z
LAST-MODIFIED:20260204T161619Z
UID:10109-1771718400-1771804799@independencetraining.com
SUMMARY:Tactical Swap Meet / Hangout
DESCRIPTION:
URL:https://independencetraining.com/event/tactical-swap-meet-hangout/
END:VEVENT
BEGIN:VEVENT
DTSTART;VALUE=DATE:20260221
DTEND;VALUE=DATE:20260222
DTSTAMP:20260421T150949
CREATED:20260202T182318Z
LAST-MODIFIED:20260202T182318Z
UID:10100-1771632000-1771718399@independencetraining.com
SUMMARY:Navigation Basics
DESCRIPTION:
URL:https://independencetraining.com/event/navigation-basics/
END:VEVENT
BEGIN:VEVENT
DTSTART;VALUE=DATE:20260220
DTEND;VALUE=DATE:20260221
DTSTAMP:20260421T150949
CREATED:20260128T233409Z
LAST-MODIFIED:20260128T233409Z
UID:10036-1771545600-1771631999@independencetraining.com
SUMMARY:Corporate Medical Training
DESCRIPTION:
URL:https://independencetraining.com/event/corporate-medical-training-222/
END:VEVENT
BEGIN:VEVENT
DTSTART;VALUE=DATE:20260219
DTEND;VALUE=DATE:20260220
DTSTAMP:20260421T150949
CREATED:20260105T184905Z
LAST-MODIFIED:20260105T184905Z
UID:9900-1771459200-1771545599@independencetraining.com
SUMMARY:Corporate Medical Training
DESCRIPTION:
URL:https://independencetraining.com/event/corporate-medical-training-215/
END:VEVENT
END:VCALENDAR