BEGIN:VCALENDAR
VERSION:2.0
PRODID:-//Independence Training - ECPv6.15.17//NONSGML v1.0//EN
CALSCALE:GREGORIAN
METHOD:PUBLISH
X-WR-CALNAME:Independence Training
X-ORIGINAL-URL:https://independencetraining.com
X-WR-CALDESC:Events for Independence Training
REFRESH-INTERVAL;VALUE=DURATION:PT1H
X-Robots-Tag:noindex
X-PUBLISHED-TTL:PT1H
BEGIN:VTIMEZONE
TZID:America/Denver
BEGIN:DAYLIGHT
TZOFFSETFROM:-0700
TZOFFSETTO:-0600
TZNAME:MDT
DTSTART:20220313T090000
END:DAYLIGHT
BEGIN:STANDARD
TZOFFSETFROM:-0600
TZOFFSETTO:-0700
TZNAME:MST
DTSTART:20221106T080000
END:STANDARD
BEGIN:DAYLIGHT
TZOFFSETFROM:-0700
TZOFFSETTO:-0600
TZNAME:MDT
DTSTART:20230312T090000
END:DAYLIGHT
BEGIN:STANDARD
TZOFFSETFROM:-0600
TZOFFSETTO:-0700
TZNAME:MST
DTSTART:20231105T080000
END:STANDARD
BEGIN:DAYLIGHT
TZOFFSETFROM:-0700
TZOFFSETTO:-0600
TZNAME:MDT
DTSTART:20240310T090000
END:DAYLIGHT
BEGIN:STANDARD
TZOFFSETFROM:-0600
TZOFFSETTO:-0700
TZNAME:MST
DTSTART:20241103T080000
END:STANDARD
END:VTIMEZONE
BEGIN:VEVENT
DTSTART;VALUE=DATE:20231114
DTEND;VALUE=DATE:20231115
DTSTAMP:20260423T122843
CREATED:20231014T201054Z
LAST-MODIFIED:20231014T201054Z
UID:6198-1699920000-1700006399@independencetraining.com
SUMMARY:Private Training
DESCRIPTION:
URL:https://independencetraining.com/event/private-training-13/
END:VEVENT
BEGIN:VEVENT
DTSTART;VALUE=DATE:20231113
DTEND;VALUE=DATE:20231114
DTSTAMP:20260423T122843
CREATED:20231108T033756Z
LAST-MODIFIED:20231108T033756Z
UID:6400-1699833600-1699919999@independencetraining.com
SUMMARY:Corporate Medical Training
DESCRIPTION:
URL:https://independencetraining.com/event/corporate-medical-training/
END:VEVENT
BEGIN:VEVENT
DTSTART;VALUE=DATE:20231109
DTEND;VALUE=DATE:20231110
DTSTAMP:20260423T122843
CREATED:20231014T200834Z
LAST-MODIFIED:20231014T200834Z
UID:6196-1699488000-1699574399@independencetraining.com
SUMMARY:Corporate Training
DESCRIPTION:
URL:https://independencetraining.com/event/corporate-training-3/
END:VEVENT
BEGIN:VEVENT
DTSTART;VALUE=DATE:20231108
DTEND;VALUE=DATE:20231109
DTSTAMP:20260423T122843
CREATED:20231108T033616Z
LAST-MODIFIED:20231108T033616Z
UID:6398-1699401600-1699487999@independencetraining.com
SUMMARY:Private Firearms Training
DESCRIPTION:
URL:https://independencetraining.com/event/private-firearms-training-11/
END:VEVENT
BEGIN:VEVENT
DTSTART;VALUE=DATE:20231107
DTEND;VALUE=DATE:20231108
DTSTAMP:20260423T122843
CREATED:20231108T034140Z
LAST-MODIFIED:20231108T034140Z
UID:6406-1699315200-1699401599@independencetraining.com
SUMMARY:Corporate Medical Training
DESCRIPTION:
URL:https://independencetraining.com/event/corporate-medical-training-2/
END:VEVENT
BEGIN:VEVENT
DTSTART;VALUE=DATE:20231107
DTEND;VALUE=DATE:20231108
DTSTAMP:20260423T122843
CREATED:20231014T200713Z
LAST-MODIFIED:20231014T200713Z
UID:6194-1699315200-1699401599@independencetraining.com
SUMMARY:Corporate Training
DESCRIPTION:
URL:https://independencetraining.com/event/corporate-training-2/
END:VEVENT
BEGIN:VEVENT
DTSTART;VALUE=DATE:20231107
DTEND;VALUE=DATE:20231108
DTSTAMP:20260423T122843
CREATED:20230829T212026Z
LAST-MODIFIED:20230829T212026Z
UID:6065-1699315200-1699401599@independencetraining.com
SUMMARY:Private Training
DESCRIPTION:
URL:https://independencetraining.com/event/private-training-10/
END:VEVENT
BEGIN:VEVENT
DTSTART;VALUE=DATE:20231106
DTEND;VALUE=DATE:20231107
DTSTAMP:20260423T122843
CREATED:20231014T200611Z
LAST-MODIFIED:20231014T200611Z
UID:6192-1699228800-1699315199@independencetraining.com
SUMMARY:Corporate Training
DESCRIPTION:
URL:https://independencetraining.com/event/corporate-training/
END:VEVENT
BEGIN:VEVENT
DTSTART;TZID=America/Denver:20231105T170000
DTEND;TZID=America/Denver:20231105T220000
DTSTAMP:20260423T122843
CREATED:20230403T210452Z
LAST-MODIFIED:20230420T181502Z
UID:4490-1699203600-1699221600@independencetraining.com
SUMMARY:Night Vision Practical Application and Use
DESCRIPTION:Phoenix\, AZ
URL:https://independencetraining.com/event/night-vision-practical-application-and-use/
END:VEVENT
BEGIN:VEVENT
DTSTART;TZID=America/Denver:20231103T000000
DTEND;TZID=America/Denver:20231105T000000
DTSTAMP:20260423T122843
CREATED:20230403T210400Z
LAST-MODIFIED:20230403T210400Z
UID:4398-1698969600-1699142400@independencetraining.com
SUMMARY:Instructor Development
DESCRIPTION:
URL:https://independencetraining.com/event/instructor-development-8/
END:VEVENT
BEGIN:VEVENT
DTSTART;VALUE=DATE:20231103
DTEND;VALUE=DATE:20231105
DTSTAMP:20260423T122843
CREATED:20230420T211402Z
LAST-MODIFIED:20230420T211402Z
UID:5558-1698969600-1699142399@independencetraining.com
SUMMARY:Instructor Developement
DESCRIPTION:
URL:https://independencetraining.com/event/instructor-developement/
END:VEVENT
BEGIN:VEVENT
DTSTART;VALUE=DATE:20231031
DTEND;VALUE=DATE:20231101
DTSTAMP:20260423T122843
CREATED:20231014T195753Z
LAST-MODIFIED:20231014T195753Z
UID:6190-1698710400-1698796799@independencetraining.com
SUMMARY:Private Training
DESCRIPTION:
URL:https://independencetraining.com/event/private-training-12/
END:VEVENT
BEGIN:VEVENT
DTSTART;TZID=America/Denver:20231027T190000
DTEND;TZID=America/Denver:20231028T180000
DTSTAMP:20260423T122843
CREATED:20230403T210800Z
LAST-MODIFIED:20230419T211343Z
UID:4891-1698433200-1698516000@independencetraining.com
SUMMARY:Close Contact Handgun
DESCRIPTION:Casa Grande\, AZ
URL:https://independencetraining.com/event/close-contact-handgun-3/
END:VEVENT
BEGIN:VEVENT
DTSTART;VALUE=DATE:20231026
DTEND;VALUE=DATE:20231027
DTSTAMP:20260423T122843
CREATED:20231014T195631Z
LAST-MODIFIED:20231014T195631Z
UID:6188-1698278400-1698364799@independencetraining.com
SUMMARY:Private Training
DESCRIPTION:
URL:https://independencetraining.com/event/private-training-11/
END:VEVENT
BEGIN:VEVENT
DTSTART;VALUE=DATE:20231024
DTEND;VALUE=DATE:20231025
DTSTAMP:20260423T122843
CREATED:20230403T210458Z
LAST-MODIFIED:20230420T211320Z
UID:4497-1698105600-1698191999@independencetraining.com
SUMMARY:Private Firearms Training
DESCRIPTION:
URL:https://independencetraining.com/event/private-firearms-training-58/
END:VEVENT
BEGIN:VEVENT
DTSTART;VALUE=DATE:20231024
DTEND;VALUE=DATE:20231025
DTSTAMP:20260423T122843
CREATED:20230829T211703Z
LAST-MODIFIED:20230829T211703Z
UID:6061-1698105600-1698191999@independencetraining.com
SUMMARY:Private Training
DESCRIPTION:
URL:https://independencetraining.com/event/private-training-9/
END:VEVENT
BEGIN:VEVENT
DTSTART;TZID=America/Denver:20231021T080000
DTEND;TZID=America/Denver:20231021T170000
DTSTAMP:20260423T122843
CREATED:20230403T210427Z
LAST-MODIFIED:20230420T181627Z
UID:4435-1697875200-1697907600@independencetraining.com
SUMMARY:Field Carbine - Renegade
DESCRIPTION:Cherry Creek\, AZ
URL:https://independencetraining.com/event/field-carbine-renegade/
END:VEVENT
BEGIN:VEVENT
DTSTART;VALUE=DATE:20231019
DTEND;VALUE=DATE:20231020
DTSTAMP:20260423T122843
CREATED:20230829T211635Z
LAST-MODIFIED:20230829T211635Z
UID:6059-1697673600-1697759999@independencetraining.com
SUMMARY:Private Training
DESCRIPTION:
URL:https://independencetraining.com/event/private-training-8/
END:VEVENT
BEGIN:VEVENT
DTSTART;VALUE=DATE:20231018
DTEND;VALUE=DATE:20231019
DTSTAMP:20260423T122843
CREATED:20230829T211610Z
LAST-MODIFIED:20230829T211610Z
UID:6057-1697587200-1697673599@independencetraining.com
SUMMARY:Private Training
DESCRIPTION:
URL:https://independencetraining.com/event/private-training-7/
END:VEVENT
BEGIN:VEVENT
DTSTART;TZID=America/Denver:20231013T180000
DTEND;TZID=America/Denver:20231013T220000
DTSTAMP:20260423T122843
CREATED:20230403T210445Z
LAST-MODIFIED:20230808T230102Z
UID:4481-1697220000-1697234400@independencetraining.com
SUMMARY:Bravo Combatives
DESCRIPTION:Scottsdale\, AZ
URL:https://independencetraining.com/event/bravo-combatives-22/
END:VEVENT
BEGIN:VEVENT
DTSTART;TZID=America/Denver:20231013T000000
DTEND;TZID=America/Denver:20231016T000000
DTSTAMP:20260423T122843
CREATED:20230403T210741Z
LAST-MODIFIED:20230403T210741Z
UID:4873-1697155200-1697414400@independencetraining.com
SUMMARY:Instructor Development
DESCRIPTION:
URL:https://independencetraining.com/event/instructor-development-14/
END:VEVENT
BEGIN:VEVENT
DTSTART;TZID=America/Denver:20231007T000000
DTEND;TZID=America/Denver:20231008T000000
DTSTAMP:20260423T122843
CREATED:20230403T210400Z
LAST-MODIFIED:20230403T210400Z
UID:4397-1696636800-1696723200@independencetraining.com
SUMMARY:Instructor Development
DESCRIPTION:
URL:https://independencetraining.com/event/instructor-development-7/
END:VEVENT
BEGIN:VEVENT
DTSTART;VALUE=DATE:20230930
DTEND;VALUE=DATE:20231006
DTSTAMP:20260423T122844
CREATED:20230829T205459Z
LAST-MODIFIED:20230829T205459Z
UID:6055-1696032000-1696550399@independencetraining.com
SUMMARY:Instructor Developement
DESCRIPTION:
URL:https://independencetraining.com/event/instructor-developement-2/
END:VEVENT
BEGIN:VEVENT
DTSTART;VALUE=DATE:20230927
DTEND;VALUE=DATE:20230928
DTSTAMP:20260423T122844
CREATED:20230403T210400Z
LAST-MODIFIED:20230627T005426Z
UID:4396-1695772800-1695859199@independencetraining.com
SUMMARY:Private Medical Training
DESCRIPTION:
URL:https://independencetraining.com/event/private-medical-training-25/
END:VEVENT
BEGIN:VEVENT
DTSTART;VALUE=DATE:20230927
DTEND;VALUE=DATE:20230928
DTSTAMP:20260423T122844
CREATED:20230829T192654Z
LAST-MODIFIED:20230829T192654Z
UID:6051-1695772800-1695859199@independencetraining.com
SUMMARY:Private Training
DESCRIPTION:
URL:https://independencetraining.com/event/private-training-6/
END:VEVENT
BEGIN:VEVENT
DTSTART;TZID=America/Denver:20230922T180000
DTEND;TZID=America/Denver:20230922T220000
DTSTAMP:20260423T122844
CREATED:20230403T210445Z
LAST-MODIFIED:20230419T210538Z
UID:4480-1695405600-1695420000@independencetraining.com
SUMMARY:Bravo Combatives
DESCRIPTION:Scottsdale\, AZ
URL:https://independencetraining.com/event/bravo-combatives-21/
END:VEVENT
BEGIN:VEVENT
DTSTART;VALUE=DATE:20230921
DTEND;VALUE=DATE:20230922
DTSTAMP:20260423T122844
CREATED:20230829T192609Z
LAST-MODIFIED:20230829T192609Z
UID:6049-1695254400-1695340799@independencetraining.com
SUMMARY:Private Medical Training
DESCRIPTION:
URL:https://independencetraining.com/event/private-medical-training-16/
END:VEVENT
BEGIN:VEVENT
DTSTART;TZID=America/Denver:20230917T080000
DTEND;TZID=America/Denver:20230917T170000
DTSTAMP:20260423T122844
CREATED:20230403T210439Z
LAST-MODIFIED:20230420T182919Z
UID:4455-1694937600-1694970000@independencetraining.com
SUMMARY:K9 First Aid
DESCRIPTION:Scottsdale\, AZ
URL:https://independencetraining.com/event/k9-first-aid-3/
END:VEVENT
BEGIN:VEVENT
DTSTART;VALUE=DATE:20230917
DTEND;VALUE=DATE:20230921
DTSTAMP:20260423T122844
CREATED:20230829T204716Z
LAST-MODIFIED:20230829T204716Z
UID:6053-1694908800-1695254399@independencetraining.com
SUMMARY:Instructor Development
DESCRIPTION:
URL:https://independencetraining.com/event/instructor-development-3/
END:VEVENT
BEGIN:VEVENT
DTSTART;VALUE=DATE:20230914
DTEND;VALUE=DATE:20230915
DTSTAMP:20260423T122844
CREATED:20230829T192513Z
LAST-MODIFIED:20230829T192513Z
UID:6047-1694649600-1694735999@independencetraining.com
SUMMARY:Private Training
DESCRIPTION:
URL:https://independencetraining.com/event/private-training-5/
END:VEVENT
END:VCALENDAR