BEGIN:VCALENDAR
VERSION:2.0
PRODID:-//Independence Training - ECPv6.15.17//NONSGML v1.0//EN
CALSCALE:GREGORIAN
METHOD:PUBLISH
X-WR-CALNAME:Independence Training
X-ORIGINAL-URL:https://independencetraining.com
X-WR-CALDESC:Events for Independence Training
REFRESH-INTERVAL;VALUE=DURATION:PT1H
X-Robots-Tag:noindex
X-PUBLISHED-TTL:PT1H
BEGIN:VTIMEZONE
TZID:America/Denver
BEGIN:DAYLIGHT
TZOFFSETFROM:-0700
TZOFFSETTO:-0600
TZNAME:MDT
DTSTART:20230312T090000
END:DAYLIGHT
BEGIN:STANDARD
TZOFFSETFROM:-0600
TZOFFSETTO:-0700
TZNAME:MST
DTSTART:20231105T080000
END:STANDARD
BEGIN:DAYLIGHT
TZOFFSETFROM:-0700
TZOFFSETTO:-0600
TZNAME:MDT
DTSTART:20240310T090000
END:DAYLIGHT
BEGIN:STANDARD
TZOFFSETFROM:-0600
TZOFFSETTO:-0700
TZNAME:MST
DTSTART:20241103T080000
END:STANDARD
BEGIN:DAYLIGHT
TZOFFSETFROM:-0700
TZOFFSETTO:-0600
TZNAME:MDT
DTSTART:20250309T090000
END:DAYLIGHT
BEGIN:STANDARD
TZOFFSETFROM:-0600
TZOFFSETTO:-0700
TZNAME:MST
DTSTART:20251102T080000
END:STANDARD
END:VTIMEZONE
BEGIN:VEVENT
DTSTART;VALUE=DATE:20241020
DTEND;VALUE=DATE:20241021
DTSTAMP:20260422T161228
CREATED:20231022T185631Z
LAST-MODIFIED:20240129T185655Z
UID:6294-1729382400-1729468799@independencetraining.com
SUMMARY:Basic Handgun / AZ CCW
DESCRIPTION:
URL:https://independencetraining.com/event/basic-handgun-az-ccw/
END:VEVENT
BEGIN:VEVENT
DTSTART;VALUE=DATE:20241019
DTEND;VALUE=DATE:20241020
DTSTAMP:20260422T161228
CREATED:20230403T210425Z
LAST-MODIFIED:20240129T185731Z
UID:4430-1729296000-1729382399@independencetraining.com
SUMMARY:IFAK Life Saver
DESCRIPTION:Tempe\, AZ
URL:https://independencetraining.com/event/ifak-life-saver-11/
END:VEVENT
BEGIN:VEVENT
DTSTART;VALUE=DATE:20241018
DTEND;VALUE=DATE:20241019
DTSTAMP:20260422T161228
CREATED:20241007T215440Z
LAST-MODIFIED:20241007T215440Z
UID:7890-1729209600-1729295999@independencetraining.com
SUMMARY:Private Firearms Training
DESCRIPTION:
URL:https://independencetraining.com/event/private-firearms-training-33/
END:VEVENT
BEGIN:VEVENT
DTSTART;VALUE=DATE:20241018
DTEND;VALUE=DATE:20241019
DTSTAMP:20260422T161228
CREATED:20240708T210302Z
LAST-MODIFIED:20240708T210302Z
UID:7451-1729209600-1729295999@independencetraining.com
SUMMARY:EDC Combatives
DESCRIPTION:
URL:https://independencetraining.com/event/edc-combatives-3/
END:VEVENT
BEGIN:VEVENT
DTSTART;VALUE=DATE:20241017
DTEND;VALUE=DATE:20241018
DTSTAMP:20260422T161228
CREATED:20241007T215310Z
LAST-MODIFIED:20241007T215310Z
UID:7888-1729123200-1729209599@independencetraining.com
SUMMARY:Private Firearms Training
DESCRIPTION:
URL:https://independencetraining.com/event/private-firearms-training-32/
END:VEVENT
BEGIN:VEVENT
DTSTART;VALUE=DATE:20241016
DTEND;VALUE=DATE:20241017
DTSTAMP:20260422T161228
CREATED:20241007T215200Z
LAST-MODIFIED:20241007T215200Z
UID:7886-1729036800-1729123199@independencetraining.com
SUMMARY:Corporate Medical Training
DESCRIPTION:
URL:https://independencetraining.com/event/corporate-medical-training-70/
END:VEVENT
BEGIN:VEVENT
DTSTART;VALUE=DATE:20241015
DTEND;VALUE=DATE:20241016
DTSTAMP:20260422T161228
CREATED:20241007T215125Z
LAST-MODIFIED:20241007T215125Z
UID:7884-1728950400-1729036799@independencetraining.com
SUMMARY:Corporate Medical Training
DESCRIPTION:
URL:https://independencetraining.com/event/corporate-medical-training-69/
END:VEVENT
BEGIN:VEVENT
DTSTART;VALUE=DATE:20241015
DTEND;VALUE=DATE:20241016
DTSTAMP:20260422T161228
CREATED:20240823T232940Z
LAST-MODIFIED:20240823T233120Z
UID:7704-1728950400-1729036799@independencetraining.com
SUMMARY:Corporate Medical Training
DESCRIPTION:
URL:https://independencetraining.com/event/corporate-medical-training-68/
END:VEVENT
BEGIN:VEVENT
DTSTART;VALUE=DATE:20241012
DTEND;VALUE=DATE:20241013
DTSTAMP:20260422T161228
CREATED:20230420T184321Z
LAST-MODIFIED:20240129T185843Z
UID:5501-1728691200-1728777599@independencetraining.com
SUMMARY:Stop The Bleed
DESCRIPTION:Mesa\, AZ
URL:https://independencetraining.com/event/stop-the-bleed-9/
END:VEVENT
BEGIN:VEVENT
DTSTART;VALUE=DATE:20241008
DTEND;VALUE=DATE:20241011
DTSTAMP:20260422T161228
CREATED:20240823T232048Z
LAST-MODIFIED:20240823T232048Z
UID:7698-1728345600-1728604799@independencetraining.com
SUMMARY:Corporate Medical Training
DESCRIPTION:
URL:https://independencetraining.com/event/corporate-medical-training-67/
END:VEVENT
BEGIN:VEVENT
DTSTART;VALUE=DATE:20241006
DTEND;VALUE=DATE:20241007
DTSTAMP:20260422T161228
CREATED:20230403T210418Z
LAST-MODIFIED:20240129T185903Z
UID:4418-1728172800-1728259199@independencetraining.com
SUMMARY:Intro to Precision Rifle 2
DESCRIPTION:Casa Grande\, AZ
URL:https://independencetraining.com/event/intro-to-precision-rifle-2-2/
END:VEVENT
BEGIN:VEVENT
DTSTART;VALUE=DATE:20241005
DTEND;VALUE=DATE:20241006
DTSTAMP:20260422T161228
CREATED:20230403T210418Z
LAST-MODIFIED:20240129T190038Z
UID:4417-1728086400-1728172799@independencetraining.com
SUMMARY:Intro to Precision Rifle 1
DESCRIPTION:Casa Grande\, AZ
URL:https://independencetraining.com/event/intro-to-precision-rifle-1-2/
END:VEVENT
BEGIN:VEVENT
DTSTART;VALUE=DATE:20241004
DTEND;VALUE=DATE:20241005
DTSTAMP:20260422T161228
CREATED:20240823T232139Z
LAST-MODIFIED:20240823T232139Z
UID:7700-1728000000-1728086399@independencetraining.com
SUMMARY:Private Firearms Training
DESCRIPTION:
URL:https://independencetraining.com/event/private-firearms-training-31/
END:VEVENT
BEGIN:VEVENT
DTSTART;VALUE=DATE:20241002
DTEND;VALUE=DATE:20241003
DTSTAMP:20260422T161228
CREATED:20240823T231955Z
LAST-MODIFIED:20240823T231955Z
UID:7696-1727827200-1727913599@independencetraining.com
SUMMARY:Corporate Medical Training
DESCRIPTION:
URL:https://independencetraining.com/event/corporate-medical-training-66/
END:VEVENT
BEGIN:VEVENT
DTSTART;VALUE=DATE:20241001
DTEND;VALUE=DATE:20241002
DTSTAMP:20260422T161228
CREATED:20240823T231921Z
LAST-MODIFIED:20240823T231921Z
UID:7694-1727740800-1727827199@independencetraining.com
SUMMARY:Corporate Medical Training
DESCRIPTION:
URL:https://independencetraining.com/event/corporate-medical-training-65/
END:VEVENT
BEGIN:VEVENT
DTSTART;VALUE=DATE:20240929
DTEND;VALUE=DATE:20240930
DTSTAMP:20260422T161228
CREATED:20231130T192415Z
LAST-MODIFIED:20240520T174435Z
UID:6501-1727568000-1727654399@independencetraining.com
SUMMARY:Ladies Practical Handgun
DESCRIPTION:Phoenix\, AZ
URL:https://independencetraining.com/event/ladies-practical-pistol-2/
END:VEVENT
BEGIN:VEVENT
DTSTART;VALUE=DATE:20240928
DTEND;VALUE=DATE:20240929
DTSTAMP:20260422T161228
CREATED:20240814T155754Z
LAST-MODIFIED:20240814T155754Z
UID:7653-1727481600-1727567999@independencetraining.com
SUMMARY:TAC HUB: Alumni Only Goodbye Party - Scenarios and free for all
DESCRIPTION:
URL:https://independencetraining.com/event/tac-hub-alumni-only-goodbye-party-scenarios-and-free-for-all/
END:VEVENT
BEGIN:VEVENT
DTSTART;VALUE=DATE:20240927
DTEND;VALUE=DATE:20240928
DTSTAMP:20260422T161228
CREATED:20240823T231739Z
LAST-MODIFIED:20240823T231739Z
UID:7692-1727395200-1727481599@independencetraining.com
SUMMARY:Private Firearms Training
DESCRIPTION:
URL:https://independencetraining.com/event/private-firearms-training-30/
END:VEVENT
BEGIN:VEVENT
DTSTART;VALUE=DATE:20240926
DTEND;VALUE=DATE:20240927
DTSTAMP:20260422T161228
CREATED:20240219T204449Z
LAST-MODIFIED:20240219T204449Z
UID:6923-1727308800-1727395199@independencetraining.com
SUMMARY:Corporate medical Training
DESCRIPTION:
URL:https://independencetraining.com/event/corporate-medical-training-39/
END:VEVENT
BEGIN:VEVENT
DTSTART;VALUE=DATE:20240925
DTEND;VALUE=DATE:20240926
DTSTAMP:20260422T161228
CREATED:20240823T231647Z
LAST-MODIFIED:20240823T231647Z
UID:7690-1727222400-1727308799@independencetraining.com
SUMMARY:Corporate Medical Training
DESCRIPTION:
URL:https://independencetraining.com/event/corporate-medical-training-64/
END:VEVENT
BEGIN:VEVENT
DTSTART;VALUE=DATE:20240924
DTEND;VALUE=DATE:20240925
DTSTAMP:20260422T161228
CREATED:20240823T231521Z
LAST-MODIFIED:20240823T231521Z
UID:7688-1727136000-1727222399@independencetraining.com
SUMMARY:Corporate Medical Training
DESCRIPTION:
URL:https://independencetraining.com/event/corporate-medical-training-63/
END:VEVENT
BEGIN:VEVENT
DTSTART;VALUE=DATE:20240924
DTEND;VALUE=DATE:20240925
DTSTAMP:20260422T161228
CREATED:20240823T231409Z
LAST-MODIFIED:20240823T231409Z
UID:7686-1727136000-1727222399@independencetraining.com
SUMMARY:Ladies AR-15 101
DESCRIPTION:
URL:https://independencetraining.com/event/ladies-ar-15-101-3/
END:VEVENT
BEGIN:VEVENT
DTSTART;VALUE=DATE:20240924
DTEND;VALUE=DATE:20240925
DTSTAMP:20260422T161228
CREATED:20240613T180830Z
LAST-MODIFIED:20240613T180830Z
UID:7391-1727136000-1727222399@independencetraining.com
SUMMARY:Stop The Bleed
DESCRIPTION:Includes a Stop The Bleed kit
URL:https://independencetraining.com/event/stop-the-bleed-15/
END:VEVENT
BEGIN:VEVENT
DTSTART;VALUE=DATE:20240924
DTEND;VALUE=DATE:20240925
DTSTAMP:20260422T161228
CREATED:20231130T203220Z
LAST-MODIFIED:20240520T174351Z
UID:6510-1727136000-1727222399@independencetraining.com
SUMMARY:Ladies AR-15 101
DESCRIPTION:Phoenix\, AZ
URL:https://independencetraining.com/event/ladies-ar-15-101/
END:VEVENT
BEGIN:VEVENT
DTSTART;VALUE=DATE:20240922
DTEND;VALUE=DATE:20240923
DTSTAMP:20260422T161228
CREATED:20231022T194134Z
LAST-MODIFIED:20240129T190056Z
UID:6304-1726963200-1727049599@independencetraining.com
SUMMARY:Defensive Handgun
DESCRIPTION:Phoenix\, AZ
URL:https://independencetraining.com/event/defensive-handgun-2/
END:VEVENT
BEGIN:VEVENT
DTSTART;VALUE=DATE:20240921
DTEND;VALUE=DATE:20240922
DTSTAMP:20260422T161228
CREATED:20231022T195825Z
LAST-MODIFIED:20240522T200300Z
UID:6318-1726876800-1726963199@independencetraining.com
SUMMARY:Field Carbine
DESCRIPTION:Casa Grande\, AZ
URL:https://independencetraining.com/event/field-carbine-2/
END:VEVENT
BEGIN:VEVENT
DTSTART;VALUE=DATE:20240919
DTEND;VALUE=DATE:20240920
DTSTAMP:20260422T161228
CREATED:20240823T231255Z
LAST-MODIFIED:20240823T231255Z
UID:7684-1726704000-1726790399@independencetraining.com
SUMMARY:Corporate Medical Training
DESCRIPTION:
URL:https://independencetraining.com/event/corporate-medical-training-62/
END:VEVENT
BEGIN:VEVENT
DTSTART;VALUE=DATE:20240915
DTEND;VALUE=DATE:20240916
DTSTAMP:20260422T161228
CREATED:20231130T203725Z
LAST-MODIFIED:20240129T190116Z
UID:6515-1726358400-1726444799@independencetraining.com
SUMMARY:Intro to Emergency Radio Communications
DESCRIPTION:Tempe\, AZ
URL:https://independencetraining.com/event/intro-to-emergency-radio-communications/
END:VEVENT
BEGIN:VEVENT
DTSTART;VALUE=DATE:20240914
DTEND;VALUE=DATE:20240915
DTSTAMP:20260422T161228
CREATED:20230420T184245Z
LAST-MODIFIED:20240129T190138Z
UID:5499-1726272000-1726358399@independencetraining.com
SUMMARY:Stop The Bleed
DESCRIPTION:Mesa\, AZ
URL:https://independencetraining.com/event/stop-the-bleed-8/
END:VEVENT
BEGIN:VEVENT
DTSTART;VALUE=DATE:20240913
DTEND;VALUE=DATE:20240914
DTSTAMP:20260422T161228
CREATED:20240708T210230Z
LAST-MODIFIED:20240814T155256Z
UID:7449-1726185600-1726271999@independencetraining.com
SUMMARY:EDC Combatives
DESCRIPTION:
URL:https://independencetraining.com/event/edc-combatives-2/
END:VEVENT
END:VCALENDAR