BEGIN:VCALENDAR
VERSION:2.0
PRODID:-//Independence Training - ECPv6.15.17//NONSGML v1.0//EN
CALSCALE:GREGORIAN
METHOD:PUBLISH
X-WR-CALNAME:Independence Training
X-ORIGINAL-URL:https://independencetraining.com
X-WR-CALDESC:Events for Independence Training
REFRESH-INTERVAL;VALUE=DURATION:PT1H
X-Robots-Tag:noindex
X-PUBLISHED-TTL:PT1H
BEGIN:VTIMEZONE
TZID:America/Denver
BEGIN:DAYLIGHT
TZOFFSETFROM:-0700
TZOFFSETTO:-0600
TZNAME:MDT
DTSTART:20240310T090000
END:DAYLIGHT
BEGIN:STANDARD
TZOFFSETFROM:-0600
TZOFFSETTO:-0700
TZNAME:MST
DTSTART:20241103T080000
END:STANDARD
BEGIN:DAYLIGHT
TZOFFSETFROM:-0700
TZOFFSETTO:-0600
TZNAME:MDT
DTSTART:20250309T090000
END:DAYLIGHT
BEGIN:STANDARD
TZOFFSETFROM:-0600
TZOFFSETTO:-0700
TZNAME:MST
DTSTART:20251102T080000
END:STANDARD
BEGIN:DAYLIGHT
TZOFFSETFROM:-0700
TZOFFSETTO:-0600
TZNAME:MDT
DTSTART:20260308T090000
END:DAYLIGHT
BEGIN:STANDARD
TZOFFSETFROM:-0600
TZOFFSETTO:-0700
TZNAME:MST
DTSTART:20261101T080000
END:STANDARD
END:VTIMEZONE
BEGIN:VEVENT
DTSTART;VALUE=DATE:20251028
DTEND;VALUE=DATE:20251029
DTSTAMP:20260421T184711
CREATED:20250308T224514Z
LAST-MODIFIED:20250308T224514Z
UID:8582-1761609600-1761695999@independencetraining.com
SUMMARY:Ladies Practical Handgun
DESCRIPTION:
URL:https://independencetraining.com/event/ladies-practical-handgun-4/
END:VEVENT
BEGIN:VEVENT
DTSTART;VALUE=DATE:20251028
DTEND;VALUE=DATE:20251029
DTSTAMP:20260421T184711
CREATED:20241119T223722Z
LAST-MODIFIED:20241119T223722Z
UID:8059-1761609600-1761695999@independencetraining.com
SUMMARY:Stop The Bleed
DESCRIPTION:
URL:https://independencetraining.com/event/stop-the-bleed-38/
END:VEVENT
BEGIN:VEVENT
DTSTART;VALUE=DATE:20251027
DTEND;VALUE=DATE:20251028
DTSTAMP:20260421T184711
CREATED:20250917T210451Z
LAST-MODIFIED:20250917T210451Z
UID:9591-1761523200-1761609599@independencetraining.com
SUMMARY:Corporate Medical Training
DESCRIPTION:
URL:https://independencetraining.com/event/corporate-medical-training-189/
END:VEVENT
BEGIN:VEVENT
DTSTART;VALUE=DATE:20251022
DTEND;VALUE=DATE:20251023
DTSTAMP:20260421T184711
CREATED:20250807T174825Z
LAST-MODIFIED:20250807T174825Z
UID:9204-1761091200-1761177599@independencetraining.com
SUMMARY:Corporate Medical Training
DESCRIPTION:
URL:https://independencetraining.com/event/corporate-medical-training-171/
END:VEVENT
BEGIN:VEVENT
DTSTART;VALUE=DATE:20251020
DTEND;VALUE=DATE:20251024
DTSTAMP:20260421T184711
CREATED:20250807T175113Z
LAST-MODIFIED:20250807T175113Z
UID:9208-1760918400-1761263999@independencetraining.com
SUMMARY:Corporate Medical Training
DESCRIPTION:
URL:https://independencetraining.com/event/corporate-medical-training-173/
END:VEVENT
BEGIN:VEVENT
DTSTART;VALUE=DATE:20251019
DTEND;VALUE=DATE:20251020
DTSTAMP:20260421T184711
CREATED:20241119T232012Z
LAST-MODIFIED:20241119T232012Z
UID:8148-1760832000-1760918399@independencetraining.com
SUMMARY:Advanced Handgun
DESCRIPTION:
URL:https://independencetraining.com/event/advanced-handgun-5/
END:VEVENT
BEGIN:VEVENT
DTSTART;VALUE=DATE:20251018
DTEND;VALUE=DATE:20251019
DTSTAMP:20260421T184711
CREATED:20241119T225810Z
LAST-MODIFIED:20241119T225810Z
UID:8105-1760745600-1760831999@independencetraining.com
SUMMARY:Defensive Handgun
DESCRIPTION:
URL:https://independencetraining.com/event/defensive-handgun-12/
END:VEVENT
BEGIN:VEVENT
DTSTART;VALUE=DATE:20251017
DTEND;VALUE=DATE:20251018
DTSTAMP:20260421T184711
CREATED:20250106T190327Z
LAST-MODIFIED:20250106T190327Z
UID:8348-1760659200-1760745599@independencetraining.com
SUMMARY:EDC Combatives
DESCRIPTION:
URL:https://independencetraining.com/event/edc-combatives-15/
END:VEVENT
BEGIN:VEVENT
DTSTART;VALUE=DATE:20251016
DTEND;VALUE=DATE:20251017
DTSTAMP:20260421T184711
CREATED:20250917T210425Z
LAST-MODIFIED:20250917T210425Z
UID:9589-1760572800-1760659199@independencetraining.com
SUMMARY:Corporate Medical Training
DESCRIPTION:
URL:https://independencetraining.com/event/corporate-medical-training-188/
END:VEVENT
BEGIN:VEVENT
DTSTART;VALUE=DATE:20251015
DTEND;VALUE=DATE:20251016
DTSTAMP:20260421T184711
CREATED:20250807T174723Z
LAST-MODIFIED:20250807T174723Z
UID:9202-1760486400-1760572799@independencetraining.com
SUMMARY:Corporate Medical Training
DESCRIPTION:
URL:https://independencetraining.com/event/corporate-medical-training-170/
END:VEVENT
BEGIN:VEVENT
DTSTART;VALUE=DATE:20251014
DTEND;VALUE=DATE:20251015
DTSTAMP:20260421T184711
CREATED:20250807T174645Z
LAST-MODIFIED:20250807T174645Z
UID:9200-1760400000-1760486399@independencetraining.com
SUMMARY:Corporate Medical Training
DESCRIPTION:
URL:https://independencetraining.com/event/corporate-medical-training-169/
END:VEVENT
BEGIN:VEVENT
DTSTART;VALUE=DATE:20251011
DTEND;VALUE=DATE:20251012
DTSTAMP:20260421T184711
CREATED:20241119T223649Z
LAST-MODIFIED:20241119T223649Z
UID:8057-1760140800-1760227199@independencetraining.com
SUMMARY:Stop The Bleed
DESCRIPTION:
URL:https://independencetraining.com/event/stop-the-bleed-37/
END:VEVENT
BEGIN:VEVENT
DTSTART;VALUE=DATE:20251009
DTEND;VALUE=DATE:20251010
DTSTAMP:20260421T184711
CREATED:20250807T174613Z
LAST-MODIFIED:20250807T174613Z
UID:9198-1759968000-1760054399@independencetraining.com
SUMMARY:Corporate Medical Training
DESCRIPTION:
URL:https://independencetraining.com/event/corporate-medical-training-168/
END:VEVENT
BEGIN:VEVENT
DTSTART;VALUE=DATE:20251008
DTEND;VALUE=DATE:20251009
DTSTAMP:20260421T184711
CREATED:20250922T214250Z
LAST-MODIFIED:20250922T214250Z
UID:9627-1759881600-1759967999@independencetraining.com
SUMMARY:Private Firearms Training
DESCRIPTION:
URL:https://independencetraining.com/event/private-firearms-training-72/
END:VEVENT
BEGIN:VEVENT
DTSTART;VALUE=DATE:20251008
DTEND;VALUE=DATE:20251009
DTSTAMP:20260421T184711
CREATED:20250807T174539Z
LAST-MODIFIED:20250807T174539Z
UID:9196-1759881600-1759967999@independencetraining.com
SUMMARY:Corporate Medical Training
DESCRIPTION:
URL:https://independencetraining.com/event/corporate-medical-training-167/
END:VEVENT
BEGIN:VEVENT
DTSTART;VALUE=DATE:20251007
DTEND;VALUE=DATE:20251008
DTSTAMP:20260421T184711
CREATED:20250922T214155Z
LAST-MODIFIED:20250922T214155Z
UID:9625-1759795200-1759881599@independencetraining.com
SUMMARY:Corporate Medical Training
DESCRIPTION:
URL:https://independencetraining.com/event/corporate-medical-training-190/
END:VEVENT
BEGIN:VEVENT
DTSTART;VALUE=DATE:20251006
DTEND;VALUE=DATE:20251010
DTSTAMP:20260421T184711
CREATED:20250807T174515Z
LAST-MODIFIED:20250807T174515Z
UID:9194-1759708800-1760054399@independencetraining.com
SUMMARY:Corporate Medical Training
DESCRIPTION:
URL:https://independencetraining.com/event/corporate-medical-training-166/
END:VEVENT
BEGIN:VEVENT
DTSTART;VALUE=DATE:20251006
DTEND;VALUE=DATE:20251007
DTSTAMP:20260421T184711
CREATED:20250915T210129Z
LAST-MODIFIED:20250915T210129Z
UID:9425-1759708800-1759795199@independencetraining.com
SUMMARY:Corporate Medical Training
DESCRIPTION:
URL:https://independencetraining.com/event/corporate-medical-training-184/
END:VEVENT
BEGIN:VEVENT
DTSTART;VALUE=DATE:20251004
DTEND;VALUE=DATE:20251005
DTSTAMP:20260421T184711
CREATED:20241119T232354Z
LAST-MODIFIED:20241119T232354Z
UID:8152-1759536000-1759622399@independencetraining.com
SUMMARY:Practical Night Vision Application And Use
DESCRIPTION:
URL:https://independencetraining.com/event/practical-night-vision-application-and-use-2/
END:VEVENT
BEGIN:VEVENT
DTSTART;VALUE=DATE:20251004
DTEND;VALUE=DATE:20251005
DTSTAMP:20260421T184711
CREATED:20241119T224449Z
LAST-MODIFIED:20241119T224449Z
UID:8079-1759536000-1759622399@independencetraining.com
SUMMARY:Basic Handgun / AZ CCW
DESCRIPTION:
URL:https://independencetraining.com/event/basic-handgun-az-ccw-11/
END:VEVENT
BEGIN:VEVENT
DTSTART;VALUE=DATE:20251003
DTEND;VALUE=DATE:20251004
DTSTAMP:20260421T184711
CREATED:20250922T214013Z
LAST-MODIFIED:20250922T214013Z
UID:9623-1759449600-1759535999@independencetraining.com
SUMMARY:Private Medical Training
DESCRIPTION:
URL:https://independencetraining.com/event/private-medical-training-29/
END:VEVENT
BEGIN:VEVENT
DTSTART;VALUE=DATE:20251003
DTEND;VALUE=DATE:20251004
DTSTAMP:20260421T184711
CREATED:20250807T174436Z
LAST-MODIFIED:20250807T174436Z
UID:9192-1759449600-1759535999@independencetraining.com
SUMMARY:Corporate Medical Training
DESCRIPTION:
URL:https://independencetraining.com/event/corporate-medical-training-165/
END:VEVENT
BEGIN:VEVENT
DTSTART;VALUE=DATE:20251002
DTEND;VALUE=DATE:20251003
DTSTAMP:20260421T184711
CREATED:20250807T174409Z
LAST-MODIFIED:20250807T174409Z
UID:9190-1759363200-1759449599@independencetraining.com
SUMMARY:Corporate Medical Training
DESCRIPTION:
URL:https://independencetraining.com/event/corporate-medical-training-164/
END:VEVENT
BEGIN:VEVENT
DTSTART;VALUE=DATE:20251001
DTEND;VALUE=DATE:20251002
DTSTAMP:20260421T184711
CREATED:20250807T174342Z
LAST-MODIFIED:20250807T174342Z
UID:9188-1759276800-1759363199@independencetraining.com
SUMMARY:Corporate Medical Training
DESCRIPTION:
URL:https://independencetraining.com/event/corporate-medical-training-163/
END:VEVENT
BEGIN:VEVENT
DTSTART;VALUE=DATE:20250929
DTEND;VALUE=DATE:20250930
DTSTAMP:20260421T184711
CREATED:20250917T210358Z
LAST-MODIFIED:20250917T210358Z
UID:9587-1759104000-1759190399@independencetraining.com
SUMMARY:Corporate Medical Training
DESCRIPTION:
URL:https://independencetraining.com/event/corporate-medical-training-187/
END:VEVENT
BEGIN:VEVENT
DTSTART;VALUE=DATE:20250929
DTEND;VALUE=DATE:20250930
DTSTAMP:20260421T184711
CREATED:20250915T020315Z
LAST-MODIFIED:20250915T020315Z
UID:9418-1759104000-1759190399@independencetraining.com
SUMMARY:Private Firearms Training
DESCRIPTION:
URL:https://independencetraining.com/event/private-firearms-training-70/
END:VEVENT
BEGIN:VEVENT
DTSTART;VALUE=DATE:20250928
DTEND;VALUE=DATE:20250929
DTSTAMP:20260421T184711
CREATED:20250308T224436Z
LAST-MODIFIED:20250308T224436Z
UID:8580-1759017600-1759103999@independencetraining.com
SUMMARY:Ladies Practical Handgun
DESCRIPTION:
URL:https://independencetraining.com/event/ladies-practical-handgun-3/
END:VEVENT
BEGIN:VEVENT
DTSTART;VALUE=DATE:20250925
DTEND;VALUE=DATE:20250926
DTSTAMP:20260421T184711
CREATED:20250807T174239Z
LAST-MODIFIED:20250807T174239Z
UID:9186-1758758400-1758844799@independencetraining.com
SUMMARY:Corporate Medical Training
DESCRIPTION:
URL:https://independencetraining.com/event/corporate-medical-training-162/
END:VEVENT
BEGIN:VEVENT
DTSTART;VALUE=DATE:20250924
DTEND;VALUE=DATE:20250925
DTSTAMP:20260421T184711
CREATED:20250915T020103Z
LAST-MODIFIED:20250915T020103Z
UID:9416-1758672000-1758758399@independencetraining.com
SUMMARY:Corporate Medical Training
DESCRIPTION:
URL:https://independencetraining.com/event/corporate-medical-training-183/
END:VEVENT
BEGIN:VEVENT
DTSTART;VALUE=DATE:20250923
DTEND;VALUE=DATE:20250924
DTSTAMP:20260421T184711
CREATED:20250807T174209Z
LAST-MODIFIED:20250807T174209Z
UID:9184-1758585600-1758671999@independencetraining.com
SUMMARY:Corporate Medical Training
DESCRIPTION:
URL:https://independencetraining.com/event/corporate-medical-training-161/
END:VEVENT
END:VCALENDAR