BEGIN:VCALENDAR
VERSION:2.0
PRODID:-//Independence Training - ECPv6.15.17//NONSGML v1.0//EN
CALSCALE:GREGORIAN
METHOD:PUBLISH
X-WR-CALNAME:Independence Training
X-ORIGINAL-URL:https://independencetraining.com
X-WR-CALDESC:Events for Independence Training
REFRESH-INTERVAL;VALUE=DURATION:PT1H
X-Robots-Tag:noindex
X-PUBLISHED-TTL:PT1H
BEGIN:VTIMEZONE
TZID:America/Denver
BEGIN:DAYLIGHT
TZOFFSETFROM:-0700
TZOFFSETTO:-0600
TZNAME:MDT
DTSTART:20240310T090000
END:DAYLIGHT
BEGIN:STANDARD
TZOFFSETFROM:-0600
TZOFFSETTO:-0700
TZNAME:MST
DTSTART:20241103T080000
END:STANDARD
BEGIN:DAYLIGHT
TZOFFSETFROM:-0700
TZOFFSETTO:-0600
TZNAME:MDT
DTSTART:20250309T090000
END:DAYLIGHT
BEGIN:STANDARD
TZOFFSETFROM:-0600
TZOFFSETTO:-0700
TZNAME:MST
DTSTART:20251102T080000
END:STANDARD
BEGIN:DAYLIGHT
TZOFFSETFROM:-0700
TZOFFSETTO:-0600
TZNAME:MDT
DTSTART:20260308T090000
END:DAYLIGHT
BEGIN:STANDARD
TZOFFSETFROM:-0600
TZOFFSETTO:-0700
TZNAME:MST
DTSTART:20261101T080000
END:STANDARD
END:VTIMEZONE
BEGIN:VEVENT
DTSTART;VALUE=DATE:20250308
DTEND;VALUE=DATE:20250309
DTSTAMP:20260422T161002
CREATED:20241119T222710Z
LAST-MODIFIED:20241119T222710Z
UID:8029-1741392000-1741478399@independencetraining.com
SUMMARY:Stop The Bleed
DESCRIPTION:
URL:https://independencetraining.com/event/stop-the-bleed-23/
END:VEVENT
BEGIN:VEVENT
DTSTART;VALUE=DATE:20250308
DTEND;VALUE=DATE:20250309
DTSTAMP:20260422T161002
CREATED:20241119T230020Z
LAST-MODIFIED:20241119T230020Z
UID:8109-1741392000-1741478399@independencetraining.com
SUMMARY:Defensive Handgun: Vehicle
DESCRIPTION:
URL:https://independencetraining.com/event/defensive-handgun-vehicle-2/
END:VEVENT
BEGIN:VEVENT
DTSTART;VALUE=DATE:20250309
DTEND;VALUE=DATE:20250310
DTSTAMP:20260422T161002
CREATED:20241119T225556Z
LAST-MODIFIED:20241119T225556Z
UID:8099-1741478400-1741564799@independencetraining.com
SUMMARY:Defensive Handgun
DESCRIPTION:
URL:https://independencetraining.com/event/defensive-handgun-9/
END:VEVENT
BEGIN:VEVENT
DTSTART;VALUE=DATE:20250310
DTEND;VALUE=DATE:20250313
DTSTAMP:20260422T161002
CREATED:20250127T205417Z
LAST-MODIFIED:20250127T205417Z
UID:8440-1741564800-1741823999@independencetraining.com
SUMMARY:Instructor Development
DESCRIPTION:
URL:https://independencetraining.com/event/instructor-development-16/
END:VEVENT
BEGIN:VEVENT
DTSTART;VALUE=DATE:20250311
DTEND;VALUE=DATE:20250312
DTSTAMP:20260422T161002
CREATED:20250127T205525Z
LAST-MODIFIED:20250127T205525Z
UID:8442-1741651200-1741737599@independencetraining.com
SUMMARY:Corporate Medical Training
DESCRIPTION:
URL:https://independencetraining.com/event/corporate-medical-training-103/
END:VEVENT
BEGIN:VEVENT
DTSTART;VALUE=DATE:20250311
DTEND;VALUE=DATE:20250312
DTSTAMP:20260422T161002
CREATED:20250127T205618Z
LAST-MODIFIED:20250127T205618Z
UID:8444-1741651200-1741737599@independencetraining.com
SUMMARY:Alumni Only Event
DESCRIPTION:Burner Phones and Why You Might Want One with Privacy Mike \nThe class will cover what a burner phone is\, why you might want one\, how to set one up\, and how to use them properly. Even if you don’t necessarily want a burner phone\, you’ll learn about how tracking technology works and learn concepts that could be applied to your everyday life.
URL:https://independencetraining.com/event/alumni-only-event-2/
END:VEVENT
BEGIN:VEVENT
DTSTART;VALUE=DATE:20250313
DTEND;VALUE=DATE:20250314
DTSTAMP:20260422T161002
CREATED:20250127T205712Z
LAST-MODIFIED:20250127T205712Z
UID:8446-1741824000-1741910399@independencetraining.com
SUMMARY:Corporate Medical Training
DESCRIPTION:
URL:https://independencetraining.com/event/corporate-medical-training-104/
END:VEVENT
BEGIN:VEVENT
DTSTART;VALUE=DATE:20250322
DTEND;VALUE=DATE:20250323
DTSTAMP:20260422T161002
CREATED:20241119T230151Z
LAST-MODIFIED:20241119T230151Z
UID:8111-1742601600-1742687999@independencetraining.com
SUMMARY:K9 First Aid
DESCRIPTION:
URL:https://independencetraining.com/event/k9-first-aid/
END:VEVENT
BEGIN:VEVENT
DTSTART;VALUE=DATE:20250323
DTEND;VALUE=DATE:20250324
DTSTAMP:20260422T161002
CREATED:20241119T230305Z
LAST-MODIFIED:20241119T230305Z
UID:8113-1742688000-1742774399@independencetraining.com
SUMMARY:Defensive Carbine
DESCRIPTION:
URL:https://independencetraining.com/event/defensive-carbine-7/
END:VEVENT
BEGIN:VEVENT
DTSTART;VALUE=DATE:20250325
DTEND;VALUE=DATE:20250326
DTSTAMP:20260422T161002
CREATED:20241119T222738Z
LAST-MODIFIED:20241119T222738Z
UID:8031-1742860800-1742947199@independencetraining.com
SUMMARY:Stop The Bleed
DESCRIPTION:
URL:https://independencetraining.com/event/stop-the-bleed-24/
END:VEVENT
BEGIN:VEVENT
DTSTART;VALUE=DATE:20250325
DTEND;VALUE=DATE:20250326
DTSTAMP:20260422T161002
CREATED:20250127T205843Z
LAST-MODIFIED:20250127T205843Z
UID:8448-1742860800-1742947199@independencetraining.com
SUMMARY:Corporate Medical Training
DESCRIPTION:
URL:https://independencetraining.com/event/corporate-medical-training-105/
END:VEVENT
BEGIN:VEVENT
DTSTART;VALUE=DATE:20250326
DTEND;VALUE=DATE:20250327
DTSTAMP:20260422T161002
CREATED:20250127T205911Z
LAST-MODIFIED:20250127T205911Z
UID:8450-1742947200-1743033599@independencetraining.com
SUMMARY:Corporate Medical Training
DESCRIPTION:
URL:https://independencetraining.com/event/corporate-medical-training-106/
END:VEVENT
BEGIN:VEVENT
DTSTART;VALUE=DATE:20250327
DTEND;VALUE=DATE:20250331
DTSTAMP:20260422T161002
CREATED:20250127T210003Z
LAST-MODIFIED:20250127T210003Z
UID:8452-1743033600-1743379199@independencetraining.com
SUMMARY:Instructor Development
DESCRIPTION:
URL:https://independencetraining.com/event/instructor-development-17/
END:VEVENT
BEGIN:VEVENT
DTSTART;VALUE=DATE:20250329
DTEND;VALUE=DATE:20250330
DTSTAMP:20260422T161002
CREATED:20250325T230108Z
LAST-MODIFIED:20250325T230108Z
UID:8660-1743206400-1743292799@independencetraining.com
SUMMARY:Corporate Training
DESCRIPTION:
URL:https://independencetraining.com/event/corporate-training-6/
END:VEVENT
BEGIN:VEVENT
DTSTART;VALUE=DATE:20250330
DTEND;VALUE=DATE:20250331
DTSTAMP:20260422T161002
CREATED:20250325T230147Z
LAST-MODIFIED:20250325T230147Z
UID:8662-1743292800-1743379199@independencetraining.com
SUMMARY:Corporate Medical Training
DESCRIPTION:
URL:https://independencetraining.com/event/corporate-medical-training-118/
END:VEVENT
BEGIN:VEVENT
DTSTART;VALUE=DATE:20250401
DTEND;VALUE=DATE:20250402
DTSTAMP:20260422T161002
CREATED:20250127T210200Z
LAST-MODIFIED:20250127T210200Z
UID:8454-1743465600-1743551999@independencetraining.com
SUMMARY:Corporate Medical Training
DESCRIPTION:
URL:https://independencetraining.com/event/corporate-medical-training-107/
END:VEVENT
BEGIN:VEVENT
DTSTART;VALUE=DATE:20250403
DTEND;VALUE=DATE:20250404
DTSTAMP:20260422T161002
CREATED:20250325T224808Z
LAST-MODIFIED:20250325T224808Z
UID:8648-1743638400-1743724799@independencetraining.com
SUMMARY:Corporate Medical Training
DESCRIPTION:
URL:https://independencetraining.com/event/corporate-medical-training-113/
END:VEVENT
BEGIN:VEVENT
DTSTART;VALUE=DATE:20250405
DTEND;VALUE=DATE:20250406
DTSTAMP:20260422T161002
CREATED:20241119T230352Z
LAST-MODIFIED:20250325T214110Z
UID:8115-1743811200-1743897599@independencetraining.com
SUMMARY:Carbine: Movement with T4E
DESCRIPTION:
URL:https://independencetraining.com/event/defensive-carbine-movement-with-t4e/
END:VEVENT
BEGIN:VEVENT
DTSTART;VALUE=DATE:20250405
DTEND;VALUE=DATE:20250406
DTSTAMP:20260422T161002
CREATED:20241119T231016Z
LAST-MODIFIED:20241119T231016Z
UID:8129-1743811200-1743897599@independencetraining.com
SUMMARY:Intro to Emergency Radio Communications
DESCRIPTION:
URL:https://independencetraining.com/event/intro-to-emergency-radio-communications-5/
END:VEVENT
BEGIN:VEVENT
DTSTART;VALUE=DATE:20250406
DTEND;VALUE=DATE:20250407
DTSTAMP:20260422T161002
CREATED:20241119T224225Z
LAST-MODIFIED:20241119T224225Z
UID:8073-1743897600-1743983999@independencetraining.com
SUMMARY:Basic Handgun / AZ CCW
DESCRIPTION:
URL:https://independencetraining.com/event/basic-handgun-az-ccw-7/
END:VEVENT
BEGIN:VEVENT
DTSTART;VALUE=DATE:20250407
DTEND;VALUE=DATE:20250408
DTSTAMP:20260422T161002
CREATED:20250325T224934Z
LAST-MODIFIED:20250325T224934Z
UID:8650-1743984000-1744070399@independencetraining.com
SUMMARY:Private Firearms Training
DESCRIPTION:
URL:https://independencetraining.com/event/private-firearms-training-39/
END:VEVENT
BEGIN:VEVENT
DTSTART;VALUE=DATE:20250408
DTEND;VALUE=DATE:20250409
DTSTAMP:20260422T161002
CREATED:20250127T210245Z
LAST-MODIFIED:20250127T210245Z
UID:8456-1744070400-1744156799@independencetraining.com
SUMMARY:Corporate Medical Training
DESCRIPTION:
URL:https://independencetraining.com/event/corporate-medical-training-108/
END:VEVENT
BEGIN:VEVENT
DTSTART;VALUE=DATE:20250409
DTEND;VALUE=DATE:20250410
DTSTAMP:20260422T161002
CREATED:20250127T210319Z
LAST-MODIFIED:20250127T210319Z
UID:8458-1744156800-1744243199@independencetraining.com
SUMMARY:Corporate Medical Training
DESCRIPTION:
URL:https://independencetraining.com/event/corporate-medical-training-109/
END:VEVENT
BEGIN:VEVENT
DTSTART;VALUE=DATE:20250409
DTEND;VALUE=DATE:20250412
DTSTAMP:20260422T161002
CREATED:20250325T225148Z
LAST-MODIFIED:20250325T225148Z
UID:8652-1744156800-1744415999@independencetraining.com
SUMMARY:Corporate Medical Training
DESCRIPTION:
URL:https://independencetraining.com/event/corporate-medical-training-114/
END:VEVENT
BEGIN:VEVENT
DTSTART;VALUE=DATE:20250410
DTEND;VALUE=DATE:20250411
DTSTAMP:20260422T161002
CREATED:20250127T210501Z
LAST-MODIFIED:20250127T210501Z
UID:8460-1744243200-1744329599@independencetraining.com
SUMMARY:Corporate Medical Training
DESCRIPTION:
URL:https://independencetraining.com/event/corporate-medical-training-110/
END:VEVENT
BEGIN:VEVENT
DTSTART;VALUE=DATE:20250412
DTEND;VALUE=DATE:20250413
DTSTAMP:20260422T161002
CREATED:20241119T222805Z
LAST-MODIFIED:20241119T222805Z
UID:8033-1744416000-1744502399@independencetraining.com
SUMMARY:Stop The Bleed
DESCRIPTION:
URL:https://independencetraining.com/event/stop-the-bleed-25/
END:VEVENT
BEGIN:VEVENT
DTSTART;VALUE=DATE:20250412
DTEND;VALUE=DATE:20250413
DTSTAMP:20260422T161002
CREATED:20250127T210801Z
LAST-MODIFIED:20250127T210801Z
UID:8466-1744416000-1744502399@independencetraining.com
SUMMARY:***Alumni Only Event***
DESCRIPTION:Rattlesnake aversion training quickly teaches your dog to avoid these venomous reptiles\, including their sounds/smells. Consequently\, it just might save their life! We will directly pay Rattlesnake Ready when we arrive at their facility. New dogs are $200 for the 1st dog and $160 for each additional dog and follow ups are $100 for the first dog and $80 for each additional follow up. \n$1.00 for enrollment to save your spot
URL:https://independencetraining.com/event/alumni-only-event-3/
END:VEVENT
BEGIN:VEVENT
DTSTART;VALUE=DATE:20250414
DTEND;VALUE=DATE:20250415
DTSTAMP:20260422T161002
CREATED:20250325T225839Z
LAST-MODIFIED:20250325T225839Z
UID:8654-1744588800-1744675199@independencetraining.com
SUMMARY:Corporate Medical Training
DESCRIPTION:
URL:https://independencetraining.com/event/corporate-medical-training-115/
END:VEVENT
BEGIN:VEVENT
DTSTART;VALUE=DATE:20250415
DTEND;VALUE=DATE:20250416
DTSTAMP:20260422T161002
CREATED:20250414T193634Z
LAST-MODIFIED:20250414T193634Z
UID:8709-1744675200-1744761599@independencetraining.com
SUMMARY:Private Firearms Training
DESCRIPTION:
URL:https://independencetraining.com/event/private-firearms-training-40/
END:VEVENT
BEGIN:VEVENT
DTSTART;VALUE=DATE:20250417
DTEND;VALUE=DATE:20250418
DTSTAMP:20260422T161002
CREATED:20250127T210603Z
LAST-MODIFIED:20250127T210603Z
UID:8462-1744848000-1744934399@independencetraining.com
SUMMARY:Corporate Medical Training
DESCRIPTION:
URL:https://independencetraining.com/event/corporate-medical-training-111/
END:VEVENT
END:VCALENDAR