BEGIN:VCALENDAR
VERSION:2.0
PRODID:-//Independence Training - ECPv6.15.17//NONSGML v1.0//EN
CALSCALE:GREGORIAN
METHOD:PUBLISH
X-ORIGINAL-URL:https://independencetraining.com
X-WR-CALDESC:Events for Independence Training
REFRESH-INTERVAL;VALUE=DURATION:PT1H
X-Robots-Tag:noindex
X-PUBLISHED-TTL:PT1H
BEGIN:VTIMEZONE
TZID:America/Denver
BEGIN:DAYLIGHT
TZOFFSETFROM:-0700
TZOFFSETTO:-0600
TZNAME:MDT
DTSTART:20220313T090000
END:DAYLIGHT
BEGIN:STANDARD
TZOFFSETFROM:-0600
TZOFFSETTO:-0700
TZNAME:MST
DTSTART:20221106T080000
END:STANDARD
BEGIN:DAYLIGHT
TZOFFSETFROM:-0700
TZOFFSETTO:-0600
TZNAME:MDT
DTSTART:20230312T090000
END:DAYLIGHT
BEGIN:STANDARD
TZOFFSETFROM:-0600
TZOFFSETTO:-0700
TZNAME:MST
DTSTART:20231105T080000
END:STANDARD
BEGIN:DAYLIGHT
TZOFFSETFROM:-0700
TZOFFSETTO:-0600
TZNAME:MDT
DTSTART:20240310T090000
END:DAYLIGHT
BEGIN:STANDARD
TZOFFSETFROM:-0600
TZOFFSETTO:-0700
TZNAME:MST
DTSTART:20241103T080000
END:STANDARD
END:VTIMEZONE
BEGIN:VEVENT
DTSTART;TZID=America/Denver:20230410T000000
DTEND;TZID=America/Denver:20230411T000000
DTSTAMP:20260425T094027
CREATED:20230403T210830Z
LAST-MODIFIED:20230403T210830Z
UID:4897-1681084800-1681171200@independencetraining.com
SUMMARY:Private Medical Training
DESCRIPTION:
URL:https://independencetraining.com/event/private-medical-training-41/
END:VEVENT
BEGIN:VEVENT
DTSTART;TZID=America/Denver:20230407T000000
DTEND;TZID=America/Denver:20230408T000000
DTSTAMP:20260425T094027
CREATED:20230403T210830Z
LAST-MODIFIED:20230403T210830Z
UID:4899-1680825600-1680912000@independencetraining.com
SUMMARY:Private Firearms Training
DESCRIPTION:
URL:https://independencetraining.com/event/private-firearms-training-68/
END:VEVENT
BEGIN:VEVENT
DTSTART;TZID=America/Denver:20230405T000000
DTEND;TZID=America/Denver:20230406T000000
DTSTAMP:20260425T094027
CREATED:20230911T194544Z
LAST-MODIFIED:20230911T194544Z
UID:6098-1680652800-1680739200@independencetraining.com
SUMMARY:Private Firearms Training
DESCRIPTION:
URL:https://independencetraining.com/event/private-firearms-training-3/
END:VEVENT
BEGIN:VEVENT
DTSTART;TZID=America/Denver:20230331T010000
DTEND;TZID=America/Denver:20230331T040000
DTSTAMP:20260425T094027
CREATED:20230403T210408Z
LAST-MODIFIED:20230403T210408Z
UID:4409-1680224400-1680235200@independencetraining.com
SUMMARY:Schoolhouse: Low Light IFAK
DESCRIPTION:Tempe\, AZ
URL:https://independencetraining.com/event/schoolhouse-low-light-ifak-2/
END:VEVENT
BEGIN:VEVENT
DTSTART;TZID=America/Denver:20230317T000000
DTEND;TZID=America/Denver:20230319T000000
DTSTAMP:20260425T094027
CREATED:20230403T210801Z
LAST-MODIFIED:20230403T210801Z
UID:4894-1679011200-1679184000@independencetraining.com
SUMMARY:Private Firearms Training
DESCRIPTION:
URL:https://independencetraining.com/event/private-firearms-training-65/
END:VEVENT
BEGIN:VEVENT
DTSTART;TZID=America/Denver:20230315T000000
DTEND;TZID=America/Denver:20230316T000000
DTSTAMP:20260425T094027
CREATED:20230403T210449Z
LAST-MODIFIED:20230403T210449Z
UID:4486-1678838400-1678924800@independencetraining.com
SUMMARY:Private Firearms Training
DESCRIPTION:
URL:https://independencetraining.com/event/private-firearms-training-49/
END:VEVENT
BEGIN:VEVENT
DTSTART;TZID=America/Denver:20230311T010000
DTEND;TZID=America/Denver:20230311T050000
DTSTAMP:20260425T094027
CREATED:20230403T210444Z
LAST-MODIFIED:20230403T210444Z
UID:4474-1678496400-1678510800@independencetraining.com
SUMMARY:Bravo Combatives
DESCRIPTION:Scottsdale\, AZ
URL:https://independencetraining.com/event/bravo-combatives-15/
END:VEVENT
BEGIN:VEVENT
DTSTART;TZID=America/Denver:20230309T000000
DTEND;TZID=America/Denver:20230310T000000
DTSTAMP:20260425T094027
CREATED:20230403T210456Z
LAST-MODIFIED:20230403T210456Z
UID:4495-1678320000-1678406400@independencetraining.com
SUMMARY:Private Firearms Training
DESCRIPTION:
URL:https://independencetraining.com/event/private-firearms-training-56/
END:VEVENT
BEGIN:VEVENT
DTSTART;TZID=America/Denver:20230308T000000
DTEND;TZID=America/Denver:20230309T000000
DTSTAMP:20260425T094027
CREATED:20230403T210742Z
LAST-MODIFIED:20230403T210742Z
UID:4878-1678233600-1678320000@independencetraining.com
SUMMARY:Private Medical Training
DESCRIPTION:
URL:https://independencetraining.com/event/private-medical-training-35/
END:VEVENT
BEGIN:VEVENT
DTSTART;TZID=America/Denver:20230307T000000
DTEND;TZID=America/Denver:20230308T000000
DTSTAMP:20260425T094027
CREATED:20230403T210504Z
LAST-MODIFIED:20230403T210504Z
UID:4515-1678147200-1678233600@independencetraining.com
SUMMARY:Private Rifle Training
DESCRIPTION:
URL:https://independencetraining.com/event/private-rifle-training-23/
END:VEVENT
BEGIN:VEVENT
DTSTART;TZID=America/Denver:20230305T000000
DTEND;TZID=America/Denver:20230306T000000
DTSTAMP:20260425T094027
CREATED:20230403T210427Z
LAST-MODIFIED:20230403T210427Z
UID:4433-1677974400-1678060800@independencetraining.com
SUMMARY:Instructor Development
DESCRIPTION:
URL:https://independencetraining.com/event/instructor-development-9/
END:VEVENT
END:VCALENDAR