BEGIN:VCALENDAR
VERSION:2.0
PRODID:-//Independence Training - ECPv6.15.17//NONSGML v1.0//EN
CALSCALE:GREGORIAN
METHOD:PUBLISH
X-ORIGINAL-URL:https://independencetraining.com
X-WR-CALDESC:Events for Independence Training
REFRESH-INTERVAL;VALUE=DURATION:PT1H
X-Robots-Tag:noindex
X-PUBLISHED-TTL:PT1H
BEGIN:VTIMEZONE
TZID:America/Denver
BEGIN:DAYLIGHT
TZOFFSETFROM:-0700
TZOFFSETTO:-0600
TZNAME:MDT
DTSTART:20250309T090000
END:DAYLIGHT
BEGIN:STANDARD
TZOFFSETFROM:-0600
TZOFFSETTO:-0700
TZNAME:MST
DTSTART:20251102T080000
END:STANDARD
BEGIN:DAYLIGHT
TZOFFSETFROM:-0700
TZOFFSETTO:-0600
TZNAME:MDT
DTSTART:20260308T090000
END:DAYLIGHT
BEGIN:STANDARD
TZOFFSETFROM:-0600
TZOFFSETTO:-0700
TZNAME:MST
DTSTART:20261101T080000
END:STANDARD
BEGIN:DAYLIGHT
TZOFFSETFROM:-0700
TZOFFSETTO:-0600
TZNAME:MDT
DTSTART:20270314T090000
END:DAYLIGHT
BEGIN:STANDARD
TZOFFSETFROM:-0600
TZOFFSETTO:-0700
TZNAME:MST
DTSTART:20271107T080000
END:STANDARD
END:VTIMEZONE
BEGIN:VEVENT
DTSTART;VALUE=DATE:20260505
DTEND;VALUE=DATE:20260507
DTSTAMP:20260421T204417
CREATED:20260302T211533Z
LAST-MODIFIED:20260302T211533Z
UID:10204-1777939200-1778111999@independencetraining.com
SUMMARY:Corporate Medical Training
DESCRIPTION:
URL:https://independencetraining.com/event/corporate-medical-training-233/
END:VEVENT
BEGIN:VEVENT
DTSTART;VALUE=DATE:20260509
DTEND;VALUE=DATE:20260510
DTSTAMP:20260421T204417
CREATED:20250917T175202Z
LAST-MODIFIED:20250917T175202Z
UID:9492-1778284800-1778371199@independencetraining.com
SUMMARY:Stop The Bleed
DESCRIPTION:
URL:https://independencetraining.com/event/stop-the-bleed-52/
END:VEVENT
BEGIN:VEVENT
DTSTART;VALUE=DATE:20260512
DTEND;VALUE=DATE:20260513
DTSTAMP:20260421T204417
CREATED:20260302T211708Z
LAST-MODIFIED:20260302T211708Z
UID:10206-1778544000-1778630399@independencetraining.com
SUMMARY:Corporate Medical Training
DESCRIPTION:
URL:https://independencetraining.com/event/corporate-medical-training-234/
END:VEVENT
BEGIN:VEVENT
DTSTART;VALUE=DATE:20260513
DTEND;VALUE=DATE:20260514
DTSTAMP:20260421T204417
CREATED:20260302T211741Z
LAST-MODIFIED:20260302T211741Z
UID:10208-1778630400-1778716799@independencetraining.com
SUMMARY:Corporate Medical Training
DESCRIPTION:
URL:https://independencetraining.com/event/corporate-medical-training-235/
END:VEVENT
BEGIN:VEVENT
DTSTART;VALUE=DATE:20260515
DTEND;VALUE=DATE:20260516
DTSTAMP:20260421T204417
CREATED:20260105T191347Z
LAST-MODIFIED:20260302T211919Z
UID:9935-1778803200-1778889599@independencetraining.com
SUMMARY:EDC Combatives
DESCRIPTION:
URL:https://independencetraining.com/event/edc-combatives-22/
END:VEVENT
BEGIN:VEVENT
DTSTART;VALUE=DATE:20260523
DTEND;VALUE=DATE:20260524
DTSTAMP:20260421T204417
CREATED:20250917T175332Z
LAST-MODIFIED:20260122T004429Z
UID:9496-1779494400-1779580799@independencetraining.com
SUMMARY:IFAK Life Saver
DESCRIPTION:
URL:https://independencetraining.com/event/ifak-life-saver-14/
END:VEVENT
BEGIN:VEVENT
DTSTART;VALUE=DATE:20260524
DTEND;VALUE=DATE:20260525
DTSTAMP:20260421T204417
CREATED:20250917T175434Z
LAST-MODIFIED:20260122T004554Z
UID:9498-1779580800-1779667199@independencetraining.com
SUMMARY:Invasive Trauma Interventions
DESCRIPTION:
URL:https://independencetraining.com/event/invasive-trauma-interventions-5/
END:VEVENT
BEGIN:VEVENT
DTSTART;VALUE=DATE:20260526
DTEND;VALUE=DATE:20260527
DTSTAMP:20260421T204417
CREATED:20250917T175240Z
LAST-MODIFIED:20250917T175240Z
UID:9494-1779753600-1779839999@independencetraining.com
SUMMARY:Stop The Bleed
DESCRIPTION:
URL:https://independencetraining.com/event/stop-the-bleed-53/
END:VEVENT
BEGIN:VEVENT
DTSTART;VALUE=DATE:20260530
DTEND;VALUE=DATE:20260531
DTSTAMP:20260421T204417
CREATED:20250917T175525Z
LAST-MODIFIED:20250917T175525Z
UID:9500-1780099200-1780185599@independencetraining.com
SUMMARY:Defensive Carbine
DESCRIPTION:
URL:https://independencetraining.com/event/defensive-carbine-13/
END:VEVENT
BEGIN:VEVENT
DTSTART;VALUE=DATE:20260531
DTEND;VALUE=DATE:20260601
DTSTAMP:20260421T204417
CREATED:20250917T175605Z
LAST-MODIFIED:20250917T175605Z
UID:9502-1780185600-1780271999@independencetraining.com
SUMMARY:Advanced Carbine
DESCRIPTION:
URL:https://independencetraining.com/event/advanced-carbine-6/
END:VEVENT
BEGIN:VEVENT
DTSTART;VALUE=DATE:20260601
DTEND;VALUE=DATE:20260602
DTSTAMP:20260421T204417
CREATED:20260302T212256Z
LAST-MODIFIED:20260302T212256Z
UID:10210-1780272000-1780358399@independencetraining.com
SUMMARY:Corporate Medical Training
DESCRIPTION:
URL:https://independencetraining.com/event/corporate-medical-training-236/
END:VEVENT
BEGIN:VEVENT
DTSTART;VALUE=DATE:20260608
DTEND;VALUE=DATE:20260609
DTSTAMP:20260421T204417
CREATED:20260302T212329Z
LAST-MODIFIED:20260302T212329Z
UID:10212-1780876800-1780963199@independencetraining.com
SUMMARY:Corporate Medical Training
DESCRIPTION:
URL:https://independencetraining.com/event/corporate-medical-training-237/
END:VEVENT
BEGIN:VEVENT
DTSTART;VALUE=DATE:20260611
DTEND;VALUE=DATE:20260612
DTSTAMP:20260421T204417
CREATED:20260302T212403Z
LAST-MODIFIED:20260302T212403Z
UID:10214-1781136000-1781222399@independencetraining.com
SUMMARY:Corporate Medical Training
DESCRIPTION:
URL:https://independencetraining.com/event/corporate-medical-training-238/
END:VEVENT
BEGIN:VEVENT
DTSTART;VALUE=DATE:20260613
DTEND;VALUE=DATE:20260614
DTSTAMP:20260421T204417
CREATED:20250917T175658Z
LAST-MODIFIED:20250917T175658Z
UID:9504-1781308800-1781395199@independencetraining.com
SUMMARY:Stop The Bleed
DESCRIPTION:
URL:https://independencetraining.com/event/stop-the-bleed-54/
END:VEVENT
BEGIN:VEVENT
DTSTART;VALUE=DATE:20260615
DTEND;VALUE=DATE:20260616
DTSTAMP:20260421T204417
CREATED:20260302T212438Z
LAST-MODIFIED:20260302T212438Z
UID:10216-1781481600-1781567999@independencetraining.com
SUMMARY:Corporate Medical Training
DESCRIPTION:
URL:https://independencetraining.com/event/corporate-medical-training-239/
END:VEVENT
BEGIN:VEVENT
DTSTART;VALUE=DATE:20260619
DTEND;VALUE=DATE:20260620
DTSTAMP:20260421T204417
CREATED:20260105T191425Z
LAST-MODIFIED:20260105T191425Z
UID:9937-1781827200-1781913599@independencetraining.com
SUMMARY:EDC Combatives
DESCRIPTION:
URL:https://independencetraining.com/event/edc-combatives-23/
END:VEVENT
BEGIN:VEVENT
DTSTART;VALUE=DATE:20260620
DTEND;VALUE=DATE:20260621
DTSTAMP:20260421T204417
CREATED:20250917T175819Z
LAST-MODIFIED:20250917T175819Z
UID:9508-1781913600-1781999999@independencetraining.com
SUMMARY:Basic Handgun / AZ CCW
DESCRIPTION:
URL:https://independencetraining.com/event/basic-handgun-az-ccw-16/
END:VEVENT
BEGIN:VEVENT
DTSTART;VALUE=DATE:20260623
DTEND;VALUE=DATE:20260624
DTSTAMP:20260421T204417
CREATED:20250917T175732Z
LAST-MODIFIED:20250917T175732Z
UID:9506-1782172800-1782259199@independencetraining.com
SUMMARY:Stop The Bleed
DESCRIPTION:
URL:https://independencetraining.com/event/stop-the-bleed-55/
END:VEVENT
BEGIN:VEVENT
DTSTART;VALUE=DATE:20260627
DTEND;VALUE=DATE:20260628
DTSTAMP:20260421T204417
CREATED:20250917T175907Z
LAST-MODIFIED:20250917T175907Z
UID:9510-1782518400-1782604799@independencetraining.com
SUMMARY:Defensive Handgun
DESCRIPTION:
URL:https://independencetraining.com/event/defensive-handgun-16/
END:VEVENT
BEGIN:VEVENT
DTSTART;VALUE=DATE:20260628
DTEND;VALUE=DATE:20260629
DTSTAMP:20260421T204417
CREATED:20250917T175952Z
LAST-MODIFIED:20250917T175952Z
UID:9512-1782604800-1782691199@independencetraining.com
SUMMARY:Advanced Handgun
DESCRIPTION:
URL:https://independencetraining.com/event/advanced-handgun-7/
END:VEVENT
BEGIN:VEVENT
DTSTART;VALUE=DATE:20260704
DTEND;VALUE=DATE:20260705
DTSTAMP:20260421T204417
CREATED:20250917T180329Z
LAST-MODIFIED:20250917T180329Z
UID:9514-1783123200-1783209599@independencetraining.com
SUMMARY:Independence Day Action Rifle Match
DESCRIPTION:
URL:https://independencetraining.com/event/independence-day-action-rifle-match/
END:VEVENT
BEGIN:VEVENT
DTSTART;VALUE=DATE:20260707
DTEND;VALUE=DATE:20260708
DTSTAMP:20260421T204417
CREATED:20260302T212705Z
LAST-MODIFIED:20260302T212705Z
UID:10218-1783382400-1783468799@independencetraining.com
SUMMARY:Corporate Medical Training
DESCRIPTION:
URL:https://independencetraining.com/event/corporate-medical-training-240/
END:VEVENT
BEGIN:VEVENT
DTSTART;VALUE=DATE:20260710
DTEND;VALUE=DATE:20260711
DTSTAMP:20260421T204417
CREATED:20260105T191515Z
LAST-MODIFIED:20260105T191515Z
UID:9939-1783641600-1783727999@independencetraining.com
SUMMARY:EDC Combatives
DESCRIPTION:
URL:https://independencetraining.com/event/edc-combatives-24/
END:VEVENT
BEGIN:VEVENT
DTSTART;VALUE=DATE:20260711
DTEND;VALUE=DATE:20260712
DTSTAMP:20260421T204417
CREATED:20250917T180430Z
LAST-MODIFIED:20250917T180430Z
UID:9516-1783728000-1783814399@independencetraining.com
SUMMARY:Defensive Carbine
DESCRIPTION:
URL:https://independencetraining.com/event/defensive-carbine-14/
END:VEVENT
BEGIN:VEVENT
DTSTART;VALUE=DATE:20260711
DTEND;VALUE=DATE:20260712
DTSTAMP:20260421T204417
CREATED:20250917T180741Z
LAST-MODIFIED:20250917T180741Z
UID:9522-1783728000-1783814399@independencetraining.com
SUMMARY:Stop The Bleed
DESCRIPTION:
URL:https://independencetraining.com/event/stop-the-bleed-56/
END:VEVENT
BEGIN:VEVENT
DTSTART;VALUE=DATE:20260712
DTEND;VALUE=DATE:20260713
DTSTAMP:20260421T204417
CREATED:20250917T180532Z
LAST-MODIFIED:20250917T180532Z
UID:9518-1783814400-1783900799@independencetraining.com
SUMMARY:Advanced Carbine
DESCRIPTION:
URL:https://independencetraining.com/event/advanced-carbine-7/
END:VEVENT
BEGIN:VEVENT
DTSTART;VALUE=DATE:20260713
DTEND;VALUE=DATE:20260716
DTSTAMP:20260421T204417
CREATED:20260302T212806Z
LAST-MODIFIED:20260302T212806Z
UID:10220-1783900800-1784159999@independencetraining.com
SUMMARY:Corporate Medical Training
DESCRIPTION:
URL:https://independencetraining.com/event/corporate-medical-training-241/
END:VEVENT
BEGIN:VEVENT
DTSTART;VALUE=DATE:20260723
DTEND;VALUE=DATE:20260724
DTSTAMP:20260421T204417
CREATED:20260302T212902Z
LAST-MODIFIED:20260302T212902Z
UID:10222-1784764800-1784851199@independencetraining.com
SUMMARY:Corporate Medical Training
DESCRIPTION:
URL:https://independencetraining.com/event/corporate-medical-training-242/
END:VEVENT
BEGIN:VEVENT
DTSTART;VALUE=DATE:20260725
DTEND;VALUE=DATE:20260726
DTSTAMP:20260421T204417
CREATED:20250917T180624Z
LAST-MODIFIED:20250917T180624Z
UID:9520-1784937600-1785023999@independencetraining.com
SUMMARY:IFAK Life Saver
DESCRIPTION:
URL:https://independencetraining.com/event/ifak-life-saver-15/
END:VEVENT
BEGIN:VEVENT
DTSTART;VALUE=DATE:20260728
DTEND;VALUE=DATE:20260729
DTSTAMP:20260421T204417
CREATED:20250917T180818Z
LAST-MODIFIED:20250917T180818Z
UID:9524-1785196800-1785283199@independencetraining.com
SUMMARY:Stop The Bleed
DESCRIPTION:
URL:https://independencetraining.com/event/stop-the-bleed-57/
END:VEVENT
END:VCALENDAR