BEGIN:VCALENDAR
VERSION:2.0
PRODID:-//Independence Training - ECPv6.15.17//NONSGML v1.0//EN
CALSCALE:GREGORIAN
METHOD:PUBLISH
X-WR-CALNAME:Independence Training
X-ORIGINAL-URL:https://independencetraining.com
X-WR-CALDESC:Events for Independence Training
REFRESH-INTERVAL;VALUE=DURATION:PT1H
X-Robots-Tag:noindex
X-PUBLISHED-TTL:PT1H
BEGIN:VTIMEZONE
TZID:America/Denver
BEGIN:DAYLIGHT
TZOFFSETFROM:-0700
TZOFFSETTO:-0600
TZNAME:MDT
DTSTART:20220313T090000
END:DAYLIGHT
BEGIN:STANDARD
TZOFFSETFROM:-0600
TZOFFSETTO:-0700
TZNAME:MST
DTSTART:20221106T080000
END:STANDARD
BEGIN:DAYLIGHT
TZOFFSETFROM:-0700
TZOFFSETTO:-0600
TZNAME:MDT
DTSTART:20230312T090000
END:DAYLIGHT
BEGIN:STANDARD
TZOFFSETFROM:-0600
TZOFFSETTO:-0700
TZNAME:MST
DTSTART:20231105T080000
END:STANDARD
BEGIN:DAYLIGHT
TZOFFSETFROM:-0700
TZOFFSETTO:-0600
TZNAME:MDT
DTSTART:20240310T090000
END:DAYLIGHT
BEGIN:STANDARD
TZOFFSETFROM:-0600
TZOFFSETTO:-0700
TZNAME:MST
DTSTART:20241103T080000
END:STANDARD
BEGIN:DAYLIGHT
TZOFFSETFROM:-0700
TZOFFSETTO:-0600
TZNAME:MDT
DTSTART:20250309T090000
END:DAYLIGHT
BEGIN:STANDARD
TZOFFSETFROM:-0600
TZOFFSETTO:-0700
TZNAME:MST
DTSTART:20251102T080000
END:STANDARD
END:VTIMEZONE
BEGIN:VEVENT
DTSTART;VALUE=DATE:20230822
DTEND;VALUE=DATE:20230823
DTSTAMP:20260423T171616
CREATED:20230627T005003Z
LAST-MODIFIED:20230627T005003Z
UID:5930-1692662400-1692748799@independencetraining.com
SUMMARY:Private Training
DESCRIPTION:
URL:https://independencetraining.com/event/private-training-2/
END:VEVENT
BEGIN:VEVENT
DTSTART;VALUE=DATE:20230821
DTEND;VALUE=DATE:20230822
DTSTAMP:20260423T171616
CREATED:20230504T172320Z
LAST-MODIFIED:20230504T172320Z
UID:5697-1692576000-1692662399@independencetraining.com
SUMMARY:Private Medical Training
DESCRIPTION:
URL:https://independencetraining.com/event/private-medical-training-15/
END:VEVENT
BEGIN:VEVENT
DTSTART;VALUE=DATE:20230814
DTEND;VALUE=DATE:20230819
DTSTAMP:20260423T171616
CREATED:20230420T210917Z
LAST-MODIFIED:20230420T210917Z
UID:5548-1691971200-1692403199@independencetraining.com
SUMMARY:Private Medical Training
DESCRIPTION:
URL:https://independencetraining.com/event/private-medical-training-8/
END:VEVENT
BEGIN:VEVENT
DTSTART;VALUE=DATE:20230814
DTEND;VALUE=DATE:20230815
DTSTAMP:20260423T171616
CREATED:20230504T172253Z
LAST-MODIFIED:20230504T172253Z
UID:5695-1691971200-1692057599@independencetraining.com
SUMMARY:Private Medical Training
DESCRIPTION:
URL:https://independencetraining.com/event/private-medical-training-14/
END:VEVENT
BEGIN:VEVENT
DTSTART;TZID=America/Denver:20230803T000000
DTEND;TZID=America/Denver:20230807T000000
DTSTAMP:20260423T171616
CREATED:20230403T210741Z
LAST-MODIFIED:20230403T210741Z
UID:4874-1691020800-1691366400@independencetraining.com
SUMMARY:Instructor Development
DESCRIPTION:
URL:https://independencetraining.com/event/instructor-development-15/
END:VEVENT
BEGIN:VEVENT
DTSTART;VALUE=DATE:20230731
DTEND;VALUE=DATE:20230804
DTSTAMP:20260423T171616
CREATED:20230420T210643Z
LAST-MODIFIED:20230420T210643Z
UID:5544-1690761600-1691107199@independencetraining.com
SUMMARY:Private Medical Training
DESCRIPTION:
URL:https://independencetraining.com/event/private-medical-training-7/
END:VEVENT
BEGIN:VEVENT
DTSTART;TZID=America/Denver:20230721T180000
DTEND;TZID=America/Denver:20230721T220000
DTSTAMP:20260423T171616
CREATED:20230403T210445Z
LAST-MODIFIED:20230419T210655Z
UID:4478-1689962400-1689976800@independencetraining.com
SUMMARY:Bravo Combatives
DESCRIPTION:Scottsdale\, AZ
URL:https://independencetraining.com/event/bravo-combatives-19/
END:VEVENT
BEGIN:VEVENT
DTSTART;VALUE=DATE:20230717
DTEND;VALUE=DATE:20230722
DTSTAMP:20260423T171616
CREATED:20230420T210613Z
LAST-MODIFIED:20230420T210613Z
UID:5542-1689552000-1689983999@independencetraining.com
SUMMARY:Private Medical Training
DESCRIPTION:
URL:https://independencetraining.com/event/private-medical-training-6/
END:VEVENT
BEGIN:VEVENT
DTSTART;VALUE=DATE:20230714
DTEND;VALUE=DATE:20230715
DTSTAMP:20260423T171616
CREATED:20230502T234428Z
LAST-MODIFIED:20230502T234428Z
UID:5685-1689292800-1689379199@independencetraining.com
SUMMARY:Private Rifle Training
DESCRIPTION:
URL:https://independencetraining.com/event/private-rifle-training-4/
END:VEVENT
BEGIN:VEVENT
DTSTART;VALUE=DATE:20230712
DTEND;VALUE=DATE:20230713
DTSTAMP:20260423T171616
CREATED:20230504T172207Z
LAST-MODIFIED:20230504T172207Z
UID:5693-1689120000-1689206399@independencetraining.com
SUMMARY:Private Medical Training
DESCRIPTION:
URL:https://independencetraining.com/event/private-medical-training-13/
END:VEVENT
BEGIN:VEVENT
DTSTART;VALUE=DATE:20230711
DTEND;VALUE=DATE:20230712
DTSTAMP:20260423T171616
CREATED:20230502T234327Z
LAST-MODIFIED:20230502T234327Z
UID:5681-1689033600-1689119999@independencetraining.com
SUMMARY:Private Training Event
DESCRIPTION:
URL:https://independencetraining.com/event/private-training-event/
END:VEVENT
BEGIN:VEVENT
DTSTART;VALUE=DATE:20230705
DTEND;VALUE=DATE:20230708
DTSTAMP:20260423T171616
CREATED:20230420T210535Z
LAST-MODIFIED:20230420T210535Z
UID:5540-1688515200-1688774399@independencetraining.com
SUMMARY:Private Medical Training
DESCRIPTION:
URL:https://independencetraining.com/event/private-medical-training-5/
END:VEVENT
BEGIN:VEVENT
DTSTART;TZID=America/Denver:20230701T000000
DTEND;TZID=America/Denver:20230702T000000
DTSTAMP:20260423T171616
CREATED:20230403T210830Z
LAST-MODIFIED:20230403T210830Z
UID:4900-1688169600-1688256000@independencetraining.com
SUMMARY:NRL Hunter Match by Josh Reeves
DESCRIPTION:Paulden\, AZ
URL:https://independencetraining.com/event/nrl-hunter-match-by-josh-reeves/
END:VEVENT
BEGIN:VEVENT
DTSTART;VALUE=DATE:20230628
DTEND;VALUE=DATE:20230629
DTSTAMP:20260423T171616
CREATED:20230504T172109Z
LAST-MODIFIED:20230504T172109Z
UID:5691-1687910400-1687996799@independencetraining.com
SUMMARY:Private Medical Training
DESCRIPTION:
URL:https://independencetraining.com/event/private-medical-training-12/
END:VEVENT
BEGIN:VEVENT
DTSTART;VALUE=DATE:20230627
DTEND;VALUE=DATE:20230628
DTSTAMP:20260423T171616
CREATED:20230420T210446Z
LAST-MODIFIED:20230420T210446Z
UID:5538-1687824000-1687910399@independencetraining.com
SUMMARY:Private Firearms Training
DESCRIPTION:
URL:https://independencetraining.com/event/private-firearms-training-2/
END:VEVENT
BEGIN:VEVENT
DTSTART;VALUE=DATE:20230626
DTEND;VALUE=DATE:20230627
DTSTAMP:20260423T171616
CREATED:20230627T004425Z
LAST-MODIFIED:20230627T004445Z
UID:5926-1687737600-1687823999@independencetraining.com
SUMMARY:Private Firearms Training
DESCRIPTION:Phoenix\, AZ
URL:https://independencetraining.com/event/private-fire-arms-training/
END:VEVENT
BEGIN:VEVENT
DTSTART;VALUE=DATE:20230626
DTEND;VALUE=DATE:20230627
DTSTAMP:20260423T171616
CREATED:20230627T003509Z
LAST-MODIFIED:20230627T003509Z
UID:5924-1687737600-1687823999@independencetraining.com
SUMMARY:Private Firearms
DESCRIPTION:Phoenix\, AZ
URL:https://independencetraining.com/event/private-firearms/
END:VEVENT
BEGIN:VEVENT
DTSTART;VALUE=DATE:20230626
DTEND;VALUE=DATE:20230627
DTSTAMP:20260423T171616
CREATED:20230504T172034Z
LAST-MODIFIED:20230504T172034Z
UID:5689-1687737600-1687823999@independencetraining.com
SUMMARY:Private Medical Training
DESCRIPTION:
URL:https://independencetraining.com/event/private-medical-training-11/
END:VEVENT
BEGIN:VEVENT
DTSTART;VALUE=DATE:20240210
DTEND;VALUE=DATE:20240211
DTSTAMP:20260423T171616
CREATED:20230403T210801Z
LAST-MODIFIED:20231130T204200Z
UID:4893-1707523200-1707609599@independencetraining.com
SUMMARY:Tac Hub: Armed Structural Movement Handgun
DESCRIPTION:Phoenix\, AZ
URL:https://independencetraining.com/event/tac-hub-armed-structural-movement-handgun/
END:VEVENT
BEGIN:VEVENT
DTSTART;VALUE=DATE:20230624
DTEND;VALUE=DATE:20230625
DTSTAMP:20260423T171616
CREATED:20230403T210801Z
LAST-MODIFIED:20230420T210405Z
UID:4895-1687564800-1687651199@independencetraining.com
SUMMARY:Private Medical Training
DESCRIPTION:
URL:https://independencetraining.com/event/private-medical-training-40/
END:VEVENT
BEGIN:VEVENT
DTSTART;VALUE=DATE:20230622
DTEND;VALUE=DATE:20230624
DTSTAMP:20260423T171616
CREATED:20230420T210327Z
LAST-MODIFIED:20230420T210327Z
UID:5535-1687392000-1687564799@independencetraining.com
SUMMARY:Private Medical Training
DESCRIPTION:
URL:https://independencetraining.com/event/private-medical-training-4/
END:VEVENT
BEGIN:VEVENT
DTSTART;VALUE=DATE:20230620
DTEND;VALUE=DATE:20230622
DTSTAMP:20260423T171616
CREATED:20230403T210746Z
LAST-MODIFIED:20230420T210234Z
UID:4882-1687219200-1687391999@independencetraining.com
SUMMARY:Private Medical Training
DESCRIPTION:
URL:https://independencetraining.com/event/private-medical-training-38/
END:VEVENT
BEGIN:VEVENT
DTSTART;TZID=America/Denver:20230616T180000
DTEND;TZID=America/Denver:20230616T220000
DTSTAMP:20260423T171616
CREATED:20230403T210445Z
LAST-MODIFIED:20230604T195631Z
UID:4477-1686938400-1686952800@independencetraining.com
SUMMARY:Bravo Combatives
DESCRIPTION:Scottsdale\, AZ
URL:https://independencetraining.com/event/bravo-combatives-18/
END:VEVENT
BEGIN:VEVENT
DTSTART;VALUE=DATE:20230616
DTEND;VALUE=DATE:20230617
DTSTAMP:20260423T171616
CREATED:20230502T234403Z
LAST-MODIFIED:20230502T234403Z
UID:5683-1686873600-1686959999@independencetraining.com
SUMMARY:Private Handgun Training
DESCRIPTION:
URL:https://independencetraining.com/event/private-handgun-training-2/
END:VEVENT
BEGIN:VEVENT
DTSTART;VALUE=DATE:20230615
DTEND;VALUE=DATE:20230616
DTSTAMP:20260423T171616
CREATED:20230403T210452Z
LAST-MODIFIED:20230420T210210Z
UID:4488-1686787200-1686873599@independencetraining.com
SUMMARY:Private Firearms Training
DESCRIPTION:
URL:https://independencetraining.com/event/private-firearms-training-51/
END:VEVENT
BEGIN:VEVENT
DTSTART;VALUE=DATE:20230613
DTEND;VALUE=DATE:20230615
DTSTAMP:20260423T171616
CREATED:20230403T210746Z
LAST-MODIFIED:20230420T210145Z
UID:4886-1686614400-1686787199@independencetraining.com
SUMMARY:Private Medical Training
DESCRIPTION:
URL:https://independencetraining.com/event/private-medical-training-39/
END:VEVENT
BEGIN:VEVENT
DTSTART;VALUE=DATE:20230609
DTEND;VALUE=DATE:20230610
DTSTAMP:20260423T171616
CREATED:20230420T205911Z
LAST-MODIFIED:20230504T172553Z
UID:5527-1686268800-1686355199@independencetraining.com
SUMMARY:Private Firearms Training
DESCRIPTION:
URL:https://independencetraining.com/event/private-firearms-training/
END:VEVENT
BEGIN:VEVENT
DTSTART;VALUE=DATE:20230606
DTEND;VALUE=DATE:20230608
DTSTAMP:20260423T171616
CREATED:20230403T210742Z
LAST-MODIFIED:20230420T212312Z
UID:4880-1686009600-1686182399@independencetraining.com
SUMMARY:Private Medical Training
DESCRIPTION:
URL:https://independencetraining.com/event/private-medical-training-36/
END:VEVENT
BEGIN:VEVENT
DTSTART;TZID=America/Denver:20230602T000000
DTEND;TZID=America/Denver:20230609T000000
DTSTAMP:20260423T171616
CREATED:20230403T210439Z
LAST-MODIFIED:20230403T210439Z
UID:4456-1685664000-1686268800@independencetraining.com
SUMMARY:Private Firearms Training
DESCRIPTION:Zimmerman\, MN
URL:https://independencetraining.com/event/private-firearms-training-45/
END:VEVENT
BEGIN:VEVENT
DTSTART;VALUE=DATE:20230529
DTEND;VALUE=DATE:20230602
DTSTAMP:20260423T171616
CREATED:20230420T210030Z
LAST-MODIFIED:20230420T210030Z
UID:5531-1685318400-1685663999@independencetraining.com
SUMMARY:Instructor Development
DESCRIPTION:
URL:https://independencetraining.com/event/instructor-development/
END:VEVENT
END:VCALENDAR