BEGIN:VCALENDAR
VERSION:2.0
PRODID:-//Independence Training - ECPv6.15.17//NONSGML v1.0//EN
CALSCALE:GREGORIAN
METHOD:PUBLISH
X-WR-CALNAME:Independence Training
X-ORIGINAL-URL:https://independencetraining.com
X-WR-CALDESC:Events for Independence Training
REFRESH-INTERVAL;VALUE=DURATION:PT1H
X-Robots-Tag:noindex
X-PUBLISHED-TTL:PT1H
BEGIN:VTIMEZONE
TZID:America/Denver
BEGIN:DAYLIGHT
TZOFFSETFROM:-0700
TZOFFSETTO:-0600
TZNAME:MDT
DTSTART:20230312T090000
END:DAYLIGHT
BEGIN:STANDARD
TZOFFSETFROM:-0600
TZOFFSETTO:-0700
TZNAME:MST
DTSTART:20231105T080000
END:STANDARD
BEGIN:DAYLIGHT
TZOFFSETFROM:-0700
TZOFFSETTO:-0600
TZNAME:MDT
DTSTART:20240310T090000
END:DAYLIGHT
BEGIN:STANDARD
TZOFFSETFROM:-0600
TZOFFSETTO:-0700
TZNAME:MST
DTSTART:20241103T080000
END:STANDARD
BEGIN:DAYLIGHT
TZOFFSETFROM:-0700
TZOFFSETTO:-0600
TZNAME:MDT
DTSTART:20250309T090000
END:DAYLIGHT
BEGIN:STANDARD
TZOFFSETFROM:-0600
TZOFFSETTO:-0700
TZNAME:MST
DTSTART:20251102T080000
END:STANDARD
END:VTIMEZONE
BEGIN:VEVENT
DTSTART;VALUE=DATE:20240418
DTEND;VALUE=DATE:20240419
DTSTAMP:20260423T054044
CREATED:20240401T200125Z
LAST-MODIFIED:20240401T200125Z
UID:7057-1713398400-1713484799@independencetraining.com
SUMMARY:Private Firearms Training
DESCRIPTION:
URL:https://independencetraining.com/event/private-firearms-training-22/
END:VEVENT
BEGIN:VEVENT
DTSTART;VALUE=DATE:20240417
DTEND;VALUE=DATE:20240418
DTSTAMP:20260423T054044
CREATED:20240401T200044Z
LAST-MODIFIED:20240401T200044Z
UID:7055-1713312000-1713398399@independencetraining.com
SUMMARY:Corporate Medical Training
DESCRIPTION:
URL:https://independencetraining.com/event/corporate-medical-training-43/
END:VEVENT
BEGIN:VEVENT
DTSTART;VALUE=DATE:20240416
DTEND;VALUE=DATE:20240417
DTSTAMP:20260423T054044
CREATED:20240401T195957Z
LAST-MODIFIED:20240401T195957Z
UID:7053-1713225600-1713311999@independencetraining.com
SUMMARY:Corporate Medical Training
DESCRIPTION:
URL:https://independencetraining.com/event/corporate-medical-training-42/
END:VEVENT
BEGIN:VEVENT
DTSTART;VALUE=DATE:20240414
DTEND;VALUE=DATE:20240415
DTSTAMP:20260423T054044
CREATED:20230403T210458Z
LAST-MODIFIED:20240129T223626Z
UID:4501-1713052800-1713139199@independencetraining.com
SUMMARY:Basic Handgun / AZ CCW
DESCRIPTION:Phoenix\, AZ
URL:https://independencetraining.com/event/basic-handgun-az-ccw-5/
END:VEVENT
BEGIN:VEVENT
DTSTART;VALUE=DATE:20240413
DTEND;VALUE=DATE:20240414
DTSTAMP:20260423T054044
CREATED:20230526T222358Z
LAST-MODIFIED:20240129T223954Z
UID:5763-1712966400-1713052799@independencetraining.com
SUMMARY:Invasive Trauma Interventions
DESCRIPTION:Tempe\, AZ
URL:https://independencetraining.com/event/invasive-trauma-interventions/
END:VEVENT
BEGIN:VEVENT
DTSTART;VALUE=DATE:20240413
DTEND;VALUE=DATE:20240414
DTSTAMP:20260423T054044
CREATED:20230420T183837Z
LAST-MODIFIED:20240129T223744Z
UID:5489-1712966400-1713052799@independencetraining.com
SUMMARY:Stop The Bleed
DESCRIPTION:Mesa\, AZ
URL:https://independencetraining.com/event/stop-the-bleed-3/
END:VEVENT
BEGIN:VEVENT
DTSTART;VALUE=DATE:20240412
DTEND;VALUE=DATE:20240413
DTSTAMP:20260423T054044
CREATED:20240401T195904Z
LAST-MODIFIED:20240401T195904Z
UID:7051-1712880000-1712966399@independencetraining.com
SUMMARY:Private Firearms Training
DESCRIPTION:
URL:https://independencetraining.com/event/private-firearms-training-21/
END:VEVENT
BEGIN:VEVENT
DTSTART;VALUE=DATE:20240411
DTEND;VALUE=DATE:20240412
DTSTAMP:20260423T054044
CREATED:20240401T195825Z
LAST-MODIFIED:20240401T195825Z
UID:7049-1712793600-1712879999@independencetraining.com
SUMMARY:Private Firearms Training
DESCRIPTION:
URL:https://independencetraining.com/event/private-firearms-training-20/
END:VEVENT
BEGIN:VEVENT
DTSTART;VALUE=DATE:20240411
DTEND;VALUE=DATE:20240412
DTSTAMP:20260423T054044
CREATED:20240213T225858Z
LAST-MODIFIED:20240213T225858Z
UID:6879-1712793600-1712879999@independencetraining.com
SUMMARY:Corporate Medical Training
DESCRIPTION:
URL:https://independencetraining.com/event/corporate-medical-training-28/
END:VEVENT
BEGIN:VEVENT
DTSTART;VALUE=DATE:20240410
DTEND;VALUE=DATE:20240411
DTSTAMP:20260423T054044
CREATED:20240213T225807Z
LAST-MODIFIED:20240213T225807Z
UID:6877-1712707200-1712793599@independencetraining.com
SUMMARY:Corporate Medical Medical Training
DESCRIPTION:
URL:https://independencetraining.com/event/corporate-medical-medical-training/
END:VEVENT
BEGIN:VEVENT
DTSTART;VALUE=DATE:20240409
DTEND;VALUE=DATE:20240410
DTSTAMP:20260423T054044
CREATED:20240213T225729Z
LAST-MODIFIED:20240213T225729Z
UID:6875-1712620800-1712707199@independencetraining.com
SUMMARY:Corporate Medical Training
DESCRIPTION:
URL:https://independencetraining.com/event/corporate-medical-training-27/
END:VEVENT
BEGIN:VEVENT
DTSTART;VALUE=DATE:20240408
DTEND;VALUE=DATE:20240409
DTSTAMP:20260423T054044
CREATED:20240401T195728Z
LAST-MODIFIED:20240401T195728Z
UID:7047-1712534400-1712620799@independencetraining.com
SUMMARY:Corporate Medical Training
DESCRIPTION:
URL:https://independencetraining.com/event/corporate-medical-training-41/
END:VEVENT
BEGIN:VEVENT
DTSTART;VALUE=DATE:20240407
DTEND;VALUE=DATE:20240408
DTSTAMP:20260423T054044
CREATED:20231022T195433Z
LAST-MODIFIED:20240129T224019Z
UID:6314-1712448000-1712534399@independencetraining.com
SUMMARY:Defensive Carbine
DESCRIPTION:Phoenix\, AZ
URL:https://independencetraining.com/event/defensive-carbine/
END:VEVENT
BEGIN:VEVENT
DTSTART;VALUE=DATE:20240406
DTEND;VALUE=DATE:20240407
DTSTAMP:20260423T054044
CREATED:20231130T204313Z
LAST-MODIFIED:20231130T204313Z
UID:6520-1712361600-1712447999@independencetraining.com
SUMMARY:TAC HUB: Concealed Carry Concepts
DESCRIPTION:Phoenix\, AZ
URL:https://independencetraining.com/event/tac-hub-concealed-carry-concepts/
END:VEVENT
BEGIN:VEVENT
DTSTART;VALUE=DATE:20240405
DTEND;VALUE=DATE:20240406
DTSTAMP:20260423T054044
CREATED:20240401T192512Z
LAST-MODIFIED:20240401T192512Z
UID:7044-1712275200-1712361599@independencetraining.com
SUMMARY:Private Firearms Training
DESCRIPTION:
URL:https://independencetraining.com/event/private-firearms-training-19/
END:VEVENT
BEGIN:VEVENT
DTSTART;VALUE=DATE:20240401
DTEND;VALUE=DATE:20240402
DTSTAMP:20260423T054044
CREATED:20240401T192410Z
LAST-MODIFIED:20240401T192410Z
UID:7042-1711929600-1712015999@independencetraining.com
SUMMARY:Corporate Medical Training
DESCRIPTION:
URL:https://independencetraining.com/event/corporate-medical-training-40/
END:VEVENT
BEGIN:VEVENT
DTSTART;VALUE=DATE:20240328
DTEND;VALUE=DATE:20240330
DTSTAMP:20260423T054044
CREATED:20240213T225447Z
LAST-MODIFIED:20240213T225447Z
UID:6870-1711584000-1711756799@independencetraining.com
SUMMARY:Private Corporate Training
DESCRIPTION:
URL:https://independencetraining.com/event/private-corporate-training-2/
END:VEVENT
BEGIN:VEVENT
DTSTART;VALUE=DATE:20240326
DTEND;VALUE=DATE:20240327
DTSTAMP:20260423T054044
CREATED:20240112T170336Z
LAST-MODIFIED:20240130T030237Z
UID:6769-1711411200-1711497599@independencetraining.com
SUMMARY:Corporate Medical Training
DESCRIPTION:
URL:https://independencetraining.com/event/corporate-medical-training-18/
END:VEVENT
BEGIN:VEVENT
DTSTART;VALUE=DATE:20240325
DTEND;VALUE=DATE:20240328
DTSTAMP:20260423T054044
CREATED:20240213T225350Z
LAST-MODIFIED:20240213T225350Z
UID:6868-1711324800-1711583999@independencetraining.com
SUMMARY:Corporate Medical Training
DESCRIPTION:
URL:https://independencetraining.com/event/corporate-medical-training-26/
END:VEVENT
BEGIN:VEVENT
DTSTART;VALUE=DATE:20240325
DTEND;VALUE=DATE:20240326
DTSTAMP:20260423T054044
CREATED:20240213T225316Z
LAST-MODIFIED:20240213T225316Z
UID:6866-1711324800-1711411199@independencetraining.com
SUMMARY:Corporate Medical Training
DESCRIPTION:
URL:https://independencetraining.com/event/corporate-medical-training-25/
END:VEVENT
BEGIN:VEVENT
DTSTART;VALUE=DATE:20240322
DTEND;VALUE=DATE:20240325
DTSTAMP:20260423T054044
CREATED:20240115T200254Z
LAST-MODIFIED:20240115T200254Z
UID:6782-1711065600-1711324799@independencetraining.com
SUMMARY:Precision Rifle
DESCRIPTION:
URL:https://independencetraining.com/event/precision-rifle-2/
END:VEVENT
BEGIN:VEVENT
DTSTART;VALUE=DATE:20240321
DTEND;VALUE=DATE:20240322
DTSTAMP:20260423T054044
CREATED:20240213T225237Z
LAST-MODIFIED:20240213T225237Z
UID:6864-1710979200-1711065599@independencetraining.com
SUMMARY:Corporate Medical Training
DESCRIPTION:
URL:https://independencetraining.com/event/corporate-medical-training-24/
END:VEVENT
BEGIN:VEVENT
DTSTART;VALUE=DATE:20240317
DTEND;VALUE=DATE:20240318
DTSTAMP:20260423T054044
CREATED:20230403T210421Z
LAST-MODIFIED:20240129T224059Z
UID:4422-1710633600-1710719999@independencetraining.com
SUMMARY:Defensive Handgun
DESCRIPTION:Phoenix\, AZ
URL:https://independencetraining.com/event/defensive-handgun-6/
END:VEVENT
BEGIN:VEVENT
DTSTART;VALUE=DATE:20240314
DTEND;VALUE=DATE:20240315
DTSTAMP:20260423T054044
CREATED:20240112T170152Z
LAST-MODIFIED:20240130T030314Z
UID:6767-1710374400-1710460799@independencetraining.com
SUMMARY:Corporate Medical Training
DESCRIPTION:
URL:https://independencetraining.com/event/corporate-medical-training-17/
END:VEVENT
BEGIN:VEVENT
DTSTART;VALUE=DATE:20240311
DTEND;VALUE=DATE:20240315
DTSTAMP:20260423T054044
CREATED:20240213T225159Z
LAST-MODIFIED:20240213T225159Z
UID:6862-1710115200-1710460799@independencetraining.com
SUMMARY:Corporate Medical Training
DESCRIPTION:
URL:https://independencetraining.com/event/corporate-medical-training-23/
END:VEVENT
BEGIN:VEVENT
DTSTART;VALUE=DATE:20240310
DTEND;VALUE=DATE:20240311
DTSTAMP:20260423T054044
CREATED:20231130T203843Z
LAST-MODIFIED:20240129T224124Z
UID:6517-1710028800-1710115199@independencetraining.com
SUMMARY:Ladies Only Basic Handgun / AZ CCW
DESCRIPTION:Phoenix\, AZ
URL:https://independencetraining.com/event/ladies-only-basic-handgun-az-ccw/
END:VEVENT
BEGIN:VEVENT
DTSTART;VALUE=DATE:20240309
DTEND;VALUE=DATE:20240310
DTSTAMP:20260423T054044
CREATED:20240213T225537Z
LAST-MODIFIED:20240213T225537Z
UID:6872-1709942400-1710028799@independencetraining.com
SUMMARY:Private Medical Training
DESCRIPTION:
URL:https://independencetraining.com/event/private-medical-training-20/
END:VEVENT
BEGIN:VEVENT
DTSTART;VALUE=DATE:20240309
DTEND;VALUE=DATE:20240310
DTSTAMP:20260423T054044
CREATED:20230403T210439Z
LAST-MODIFIED:20240129T224640Z
UID:4454-1709942400-1710028799@independencetraining.com
SUMMARY:K9 First Aid
DESCRIPTION:Scottsdale\, AZ
URL:https://independencetraining.com/event/k9-first-aid-2/
END:VEVENT
BEGIN:VEVENT
DTSTART;VALUE=DATE:20240309
DTEND;VALUE=DATE:20240310
DTSTAMP:20260423T054044
CREATED:20230420T183800Z
LAST-MODIFIED:20240129T224802Z
UID:5487-1709942400-1710028799@independencetraining.com
SUMMARY:Stop The Bleed
DESCRIPTION:
URL:https://independencetraining.com/event/stop-the-bleed-2/
END:VEVENT
BEGIN:VEVENT
DTSTART;VALUE=DATE:20240308
DTEND;VALUE=DATE:20240309
DTSTAMP:20260423T054044
CREATED:20240219T203410Z
LAST-MODIFIED:20240219T203410Z
UID:6908-1709856000-1709942399@independencetraining.com
SUMMARY:Private Medical Training
DESCRIPTION:
URL:https://independencetraining.com/event/private-medical-training-21/
END:VEVENT
END:VCALENDAR