BEGIN:VCALENDAR
VERSION:2.0
PRODID:-//Independence Training - ECPv6.15.17//NONSGML v1.0//EN
CALSCALE:GREGORIAN
METHOD:PUBLISH
X-WR-CALNAME:Independence Training
X-ORIGINAL-URL:https://independencetraining.com
X-WR-CALDESC:Events for Independence Training
REFRESH-INTERVAL;VALUE=DURATION:PT1H
X-Robots-Tag:noindex
X-PUBLISHED-TTL:PT1H
BEGIN:VTIMEZONE
TZID:America/Denver
BEGIN:DAYLIGHT
TZOFFSETFROM:-0700
TZOFFSETTO:-0600
TZNAME:MDT
DTSTART:20240310T090000
END:DAYLIGHT
BEGIN:STANDARD
TZOFFSETFROM:-0600
TZOFFSETTO:-0700
TZNAME:MST
DTSTART:20241103T080000
END:STANDARD
BEGIN:DAYLIGHT
TZOFFSETFROM:-0700
TZOFFSETTO:-0600
TZNAME:MDT
DTSTART:20250309T090000
END:DAYLIGHT
BEGIN:STANDARD
TZOFFSETFROM:-0600
TZOFFSETTO:-0700
TZNAME:MST
DTSTART:20251102T080000
END:STANDARD
BEGIN:DAYLIGHT
TZOFFSETFROM:-0700
TZOFFSETTO:-0600
TZNAME:MDT
DTSTART:20260308T090000
END:DAYLIGHT
BEGIN:STANDARD
TZOFFSETFROM:-0600
TZOFFSETTO:-0700
TZNAME:MST
DTSTART:20261101T080000
END:STANDARD
END:VTIMEZONE
BEGIN:VEVENT
DTSTART;VALUE=DATE:20250510
DTEND;VALUE=DATE:20250511
DTSTAMP:20260422T175635
CREATED:20241119T222950Z
LAST-MODIFIED:20241119T222950Z
UID:8037-1746835200-1746921599@independencetraining.com
SUMMARY:Stop The Bleed
DESCRIPTION:
URL:https://independencetraining.com/event/stop-the-bleed-27/
END:VEVENT
BEGIN:VEVENT
DTSTART;VALUE=DATE:20250513
DTEND;VALUE=DATE:20250514
DTSTAMP:20260422T175635
CREATED:20250325T230422Z
LAST-MODIFIED:20250325T230422Z
UID:8666-1747094400-1747180799@independencetraining.com
SUMMARY:Corporate Medical Training
DESCRIPTION:
URL:https://independencetraining.com/event/corporate-medical-training-120/
END:VEVENT
BEGIN:VEVENT
DTSTART;VALUE=DATE:20250514
DTEND;VALUE=DATE:20250515
DTSTAMP:20260422T175635
CREATED:20250325T230541Z
LAST-MODIFIED:20250325T230541Z
UID:8670-1747180800-1747267199@independencetraining.com
SUMMARY:Corporate Medical Training
DESCRIPTION:
URL:https://independencetraining.com/event/corporate-medical-training-121/
END:VEVENT
BEGIN:VEVENT
DTSTART;VALUE=DATE:20250515
DTEND;VALUE=DATE:20250516
DTSTAMP:20260422T175635
CREATED:20250325T230737Z
LAST-MODIFIED:20250325T230737Z
UID:8672-1747267200-1747353599@independencetraining.com
SUMMARY:Corporate Medical Training
DESCRIPTION:
URL:https://independencetraining.com/event/corporate-medical-training-122/
END:VEVENT
BEGIN:VEVENT
DTSTART;VALUE=DATE:20250516
DTEND;VALUE=DATE:20250517
DTSTAMP:20260422T175635
CREATED:20240112T164353Z
LAST-MODIFIED:20250414T194938Z
UID:6749-1747353600-1747439999@independencetraining.com
SUMMARY:Practical Shotgun - Zimmerman\, MN
DESCRIPTION:
URL:https://independencetraining.com/event/practical-shotgun-zimmerman-mn/
END:VEVENT
BEGIN:VEVENT
DTSTART;VALUE=DATE:20250516
DTEND;VALUE=DATE:20250517
DTSTAMP:20260422T175635
CREATED:20250106T190059Z
LAST-MODIFIED:20250106T190059Z
UID:8338-1747353600-1747439999@independencetraining.com
SUMMARY:EDC Combatives
DESCRIPTION:
URL:https://independencetraining.com/event/edc-combatives-10/
END:VEVENT
BEGIN:VEVENT
DTSTART;VALUE=DATE:20250517
DTEND;VALUE=DATE:20250518
DTSTAMP:20260422T175635
CREATED:20240112T164138Z
LAST-MODIFIED:20250414T195131Z
UID:6745-1747440000-1747526399@independencetraining.com
SUMMARY:Defensive Carbine - Zimmerman\, MN
DESCRIPTION:
URL:https://independencetraining.com/event/defensive-carbine-zimmerman-mn/
END:VEVENT
BEGIN:VEVENT
DTSTART;VALUE=DATE:20250517
DTEND;VALUE=DATE:20250518
DTSTAMP:20260422T175635
CREATED:20241119T225641Z
LAST-MODIFIED:20241119T225641Z
UID:8101-1747440000-1747526399@independencetraining.com
SUMMARY:Defensive Handgun
DESCRIPTION:
URL:https://independencetraining.com/event/defensive-handgun-10/
END:VEVENT
BEGIN:VEVENT
DTSTART;VALUE=DATE:20250518
DTEND;VALUE=DATE:20250519
DTSTAMP:20260422T175635
CREATED:20241119T225248Z
LAST-MODIFIED:20241119T225248Z
UID:8091-1747526400-1747612799@independencetraining.com
SUMMARY:IFAK Life Saver
DESCRIPTION:
URL:https://independencetraining.com/event/ifak-life-saver-2/
END:VEVENT
BEGIN:VEVENT
DTSTART;VALUE=DATE:20250518
DTEND;VALUE=DATE:20250519
DTSTAMP:20260422T175635
CREATED:20250325T213223Z
LAST-MODIFIED:20250414T195031Z
UID:8643-1747526400-1747612799@independencetraining.com
SUMMARY:IFAK Life Saver - Zimmerman\, MN
DESCRIPTION:
URL:https://independencetraining.com/event/ifak-life-saver-zimmerman-mn/
END:VEVENT
BEGIN:VEVENT
DTSTART;VALUE=DATE:20250520
DTEND;VALUE=DATE:20250521
DTSTAMP:20260422T175635
CREATED:20250414T195345Z
LAST-MODIFIED:20250414T195345Z
UID:8721-1747699200-1747785599@independencetraining.com
SUMMARY:Corporate Medical Training
DESCRIPTION:
URL:https://independencetraining.com/event/corporate-medical-training-127/
END:VEVENT
BEGIN:VEVENT
DTSTART;VALUE=DATE:20250520
DTEND;VALUE=DATE:20250524
DTSTAMP:20260422T175635
CREATED:20250325T230814Z
LAST-MODIFIED:20250325T230814Z
UID:8674-1747699200-1748044799@independencetraining.com
SUMMARY:Corporate Training
DESCRIPTION:
URL:https://independencetraining.com/event/corporate-training-7/
END:VEVENT
BEGIN:VEVENT
DTSTART;VALUE=DATE:20250521
DTEND;VALUE=DATE:20250522
DTSTAMP:20260422T175635
CREATED:20250414T195752Z
LAST-MODIFIED:20250414T195752Z
UID:8723-1747785600-1747871999@independencetraining.com
SUMMARY:Corporate Medical Training
DESCRIPTION:
URL:https://independencetraining.com/event/corporate-medical-training-128/
END:VEVENT
BEGIN:VEVENT
DTSTART;VALUE=DATE:20250522
DTEND;VALUE=DATE:20250523
DTSTAMP:20260422T175635
CREATED:20250414T195824Z
LAST-MODIFIED:20250414T195824Z
UID:8725-1747872000-1747958399@independencetraining.com
SUMMARY:Corporate Medical Training
DESCRIPTION:
URL:https://independencetraining.com/event/corporate-medical-training-129/
END:VEVENT
BEGIN:VEVENT
DTSTART;VALUE=DATE:20250525
DTEND;VALUE=DATE:20250526
DTSTAMP:20260422T175635
CREATED:20250308T224308Z
LAST-MODIFIED:20250308T224308Z
UID:8576-1748131200-1748217599@independencetraining.com
SUMMARY:Ladies Practical Handgun
DESCRIPTION:
URL:https://independencetraining.com/event/ladies-practical-handgun/
END:VEVENT
BEGIN:VEVENT
DTSTART;VALUE=DATE:20250527
DTEND;VALUE=DATE:20250528
DTSTAMP:20260422T175635
CREATED:20241119T223020Z
LAST-MODIFIED:20241119T223020Z
UID:8039-1748304000-1748390399@independencetraining.com
SUMMARY:Stop The Bleed
DESCRIPTION:
URL:https://independencetraining.com/event/stop-the-bleed-28/
END:VEVENT
BEGIN:VEVENT
DTSTART;VALUE=DATE:20250529
DTEND;VALUE=DATE:20250530
DTSTAMP:20260422T175635
CREATED:20250325T230905Z
LAST-MODIFIED:20250325T230905Z
UID:8676-1748476800-1748563199@independencetraining.com
SUMMARY:Corporate Medical Training
DESCRIPTION:
URL:https://independencetraining.com/event/corporate-medical-training-123/
END:VEVENT
BEGIN:VEVENT
DTSTART;VALUE=DATE:20250613
DTEND;VALUE=DATE:20250614
DTSTAMP:20260422T175635
CREATED:20250106T190132Z
LAST-MODIFIED:20250106T190132Z
UID:8340-1749772800-1749859199@independencetraining.com
SUMMARY:EDC Combatives
DESCRIPTION:
URL:https://independencetraining.com/event/edc-combatives-11/
END:VEVENT
BEGIN:VEVENT
DTSTART;VALUE=DATE:20250614
DTEND;VALUE=DATE:20250615
DTSTAMP:20260422T175635
CREATED:20241119T223056Z
LAST-MODIFIED:20241119T223056Z
UID:8041-1749859200-1749945599@independencetraining.com
SUMMARY:Stop The Bleed
DESCRIPTION:
URL:https://independencetraining.com/event/stop-the-bleed-29/
END:VEVENT
BEGIN:VEVENT
DTSTART;VALUE=DATE:20250614
DTEND;VALUE=DATE:20250615
DTSTAMP:20260422T175635
CREATED:20241119T224315Z
LAST-MODIFIED:20241119T224315Z
UID:8075-1749859200-1749945599@independencetraining.com
SUMMARY:Basic Handgun / AZ CCW
DESCRIPTION:
URL:https://independencetraining.com/event/basic-handgun-az-ccw-8/
END:VEVENT
BEGIN:VEVENT
DTSTART;VALUE=DATE:20250624
DTEND;VALUE=DATE:20250625
DTSTAMP:20260422T175635
CREATED:20241119T223126Z
LAST-MODIFIED:20241119T223126Z
UID:8043-1750723200-1750809599@independencetraining.com
SUMMARY:Stop The Bleed
DESCRIPTION:
URL:https://independencetraining.com/event/stop-the-bleed-30/
END:VEVENT
BEGIN:VEVENT
DTSTART;VALUE=DATE:20250628
DTEND;VALUE=DATE:20250629
DTSTAMP:20260422T175635
CREATED:20241119T230444Z
LAST-MODIFIED:20241119T230444Z
UID:8117-1751068800-1751155199@independencetraining.com
SUMMARY:Defensive Carbine
DESCRIPTION:
URL:https://independencetraining.com/event/defensive-carbine-8/
END:VEVENT
BEGIN:VEVENT
DTSTART;VALUE=DATE:20250629
DTEND;VALUE=DATE:20250630
DTSTAMP:20260422T175635
CREATED:20241119T231731Z
LAST-MODIFIED:20241119T231731Z
UID:8142-1751155200-1751241599@independencetraining.com
SUMMARY:Advanced Carbine
DESCRIPTION:
URL:https://independencetraining.com/event/advanced-carbine-2/
END:VEVENT
BEGIN:VEVENT
DTSTART;VALUE=DATE:20250701
DTEND;VALUE=DATE:20250702
DTSTAMP:20260422T175635
CREATED:20250308T224659Z
LAST-MODIFIED:20250308T224659Z
UID:8586-1751328000-1751414399@independencetraining.com
SUMMARY:Ladies AR-15 101
DESCRIPTION:
URL:https://independencetraining.com/event/ladies-ar-15-101-4/
END:VEVENT
BEGIN:VEVENT
DTSTART;VALUE=DATE:20250704
DTEND;VALUE=DATE:20250705
DTSTAMP:20260422T175635
CREATED:20240708T225618Z
LAST-MODIFIED:20240708T225619Z
UID:7482-1751587200-1751673599@independencetraining.com
SUMMARY:Independence Day Action Rifle Match 2025
DESCRIPTION:
URL:https://independencetraining.com/event/independence-day-action-rifle-match-2025/
END:VEVENT
BEGIN:VEVENT
DTSTART;VALUE=DATE:20250708
DTEND;VALUE=DATE:20250709
DTSTAMP:20260422T175635
CREATED:20250718T211012Z
LAST-MODIFIED:20250718T211012Z
UID:9051-1751932800-1752019199@independencetraining.com
SUMMARY:Corporate Medical Training
DESCRIPTION:
URL:https://independencetraining.com/event/corporate-medical-training-130/
END:VEVENT
BEGIN:VEVENT
DTSTART;VALUE=DATE:20250708
DTEND;VALUE=DATE:20250709
DTSTAMP:20260422T175635
CREATED:20250718T211052Z
LAST-MODIFIED:20250718T211052Z
UID:9053-1751932800-1752019199@independencetraining.com
SUMMARY:Private Firearms Training
DESCRIPTION:
URL:https://independencetraining.com/event/private-firearms-training-43/
END:VEVENT
BEGIN:VEVENT
DTSTART;VALUE=DATE:20250710
DTEND;VALUE=DATE:20250711
DTSTAMP:20260422T175635
CREATED:20250718T211133Z
LAST-MODIFIED:20250718T211133Z
UID:9055-1752105600-1752191999@independencetraining.com
SUMMARY:Corporate Medical Training
DESCRIPTION:
URL:https://independencetraining.com/event/corporate-medical-training-131/
END:VEVENT
BEGIN:VEVENT
DTSTART;VALUE=DATE:20250711
DTEND;VALUE=DATE:20250712
DTSTAMP:20260422T175635
CREATED:20250718T211220Z
LAST-MODIFIED:20250718T211220Z
UID:9057-1752192000-1752278399@independencetraining.com
SUMMARY:Private Firearms Training
DESCRIPTION:
URL:https://independencetraining.com/event/private-firearms-training-44/
END:VEVENT
BEGIN:VEVENT
DTSTART;VALUE=DATE:20250712
DTEND;VALUE=DATE:20250713
DTSTAMP:20260422T175635
CREATED:20241119T223315Z
LAST-MODIFIED:20241119T223315Z
UID:8045-1752278400-1752364799@independencetraining.com
SUMMARY:Stop The Bleed
DESCRIPTION:
URL:https://independencetraining.com/event/stop-the-bleed-31/
END:VEVENT
END:VCALENDAR