BEGIN:VCALENDAR
VERSION:2.0
PRODID:-//Independence Training - ECPv6.15.17//NONSGML v1.0//EN
CALSCALE:GREGORIAN
METHOD:PUBLISH
X-ORIGINAL-URL:https://independencetraining.com
X-WR-CALDESC:Events for Independence Training
REFRESH-INTERVAL;VALUE=DURATION:PT1H
X-Robots-Tag:noindex
X-PUBLISHED-TTL:PT1H
BEGIN:VTIMEZONE
TZID:America/Denver
BEGIN:DAYLIGHT
TZOFFSETFROM:-0700
TZOFFSETTO:-0600
TZNAME:MDT
DTSTART:20230312T090000
END:DAYLIGHT
BEGIN:STANDARD
TZOFFSETFROM:-0600
TZOFFSETTO:-0700
TZNAME:MST
DTSTART:20231105T080000
END:STANDARD
BEGIN:DAYLIGHT
TZOFFSETFROM:-0700
TZOFFSETTO:-0600
TZNAME:MDT
DTSTART:20240310T090000
END:DAYLIGHT
BEGIN:STANDARD
TZOFFSETFROM:-0600
TZOFFSETTO:-0700
TZNAME:MST
DTSTART:20241103T080000
END:STANDARD
BEGIN:DAYLIGHT
TZOFFSETFROM:-0700
TZOFFSETTO:-0600
TZNAME:MDT
DTSTART:20250309T090000
END:DAYLIGHT
BEGIN:STANDARD
TZOFFSETFROM:-0600
TZOFFSETTO:-0700
TZNAME:MST
DTSTART:20251102T080000
END:STANDARD
BEGIN:DAYLIGHT
TZOFFSETFROM:-0700
TZOFFSETTO:-0600
TZNAME:MDT
DTSTART:20260308T090000
END:DAYLIGHT
BEGIN:STANDARD
TZOFFSETFROM:-0600
TZOFFSETTO:-0700
TZNAME:MST
DTSTART:20261101T080000
END:STANDARD
END:VTIMEZONE
BEGIN:VEVENT
DTSTART;VALUE=DATE:20241228
DTEND;VALUE=DATE:20241229
DTSTAMP:20260423T032051
CREATED:20241205T173842Z
LAST-MODIFIED:20241205T173842Z
UID:8211-1735344000-1735430399@independencetraining.com
SUMMARY:Out With A Bang!
DESCRIPTION:
URL:https://independencetraining.com/event/out-with-a-bang-3/
END:VEVENT
BEGIN:VEVENT
DTSTART;VALUE=DATE:20250102
DTEND;VALUE=DATE:20250103
DTSTAMP:20260423T032051
CREATED:20241230T213516Z
LAST-MODIFIED:20241230T213516Z
UID:8261-1735776000-1735862399@independencetraining.com
SUMMARY:Private Firearms Training
DESCRIPTION:
URL:https://independencetraining.com/event/private-firearms-training-37/
END:VEVENT
BEGIN:VEVENT
DTSTART;VALUE=DATE:20250103
DTEND;VALUE=DATE:20250104
DTSTAMP:20260423T032051
CREATED:20241230T213619Z
LAST-MODIFIED:20241230T213619Z
UID:8263-1735862400-1735948799@independencetraining.com
SUMMARY:Private Firearms Training
DESCRIPTION:
URL:https://independencetraining.com/event/private-firearms-training-38/
END:VEVENT
BEGIN:VEVENT
DTSTART;VALUE=DATE:20250106
DTEND;VALUE=DATE:20250107
DTSTAMP:20260423T032051
CREATED:20241230T214523Z
LAST-MODIFIED:20241230T214737Z
UID:8265-1736121600-1736207999@independencetraining.com
SUMMARY:Corporate Medical Training
DESCRIPTION:
URL:https://independencetraining.com/event/private-medical-training-22/
END:VEVENT
BEGIN:VEVENT
DTSTART;VALUE=DATE:20250107
DTEND;VALUE=DATE:20250108
DTSTAMP:20260423T032051
CREATED:20241230T214854Z
LAST-MODIFIED:20241230T214854Z
UID:8271-1736208000-1736294399@independencetraining.com
SUMMARY:Corporate Medical Training
DESCRIPTION:
URL:https://independencetraining.com/event/corporate-medical-training-82/
END:VEVENT
BEGIN:VEVENT
DTSTART;VALUE=DATE:20250108
DTEND;VALUE=DATE:20250109
DTSTAMP:20260423T032051
CREATED:20241230T214805Z
LAST-MODIFIED:20241230T214824Z
UID:8269-1736294400-1736380799@independencetraining.com
SUMMARY:Corporate Medical Training
DESCRIPTION:
URL:https://independencetraining.com/event/corporate-medical-training-81/
END:VEVENT
BEGIN:VEVENT
DTSTART;VALUE=DATE:20250109
DTEND;VALUE=DATE:20250110
DTSTAMP:20260423T032051
CREATED:20241230T214942Z
LAST-MODIFIED:20241230T214942Z
UID:8273-1736380800-1736467199@independencetraining.com
SUMMARY:Corporate Medical Training
DESCRIPTION:
URL:https://independencetraining.com/event/corporate-medical-training-83/
END:VEVENT
BEGIN:VEVENT
DTSTART;VALUE=DATE:20250110
DTEND;VALUE=DATE:20250111
DTSTAMP:20260423T032051
CREATED:20250106T185809Z
LAST-MODIFIED:20250106T185809Z
UID:8330-1736467200-1736553599@independencetraining.com
SUMMARY:EDC Combatives
DESCRIPTION:
URL:https://independencetraining.com/event/edc-combatives-6/
END:VEVENT
BEGIN:VEVENT
DTSTART;VALUE=DATE:20250111
DTEND;VALUE=DATE:20250112
DTSTAMP:20260423T032051
CREATED:20241119T222116Z
LAST-MODIFIED:20241119T222116Z
UID:8017-1736553600-1736639999@independencetraining.com
SUMMARY:Low Light / No Light - Handgun
DESCRIPTION:
URL:https://independencetraining.com/event/low-light-no-light-handgun/
END:VEVENT
BEGIN:VEVENT
DTSTART;VALUE=DATE:20250111
DTEND;VALUE=DATE:20250112
DTSTAMP:20260423T032051
CREATED:20241119T222446Z
LAST-MODIFIED:20241119T222446Z
UID:8021-1736553600-1736639999@independencetraining.com
SUMMARY:Stop The Bleed
DESCRIPTION:
URL:https://independencetraining.com/event/stop-the-bleed-19/
END:VEVENT
BEGIN:VEVENT
DTSTART;VALUE=DATE:20250113
DTEND;VALUE=DATE:20250114
DTSTAMP:20260423T032051
CREATED:20241230T215028Z
LAST-MODIFIED:20241230T215028Z
UID:8275-1736726400-1736812799@independencetraining.com
SUMMARY:Corporate Medical Training
DESCRIPTION:
URL:https://independencetraining.com/event/corporate-medical-training-84/
END:VEVENT
BEGIN:VEVENT
DTSTART;VALUE=DATE:20250114
DTEND;VALUE=DATE:20250115
DTSTAMP:20260423T032051
CREATED:20241230T215113Z
LAST-MODIFIED:20241230T215113Z
UID:8277-1736812800-1736899199@independencetraining.com
SUMMARY:Corporate Medical Training
DESCRIPTION:
URL:https://independencetraining.com/event/corporate-medical-training-85/
END:VEVENT
BEGIN:VEVENT
DTSTART;VALUE=DATE:20250117
DTEND;VALUE=DATE:20250121
DTSTAMP:20260423T032051
CREATED:20241230T215442Z
LAST-MODIFIED:20241230T215442Z
UID:8285-1737072000-1737417599@independencetraining.com
SUMMARY:Instructor Development
DESCRIPTION:
URL:https://independencetraining.com/event/instructor-development-13/
END:VEVENT
BEGIN:VEVENT
DTSTART;VALUE=DATE:20250118
DTEND;VALUE=DATE:20250120
DTSTAMP:20260423T032051
CREATED:20241119T224639Z
LAST-MODIFIED:20241119T224639Z
UID:8083-1737158400-1737331199@independencetraining.com
SUMMARY:Wilderness First Aid
DESCRIPTION:
URL:https://independencetraining.com/event/wilderness-first-aid-4/
END:VEVENT
BEGIN:VEVENT
DTSTART;VALUE=DATE:20250122
DTEND;VALUE=DATE:20250123
DTSTAMP:20260423T032051
CREATED:20241230T215159Z
LAST-MODIFIED:20241230T215159Z
UID:8279-1737504000-1737590399@independencetraining.com
SUMMARY:Corporate Medical Training
DESCRIPTION:
URL:https://independencetraining.com/event/corporate-medical-training-86/
END:VEVENT
BEGIN:VEVENT
DTSTART;VALUE=DATE:20250124
DTEND;VALUE=DATE:20250125
DTSTAMP:20260423T032051
CREATED:20241230T215540Z
LAST-MODIFIED:20241230T215540Z
UID:8287-1737676800-1737763199@independencetraining.com
SUMMARY:Private Medical Training
DESCRIPTION:
URL:https://independencetraining.com/event/private-medical-training-23/
END:VEVENT
BEGIN:VEVENT
DTSTART;VALUE=DATE:20250125
DTEND;VALUE=DATE:20250126
DTSTAMP:20260423T032051
CREATED:20241119T231135Z
LAST-MODIFIED:20241230T215953Z
UID:8131-1737763200-1737849599@independencetraining.com
SUMMARY:Intro to Emergency Radio Communications
DESCRIPTION:
URL:https://independencetraining.com/event/intro-to-emergency-radio-communications-6/
END:VEVENT
BEGIN:VEVENT
DTSTART;VALUE=DATE:20250126
DTEND;VALUE=DATE:20250127
DTSTAMP:20260423T032051
CREATED:20241119T222227Z
LAST-MODIFIED:20241119T222227Z
UID:8019-1737849600-1737935999@independencetraining.com
SUMMARY:Defensive Handgun
DESCRIPTION:
URL:https://independencetraining.com/event/defensive-handgun-8/
END:VEVENT
BEGIN:VEVENT
DTSTART;VALUE=DATE:20250127
DTEND;VALUE=DATE:20250128
DTSTAMP:20260423T032051
CREATED:20241230T215226Z
LAST-MODIFIED:20241230T215226Z
UID:8281-1737936000-1738022399@independencetraining.com
SUMMARY:Corporate Medical Training
DESCRIPTION:
URL:https://independencetraining.com/event/corporate-medical-training-87/
END:VEVENT
BEGIN:VEVENT
DTSTART;TZID=America/Denver:20250127T080000
DTEND;TZID=America/Denver:20250127T170000
DTSTAMP:20260423T032051
CREATED:20250127T204307Z
LAST-MODIFIED:20250127T204307Z
UID:8426-1737964800-1737997200@independencetraining.com
SUMMARY:Corporate Medical Training
DESCRIPTION:
URL:https://independencetraining.com/event/corporate-medical-training-100/
END:VEVENT
BEGIN:VEVENT
DTSTART;VALUE=DATE:20250128
DTEND;VALUE=DATE:20250129
DTSTAMP:20260423T032051
CREATED:20241119T222533Z
LAST-MODIFIED:20241119T222533Z
UID:8023-1738022400-1738108799@independencetraining.com
SUMMARY:Stop The Bleed
DESCRIPTION:
URL:https://independencetraining.com/event/stop-the-bleed-20/
END:VEVENT
BEGIN:VEVENT
DTSTART;VALUE=DATE:20250129
DTEND;VALUE=DATE:20250130
DTSTAMP:20260423T032051
CREATED:20241230T215254Z
LAST-MODIFIED:20241230T215254Z
UID:8283-1738108800-1738195199@independencetraining.com
SUMMARY:Corporate Medical Training
DESCRIPTION:
URL:https://independencetraining.com/event/corporate-medical-training-88/
END:VEVENT
BEGIN:VEVENT
DTSTART;VALUE=DATE:20250201
DTEND;VALUE=DATE:20250202
DTSTAMP:20260423T032051
CREATED:20241119T225149Z
LAST-MODIFIED:20241119T225149Z
UID:8089-1738368000-1738454399@independencetraining.com
SUMMARY:IFAK Life Saver
DESCRIPTION:
URL:https://independencetraining.com/event/ifak-life-saver/
END:VEVENT
BEGIN:VEVENT
DTSTART;VALUE=DATE:20250203
DTEND;VALUE=DATE:20250204
DTSTAMP:20260423T032051
CREATED:20241230T220614Z
LAST-MODIFIED:20241230T220614Z
UID:8290-1738540800-1738627199@independencetraining.com
SUMMARY:Corporate Medical Training
DESCRIPTION:
URL:https://independencetraining.com/event/corporate-medical-training-89/
END:VEVENT
BEGIN:VEVENT
DTSTART;VALUE=DATE:20250204
DTEND;VALUE=DATE:20250205
DTSTAMP:20260423T032051
CREATED:20241230T220713Z
LAST-MODIFIED:20241230T220713Z
UID:8292-1738627200-1738713599@independencetraining.com
SUMMARY:Corporate Medical Training
DESCRIPTION:
URL:https://independencetraining.com/event/corporate-medical-training-90/
END:VEVENT
BEGIN:VEVENT
DTSTART;VALUE=DATE:20250205
DTEND;VALUE=DATE:20250206
DTSTAMP:20260423T032051
CREATED:20250127T203944Z
LAST-MODIFIED:20250127T203944Z
UID:8418-1738713600-1738799999@independencetraining.com
SUMMARY:Corporate Medical Training
DESCRIPTION:
URL:https://independencetraining.com/event/corporate-medical-training-97/
END:VEVENT
BEGIN:VEVENT
DTSTART;VALUE=DATE:20250208
DTEND;VALUE=DATE:20250209
DTSTAMP:20260423T032051
CREATED:20241119T222612Z
LAST-MODIFIED:20241119T222612Z
UID:8025-1738972800-1739059199@independencetraining.com
SUMMARY:Stop The Bleed
DESCRIPTION:
URL:https://independencetraining.com/event/stop-the-bleed-21/
END:VEVENT
BEGIN:VEVENT
DTSTART;VALUE=DATE:20250210
DTEND;VALUE=DATE:20250211
DTSTAMP:20260423T032051
CREATED:20241230T220741Z
LAST-MODIFIED:20241230T220741Z
UID:8295-1739145600-1739231999@independencetraining.com
SUMMARY:Corporate Medical Training
DESCRIPTION:
URL:https://independencetraining.com/event/corporate-medical-training-91/
END:VEVENT
BEGIN:VEVENT
DTSTART;VALUE=DATE:20250211
DTEND;VALUE=DATE:20250212
DTSTAMP:20260423T032051
CREATED:20250127T200245Z
LAST-MODIFIED:20250127T200245Z
UID:8415-1739232000-1739318399@independencetraining.com
SUMMARY:***ALUMNI ONLY EVENT***
DESCRIPTION:Getting Started in Hunting and Hunting Prep with Glen\, Josh\, Darrell and Jered \nRepeating a previous and very successful Alumni event due to popular demand\, we invited Jered to join us again\, who is an Alumni student\, experienced hunter and local game manager\, to teach alongside our experienced hunting instructors. Topics covered will include how to get started\, the gear you need\, how to choose what species to pursue\, where to learn more and how to practice.
URL:https://independencetraining.com/event/alumni-only-event/
END:VEVENT
BEGIN:VEVENT
DTSTART;VALUE=DATE:20250211
DTEND;VALUE=DATE:20250212
DTSTAMP:20260423T032051
CREATED:20250127T204222Z
LAST-MODIFIED:20250127T204222Z
UID:8422-1739232000-1739318399@independencetraining.com
SUMMARY:Corporate Medical Training
DESCRIPTION:
URL:https://independencetraining.com/event/corporate-medical-training-98/
END:VEVENT
END:VCALENDAR