BEGIN:VCALENDAR
VERSION:2.0
PRODID:-//Independence Training - ECPv6.15.17//NONSGML v1.0//EN
CALSCALE:GREGORIAN
METHOD:PUBLISH
X-WR-CALNAME:Independence Training
X-ORIGINAL-URL:https://independencetraining.com
X-WR-CALDESC:Events for Independence Training
REFRESH-INTERVAL;VALUE=DURATION:PT1H
X-Robots-Tag:noindex
X-PUBLISHED-TTL:PT1H
BEGIN:VTIMEZONE
TZID:America/Denver
BEGIN:DAYLIGHT
TZOFFSETFROM:-0700
TZOFFSETTO:-0600
TZNAME:MDT
DTSTART:20220313T090000
END:DAYLIGHT
BEGIN:STANDARD
TZOFFSETFROM:-0600
TZOFFSETTO:-0700
TZNAME:MST
DTSTART:20221106T080000
END:STANDARD
BEGIN:DAYLIGHT
TZOFFSETFROM:-0700
TZOFFSETTO:-0600
TZNAME:MDT
DTSTART:20230312T090000
END:DAYLIGHT
BEGIN:STANDARD
TZOFFSETFROM:-0600
TZOFFSETTO:-0700
TZNAME:MST
DTSTART:20231105T080000
END:STANDARD
BEGIN:DAYLIGHT
TZOFFSETFROM:-0700
TZOFFSETTO:-0600
TZNAME:MDT
DTSTART:20240310T090000
END:DAYLIGHT
BEGIN:STANDARD
TZOFFSETFROM:-0600
TZOFFSETTO:-0700
TZNAME:MST
DTSTART:20241103T080000
END:STANDARD
BEGIN:DAYLIGHT
TZOFFSETFROM:-0700
TZOFFSETTO:-0600
TZNAME:MDT
DTSTART:20250309T090000
END:DAYLIGHT
BEGIN:STANDARD
TZOFFSETFROM:-0600
TZOFFSETTO:-0700
TZNAME:MST
DTSTART:20251102T080000
END:STANDARD
END:VTIMEZONE
BEGIN:VEVENT
DTSTART;TZID=America/Denver:20240125T100000
DTEND;TZID=America/Denver:20240125T130000
DTSTAMP:20260423T122812
CREATED:20240112T163250Z
LAST-MODIFIED:20240112T163250Z
UID:6737-1706176800-1706187600@independencetraining.com
SUMMARY:Private Firearms Training
DESCRIPTION:
URL:https://independencetraining.com/event/private-firearms-training-14/
END:VEVENT
BEGIN:VEVENT
DTSTART;TZID=America/Denver:20240124T123000
DTEND;TZID=America/Denver:20240124T143000
DTSTAMP:20260423T122812
CREATED:20240112T161947Z
LAST-MODIFIED:20240112T161947Z
UID:6713-1706099400-1706106600@independencetraining.com
SUMMARY:Corporate Medical Training
DESCRIPTION:
URL:https://independencetraining.com/event/corporate-medical-training-4/
END:VEVENT
BEGIN:VEVENT
DTSTART;TZID=America/Denver:20240123T070000
DTEND;TZID=America/Denver:20240123T110000
DTSTAMP:20260423T122812
CREATED:20240112T163057Z
LAST-MODIFIED:20240112T163057Z
UID:6733-1705993200-1706007600@independencetraining.com
SUMMARY:Corporate Medical Training
DESCRIPTION:
URL:https://independencetraining.com/event/corporate-medical-training-13/
END:VEVENT
BEGIN:VEVENT
DTSTART;TZID=America/Denver:20240122T123000
DTEND;TZID=America/Denver:20240122T163000
DTSTAMP:20260423T122812
CREATED:20240112T162959Z
LAST-MODIFIED:20240112T162959Z
UID:6731-1705926600-1705941000@independencetraining.com
SUMMARY:Corporate Medical Training
DESCRIPTION:
URL:https://independencetraining.com/event/corporate-medical-training-12/
END:VEVENT
BEGIN:VEVENT
DTSTART;VALUE=DATE:20240118
DTEND;VALUE=DATE:20240121
DTSTAMP:20260423T122812
CREATED:20231014T203806Z
LAST-MODIFIED:20231014T203806Z
UID:6220-1705536000-1705795199@independencetraining.com
SUMMARY:NRL Ghost Hunter
DESCRIPTION:
URL:https://independencetraining.com/event/nrl-ghost-hunter/
END:VEVENT
BEGIN:VEVENT
DTSTART;TZID=America/Denver:20240117T123000
DTEND;TZID=America/Denver:20240117T143000
DTSTAMP:20260423T122812
CREATED:20240112T161843Z
LAST-MODIFIED:20240112T161843Z
UID:6711-1705494600-1705501800@independencetraining.com
SUMMARY:Corporate Medical Training
DESCRIPTION:
URL:https://independencetraining.com/event/corporate-medical-training-3/
END:VEVENT
BEGIN:VEVENT
DTSTART;TZID=America/Denver:20240116T180000
DTEND;TZID=America/Denver:20240116T220000
DTSTAMP:20260423T122812
CREATED:20240112T161644Z
LAST-MODIFIED:20240112T161644Z
UID:6709-1705428000-1705442400@independencetraining.com
SUMMARY:Private Firearms Training
DESCRIPTION:
URL:https://independencetraining.com/event/private-firearms-training-13/
END:VEVENT
BEGIN:VEVENT
DTSTART;TZID=America/Denver:20240116T090000
DTEND;TZID=America/Denver:20240116T130000
DTSTAMP:20260423T122812
CREATED:20240112T161455Z
LAST-MODIFIED:20240112T161455Z
UID:6707-1705395600-1705410000@independencetraining.com
SUMMARY:Private Firearms Training
DESCRIPTION:
URL:https://independencetraining.com/event/private-firearms-training-12/
END:VEVENT
BEGIN:VEVENT
DTSTART;TZID=America/Denver:20240114T080000
DTEND;TZID=America/Denver:20240114T170000
DTSTAMP:20260423T122812
CREATED:20230403T210416Z
LAST-MODIFIED:20231022T172712Z
UID:4414-1705219200-1705251600@independencetraining.com
SUMMARY:Intro to Precision Rifle II
DESCRIPTION:Casa Grande\, AZ
URL:https://independencetraining.com/event/intro-to-precision-rifle-2-renegade/
END:VEVENT
BEGIN:VEVENT
DTSTART;TZID=America/Denver:20240113T090000
DTEND;TZID=America/Denver:20240113T110000
DTSTAMP:20260423T122812
CREATED:20240101T215027Z
LAST-MODIFIED:20240101T215027Z
UID:6629-1705136400-1705143600@independencetraining.com
SUMMARY:Stop The Bleed
DESCRIPTION:Mesa\, AZ
URL:https://independencetraining.com/event/stop-the-bleed-10/
END:VEVENT
BEGIN:VEVENT
DTSTART;TZID=America/Denver:20240113T080000
DTEND;TZID=America/Denver:20240113T170000
DTSTAMP:20260423T122812
CREATED:20230403T210416Z
LAST-MODIFIED:20231022T172507Z
UID:4415-1705132800-1705165200@independencetraining.com
SUMMARY:Intro to Precision Rifle I
DESCRIPTION:Casa Grande\, AZ
URL:https://independencetraining.com/event/intro-to-precision-rifle-1-renegade/
END:VEVENT
BEGIN:VEVENT
DTSTART;TZID=America/Denver:20240101T080000
DTEND;TZID=America/Denver:20240101T170000
DTSTAMP:20260423T122812
CREATED:20240101T221454Z
LAST-MODIFIED:20240101T221454Z
UID:6635-1704096000-1704128400@independencetraining.com
SUMMARY:Stop The Bleed
DESCRIPTION:Mesa\, AZ
URL:https://independencetraining.com/event/stop-the-bleed-12/
END:VEVENT
BEGIN:VEVENT
DTSTART;VALUE=DATE:20231230
DTEND;VALUE=DATE:20231231
DTSTAMP:20260423T122812
CREATED:20230403T210439Z
LAST-MODIFIED:20230420T180724Z
UID:4453-1703894400-1703980799@independencetraining.com
SUMMARY:Out With A Bang
DESCRIPTION:Phoenix\, AZ
URL:https://independencetraining.com/event/out-with-a-bang/
END:VEVENT
BEGIN:VEVENT
DTSTART;TZID=America/Denver:20231229T080000
DTEND;TZID=America/Denver:20231229T170000
DTSTAMP:20260423T122812
CREATED:20231014T203102Z
LAST-MODIFIED:20231014T203102Z
UID:6218-1703836800-1703869200@independencetraining.com
SUMMARY:Private Firearms Training
DESCRIPTION:
URL:https://independencetraining.com/event/private-firearms-training-10/
END:VEVENT
BEGIN:VEVENT
DTSTART;TZID=America/Denver:20231215T080000
DTEND;TZID=America/Denver:20231215T170000
DTSTAMP:20260423T122812
CREATED:20231014T203031Z
LAST-MODIFIED:20231014T203031Z
UID:6216-1702627200-1702659600@independencetraining.com
SUMMARY:Private Firearms Training
DESCRIPTION:
URL:https://independencetraining.com/event/private-firearms-training-9/
END:VEVENT
BEGIN:VEVENT
DTSTART;VALUE=DATE:20231213
DTEND;VALUE=DATE:20231214
DTSTAMP:20260423T122812
CREATED:20231014T203005Z
LAST-MODIFIED:20231014T203005Z
UID:6214-1702425600-1702511999@independencetraining.com
SUMMARY:Private Firearms Training
DESCRIPTION:
URL:https://independencetraining.com/event/private-firearms-training-8/
END:VEVENT
BEGIN:VEVENT
DTSTART;VALUE=DATE:20231212
DTEND;VALUE=DATE:20231213
DTSTAMP:20260423T122812
CREATED:20231014T202931Z
LAST-MODIFIED:20231014T202931Z
UID:6212-1702339200-1702425599@independencetraining.com
SUMMARY:Private Firearms Training
DESCRIPTION:
URL:https://independencetraining.com/event/private-firearms-training-7/
END:VEVENT
BEGIN:VEVENT
DTSTART;VALUE=DATE:20231209
DTEND;VALUE=DATE:20231210
DTSTAMP:20260423T122812
CREATED:20231108T034512Z
LAST-MODIFIED:20231108T034512Z
UID:6411-1702080000-1702166399@independencetraining.com
SUMMARY:Private Corporate Training
DESCRIPTION:
URL:https://independencetraining.com/event/private-corporate-training/
END:VEVENT
BEGIN:VEVENT
DTSTART;VALUE=DATE:20231204
DTEND;VALUE=DATE:20231209
DTSTAMP:20260423T122812
CREATED:20231014T202905Z
LAST-MODIFIED:20231014T202905Z
UID:6210-1701648000-1702079999@independencetraining.com
SUMMARY:Instructor Development
DESCRIPTION:
URL:https://independencetraining.com/event/instructor-development-6/
END:VEVENT
BEGIN:VEVENT
DTSTART;VALUE=DATE:20231204
DTEND;VALUE=DATE:20231208
DTSTAMP:20260423T122812
CREATED:20230829T212156Z
LAST-MODIFIED:20230829T212156Z
UID:6067-1701648000-1701993599@independencetraining.com
SUMMARY:Instructor Development
DESCRIPTION:
URL:https://independencetraining.com/event/instructor-development-4/
END:VEVENT
BEGIN:VEVENT
DTSTART;TZID=America/Denver:20231203T080000
DTEND;TZID=America/Denver:20231203T170000
DTSTAMP:20260423T122812
CREATED:20231108T034307Z
LAST-MODIFIED:20231108T034307Z
UID:6409-1701590400-1701622800@independencetraining.com
SUMMARY:Defensive Carbine with Optional LL/NL
DESCRIPTION:Phoenix\, AZ
URL:https://independencetraining.com/event/defensive-carbine-with-optional-ll-nl/
END:VEVENT
BEGIN:VEVENT
DTSTART;TZID=America/Denver:20231202T080000
DTEND;TZID=America/Denver:20231202T170000
DTSTAMP:20260423T122812
CREATED:20231108T034044Z
LAST-MODIFIED:20231108T034044Z
UID:6404-1701504000-1701536400@independencetraining.com
SUMMARY:Basic Handgun / AZ CCW
DESCRIPTION:Phoenix\, AZ
URL:https://independencetraining.com/event/basic-handgun-az-ccw-2/
END:VEVENT
BEGIN:VEVENT
DTSTART;VALUE=DATE:20231128
DTEND;VALUE=DATE:20231129
DTSTAMP:20260423T122812
CREATED:20231014T201355Z
LAST-MODIFIED:20231014T201355Z
UID:6208-1701129600-1701215999@independencetraining.com
SUMMARY:Private Training
DESCRIPTION:
URL:https://independencetraining.com/event/private-training-16/
END:VEVENT
BEGIN:VEVENT
DTSTART;VALUE=DATE:20231122
DTEND;VALUE=DATE:20231123
DTSTAMP:20260423T122812
CREATED:20231014T201324Z
LAST-MODIFIED:20231014T201324Z
UID:6206-1700611200-1700697599@independencetraining.com
SUMMARY:Private Training
DESCRIPTION:
URL:https://independencetraining.com/event/private-training-15/
END:VEVENT
BEGIN:VEVENT
DTSTART;VALUE=DATE:20231121
DTEND;VALUE=DATE:20231122
DTSTAMP:20260423T122812
CREATED:20231014T201259Z
LAST-MODIFIED:20231014T201259Z
UID:6204-1700524800-1700611199@independencetraining.com
SUMMARY:Private Training
DESCRIPTION:
URL:https://independencetraining.com/event/private-training-14/
END:VEVENT
BEGIN:VEVENT
DTSTART;TZID=America/Denver:20231118T080000
DTEND;TZID=America/Denver:20231119T180000
DTSTAMP:20260423T122812
CREATED:20230403T210439Z
LAST-MODIFIED:20230419T212417Z
UID:4452-1700294400-1700416800@independencetraining.com
SUMMARY:Coyote Clinic
DESCRIPTION:Tempe\, AZ
URL:https://independencetraining.com/event/coyote-clinic/
END:VEVENT
BEGIN:VEVENT
DTSTART;TZID=America/Denver:20231118T080000
DTEND;TZID=America/Denver:20231118T170000
DTSTAMP:20260423T122812
CREATED:20230526T222457Z
LAST-MODIFIED:20230526T222715Z
UID:5765-1700294400-1700326800@independencetraining.com
SUMMARY:Invasive Trauma Interventions
DESCRIPTION:Tempe\, AZ
URL:https://independencetraining.com/event/invasive-trauma-interventions-2/
END:VEVENT
BEGIN:VEVENT
DTSTART;VALUE=DATE:20231116
DTEND;VALUE=DATE:20231117
DTSTAMP:20260423T122812
CREATED:20231014T201225Z
LAST-MODIFIED:20231014T201225Z
UID:6202-1700092800-1700179199@independencetraining.com
SUMMARY:Corporate Training
DESCRIPTION:
URL:https://independencetraining.com/event/corporate-training-5/
END:VEVENT
BEGIN:VEVENT
DTSTART;TZID=America/Denver:20231115T080000
DTEND;TZID=America/Denver:20231115T170000
DTSTAMP:20260423T122812
CREATED:20231014T201159Z
LAST-MODIFIED:20231014T201159Z
UID:6200-1700035200-1700067600@independencetraining.com
SUMMARY:Corporate Training
DESCRIPTION:
URL:https://independencetraining.com/event/corporate-training-4/
END:VEVENT
BEGIN:VEVENT
DTSTART;VALUE=DATE:20231114
DTEND;VALUE=DATE:20231115
DTSTAMP:20260423T122812
CREATED:20231014T201054Z
LAST-MODIFIED:20231014T201054Z
UID:6198-1699920000-1700006399@independencetraining.com
SUMMARY:Private Training
DESCRIPTION:
URL:https://independencetraining.com/event/private-training-13/
END:VEVENT
END:VCALENDAR