BEGIN:VCALENDAR
VERSION:2.0
PRODID:-//Independence Training - ECPv6.15.17//NONSGML v1.0//EN
CALSCALE:GREGORIAN
METHOD:PUBLISH
X-ORIGINAL-URL:https://independencetraining.com
X-WR-CALDESC:Events for Independence Training
REFRESH-INTERVAL;VALUE=DURATION:PT1H
X-Robots-Tag:noindex
X-PUBLISHED-TTL:PT1H
BEGIN:VTIMEZONE
TZID:America/Denver
BEGIN:DAYLIGHT
TZOFFSETFROM:-0700
TZOFFSETTO:-0600
TZNAME:MDT
DTSTART:20230312T090000
END:DAYLIGHT
BEGIN:STANDARD
TZOFFSETFROM:-0600
TZOFFSETTO:-0700
TZNAME:MST
DTSTART:20231105T080000
END:STANDARD
BEGIN:DAYLIGHT
TZOFFSETFROM:-0700
TZOFFSETTO:-0600
TZNAME:MDT
DTSTART:20240310T090000
END:DAYLIGHT
BEGIN:STANDARD
TZOFFSETFROM:-0600
TZOFFSETTO:-0700
TZNAME:MST
DTSTART:20241103T080000
END:STANDARD
BEGIN:DAYLIGHT
TZOFFSETFROM:-0700
TZOFFSETTO:-0600
TZNAME:MDT
DTSTART:20250309T090000
END:DAYLIGHT
BEGIN:STANDARD
TZOFFSETFROM:-0600
TZOFFSETTO:-0700
TZNAME:MST
DTSTART:20251102T080000
END:STANDARD
END:VTIMEZONE
BEGIN:VEVENT
DTSTART;VALUE=DATE:20240729
DTEND;VALUE=DATE:20240803
DTSTAMP:20260422T160801
CREATED:20240515T185712Z
LAST-MODIFIED:20240515T185712Z
UID:7285-1722211200-1722643199@independencetraining.com
SUMMARY:Corporate Medical Training
DESCRIPTION:
URL:https://independencetraining.com/event/corporate-medical-training-59/
END:VEVENT
BEGIN:VEVENT
DTSTART;VALUE=DATE:20240806
DTEND;VALUE=DATE:20240807
DTSTAMP:20260422T160801
CREATED:20240219T204307Z
LAST-MODIFIED:20240219T204307Z
UID:6917-1722902400-1722988799@independencetraining.com
SUMMARY:Corporate Medical Training
DESCRIPTION:
URL:https://independencetraining.com/event/corporate-medical-training-36/
END:VEVENT
BEGIN:VEVENT
DTSTART;VALUE=DATE:20240808
DTEND;VALUE=DATE:20240810
DTSTAMP:20260422T160801
CREATED:20240515T190044Z
LAST-MODIFIED:20240515T190044Z
UID:7287-1723075200-1723247999@independencetraining.com
SUMMARY:Corporate Medical Training
DESCRIPTION:
URL:https://independencetraining.com/event/corporate-medical-training-21/
END:VEVENT
BEGIN:VEVENT
DTSTART;VALUE=DATE:20240809
DTEND;VALUE=DATE:20240810
DTSTAMP:20260422T160801
CREATED:20240708T210152Z
LAST-MODIFIED:20240708T210152Z
UID:7447-1723161600-1723247999@independencetraining.com
SUMMARY:EDC Combatvies
DESCRIPTION:
URL:https://independencetraining.com/event/edc-combatvies-2/
END:VEVENT
BEGIN:VEVENT
DTSTART;VALUE=DATE:20240810
DTEND;VALUE=DATE:20240811
DTSTAMP:20260422T160801
CREATED:20230420T184214Z
LAST-MODIFIED:20240129T190554Z
UID:5497-1723248000-1723334399@independencetraining.com
SUMMARY:Stop The Bleed
DESCRIPTION:Mesa\, AZ
URL:https://independencetraining.com/event/stop-the-bleed-7/
END:VEVENT
BEGIN:VEVENT
DTSTART;VALUE=DATE:20240810
DTEND;VALUE=DATE:20240811
DTSTAMP:20260422T160801
CREATED:20230403T210421Z
LAST-MODIFIED:20240129T190621Z
UID:4423-1723248000-1723334399@independencetraining.com
SUMMARY:Defensive Handgun
DESCRIPTION:Phoenix\, AZ
URL:https://independencetraining.com/event/defensive-handgun-w-low-light-no-light/
END:VEVENT
BEGIN:VEVENT
DTSTART;VALUE=DATE:20240810
DTEND;VALUE=DATE:20240811
DTSTAMP:20260422T160801
CREATED:20240708T210524Z
LAST-MODIFIED:20240708T210524Z
UID:7457-1723248000-1723334399@independencetraining.com
SUMMARY:Invasive Trauma Interventions
DESCRIPTION:
URL:https://independencetraining.com/event/invasive-trauma-interventions-3/
END:VEVENT
BEGIN:VEVENT
DTSTART;VALUE=DATE:20240811
DTEND;VALUE=DATE:20240812
DTSTAMP:20260422T160801
CREATED:20230403T210433Z
LAST-MODIFIED:20240129T190533Z
UID:4445-1723334400-1723420799@independencetraining.com
SUMMARY:Concealed Carry Concepts
DESCRIPTION:Phoenix\, AZ
URL:https://independencetraining.com/event/concealed-carry-concepts-2/
END:VEVENT
BEGIN:VEVENT
DTSTART;VALUE=DATE:20240812
DTEND;VALUE=DATE:20240816
DTSTAMP:20260422T160801
CREATED:20240515T190208Z
LAST-MODIFIED:20240515T190208Z
UID:7289-1723420800-1723766399@independencetraining.com
SUMMARY:Corporate Medical Training
DESCRIPTION:
URL:https://independencetraining.com/event/corporate-medical-training-35/
END:VEVENT
BEGIN:VEVENT
DTSTART;VALUE=DATE:20240817
DTEND;VALUE=DATE:20240818
DTSTAMP:20260422T160801
CREATED:20230403T210459Z
LAST-MODIFIED:20240129T190401Z
UID:4505-1723852800-1723939199@independencetraining.com
SUMMARY:Basic Handgun / AZ CCW
DESCRIPTION:Phoenix\, AZ
URL:https://independencetraining.com/event/basic-handgun-az-ccw-9/
END:VEVENT
BEGIN:VEVENT
DTSTART;VALUE=DATE:20240822
DTEND;VALUE=DATE:20240823
DTSTAMP:20260422T160801
CREATED:20240219T204337Z
LAST-MODIFIED:20240219T204337Z
UID:6919-1724284800-1724371199@independencetraining.com
SUMMARY:Corporate Medical Training
DESCRIPTION:
URL:https://independencetraining.com/event/corporate-medical-training-37/
END:VEVENT
BEGIN:VEVENT
DTSTART;VALUE=DATE:20240823
DTEND;VALUE=DATE:20240824
DTSTAMP:20260422T160801
CREATED:20240823T230707Z
LAST-MODIFIED:20240823T230707Z
UID:7678-1724371200-1724457599@independencetraining.com
SUMMARY:Private Training
DESCRIPTION:
URL:https://independencetraining.com/event/private-training-17/
END:VEVENT
BEGIN:VEVENT
DTSTART;VALUE=DATE:20240824
DTEND;VALUE=DATE:20240825
DTSTAMP:20260422T160801
CREATED:20230403T210425Z
LAST-MODIFIED:20240129T190305Z
UID:4429-1724457600-1724543999@independencetraining.com
SUMMARY:IFAK Life Saver
DESCRIPTION:Tempe\, AZ
URL:https://independencetraining.com/event/ifak-life-saver-10/
END:VEVENT
BEGIN:VEVENT
DTSTART;VALUE=DATE:20240825
DTEND;VALUE=DATE:20240826
DTSTAMP:20260422T160801
CREATED:20231130T204532Z
LAST-MODIFIED:20231130T204532Z
UID:6524-1724544000-1724630399@independencetraining.com
SUMMARY:TAC HUB: Armed Structural Movement Handgun
DESCRIPTION:Phoenix\, AZ
URL:https://independencetraining.com/event/tac-hub-armed-structural-movement-handgun-2/
END:VEVENT
BEGIN:VEVENT
DTSTART;VALUE=DATE:20240827
DTEND;VALUE=DATE:20240828
DTSTAMP:20260422T160801
CREATED:20231130T203311Z
LAST-MODIFIED:20240520T174305Z
UID:6512-1724716800-1724803199@independencetraining.com
SUMMARY:Ladies AR-15 101
DESCRIPTION:Phoenix\, AZ
URL:https://independencetraining.com/event/ladies-ar-15-101-2/
END:VEVENT
BEGIN:VEVENT
DTSTART;VALUE=DATE:20240827
DTEND;VALUE=DATE:20240828
DTSTAMP:20260422T160801
CREATED:20240613T180749Z
LAST-MODIFIED:20240613T180749Z
UID:7389-1724716800-1724803199@independencetraining.com
SUMMARY:Stop The Bleed
DESCRIPTION:Includes a Stop The Bleed kit
URL:https://independencetraining.com/event/stop-the-bleed-14/
END:VEVENT
BEGIN:VEVENT
DTSTART;VALUE=DATE:20240828
DTEND;VALUE=DATE:20240829
DTSTAMP:20260422T160801
CREATED:20240515T190305Z
LAST-MODIFIED:20240515T190305Z
UID:7291-1724803200-1724889599@independencetraining.com
SUMMARY:Corporate Medical Training
DESCRIPTION:
URL:https://independencetraining.com/event/corporate-medical-training-60/
END:VEVENT
END:VCALENDAR