BEGIN:VCALENDAR
VERSION:2.0
PRODID:-//Independence Training - ECPv6.15.17//NONSGML v1.0//EN
CALSCALE:GREGORIAN
METHOD:PUBLISH
X-WR-CALNAME:Independence Training
X-ORIGINAL-URL:https://independencetraining.com
X-WR-CALDESC:Events for Independence Training
REFRESH-INTERVAL;VALUE=DURATION:PT1H
X-Robots-Tag:noindex
X-PUBLISHED-TTL:PT1H
BEGIN:VTIMEZONE
TZID:America/Denver
BEGIN:DAYLIGHT
TZOFFSETFROM:-0700
TZOFFSETTO:-0600
TZNAME:MDT
DTSTART:20230312T090000
END:DAYLIGHT
BEGIN:STANDARD
TZOFFSETFROM:-0600
TZOFFSETTO:-0700
TZNAME:MST
DTSTART:20231105T080000
END:STANDARD
BEGIN:DAYLIGHT
TZOFFSETFROM:-0700
TZOFFSETTO:-0600
TZNAME:MDT
DTSTART:20240310T090000
END:DAYLIGHT
BEGIN:STANDARD
TZOFFSETFROM:-0600
TZOFFSETTO:-0700
TZNAME:MST
DTSTART:20241103T080000
END:STANDARD
BEGIN:DAYLIGHT
TZOFFSETFROM:-0700
TZOFFSETTO:-0600
TZNAME:MDT
DTSTART:20250309T090000
END:DAYLIGHT
BEGIN:STANDARD
TZOFFSETFROM:-0600
TZOFFSETTO:-0700
TZNAME:MST
DTSTART:20251102T080000
END:STANDARD
END:VTIMEZONE
BEGIN:VEVENT
DTSTART;VALUE=DATE:20241103
DTEND;VALUE=DATE:20241104
DTSTAMP:20260422T105203
CREATED:20231108T033916Z
LAST-MODIFIED:20240520T174512Z
UID:6402-1730592000-1730678399@independencetraining.com
SUMMARY:Ladies Practical Handgun
DESCRIPTION:Phoenix\, AZ
URL:https://independencetraining.com/event/ladies-practical-pistol/
END:VEVENT
BEGIN:VEVENT
DTSTART;VALUE=DATE:20241104
DTEND;VALUE=DATE:20241108
DTSTAMP:20260422T105203
CREATED:20241007T220146Z
LAST-MODIFIED:20241007T220146Z
UID:7900-1730678400-1731023999@independencetraining.com
SUMMARY:Corporate Medical Training
DESCRIPTION:
URL:https://independencetraining.com/event/corporate-medical-training-73/
END:VEVENT
BEGIN:VEVENT
DTSTART;VALUE=DATE:20241105
DTEND;VALUE=DATE:20241106
DTSTAMP:20260422T105203
CREATED:20241007T215818Z
LAST-MODIFIED:20241007T215818Z
UID:7898-1730764800-1730851199@independencetraining.com
SUMMARY:Private Firearms Training
DESCRIPTION:
URL:https://independencetraining.com/event/private-firearms-training-35/
END:VEVENT
BEGIN:VEVENT
DTSTART;VALUE=DATE:20241109
DTEND;VALUE=DATE:20241110
DTSTAMP:20260422T105203
CREATED:20240101T221429Z
LAST-MODIFIED:20240129T185532Z
UID:6633-1731110400-1731196799@independencetraining.com
SUMMARY:Stop The Bleed
DESCRIPTION:Mesa\, AZ
URL:https://independencetraining.com/event/stop-the-bleed-11/
END:VEVENT
BEGIN:VEVENT
DTSTART;VALUE=DATE:20241110
DTEND;VALUE=DATE:20241111
DTSTAMP:20260422T105203
CREATED:20240824T170702Z
LAST-MODIFIED:20240824T170702Z
UID:7708-1731196800-1731283199@independencetraining.com
SUMMARY:Practical Night Vision Application and Use
DESCRIPTION:
URL:https://independencetraining.com/event/practical-night-vision-application-and-use/
END:VEVENT
BEGIN:VEVENT
DTSTART;VALUE=DATE:20241114
DTEND;VALUE=DATE:20241115
DTSTAMP:20260422T105203
CREATED:20241007T220353Z
LAST-MODIFIED:20241007T220353Z
UID:7902-1731542400-1731628799@independencetraining.com
SUMMARY:Corporate Medical Training
DESCRIPTION:
URL:https://independencetraining.com/event/corporate-medical-training-74/
END:VEVENT
BEGIN:VEVENT
DTSTART;VALUE=DATE:20241116
DTEND;VALUE=DATE:20241117
DTSTAMP:20260422T105203
CREATED:20241106T184408Z
LAST-MODIFIED:20241106T184408Z
UID:7985-1731715200-1731801599@independencetraining.com
SUMMARY:No Light / Low Light: Handgun
DESCRIPTION:
URL:https://independencetraining.com/event/no-light-low-light-handgun/
END:VEVENT
BEGIN:VEVENT
DTSTART;TZID=America/Denver:20241116T080000
DTEND;TZID=America/Denver:20241116T170000
DTSTAMP:20260422T105203
CREATED:20231022T194257Z
LAST-MODIFIED:20231022T194257Z
UID:6306-1731744000-1731776400@independencetraining.com
SUMMARY:Defensive Handgun with optional Low Light / No Light
DESCRIPTION:Phoenix\, AZ
URL:https://independencetraining.com/event/defensive-handgun-with-optional-low-light-no-light/
END:VEVENT
BEGIN:VEVENT
DTSTART;TZID=America/Denver:20241117T080000
DTEND;TZID=America/Denver:20241117T170000
DTSTAMP:20260422T105203
CREATED:20231022T200119Z
LAST-MODIFIED:20231022T200119Z
UID:6322-1731830400-1731862800@independencetraining.com
SUMMARY:Advanced Handgun
DESCRIPTION:Phoenix\, AZ
URL:https://independencetraining.com/event/advanced-handgun-3/
END:VEVENT
BEGIN:VEVENT
DTSTART;VALUE=DATE:20241119
DTEND;VALUE=DATE:20241120
DTSTAMP:20260422T105203
CREATED:20241007T220434Z
LAST-MODIFIED:20241007T220434Z
UID:7904-1731974400-1732060799@independencetraining.com
SUMMARY:Corporate Medical Training
DESCRIPTION:
URL:https://independencetraining.com/event/corporate-medical-training-75/
END:VEVENT
BEGIN:VEVENT
DTSTART;VALUE=DATE:20241120
DTEND;VALUE=DATE:20241121
DTSTAMP:20260422T105203
CREATED:20241007T220629Z
LAST-MODIFIED:20241007T220629Z
UID:7909-1732060800-1732147199@independencetraining.com
SUMMARY:Private Firearms Training
DESCRIPTION:
URL:https://independencetraining.com/event/private-firearms-training-36/
END:VEVENT
BEGIN:VEVENT
DTSTART;VALUE=DATE:20241122
DTEND;VALUE=DATE:20241123
DTSTAMP:20260422T105203
CREATED:20240708T210332Z
LAST-MODIFIED:20240708T210332Z
UID:7453-1732233600-1732319999@independencetraining.com
SUMMARY:EDC Combatives
DESCRIPTION:
URL:https://independencetraining.com/event/edc-combatives-4/
END:VEVENT
BEGIN:VEVENT
DTSTART;VALUE=DATE:20241123
DTEND;VALUE=DATE:20241124
DTSTAMP:20260422T105203
CREATED:20240708T222858Z
LAST-MODIFIED:20240708T222858Z
UID:7462-1732320000-1732406399@independencetraining.com
SUMMARY:Field Carbine
DESCRIPTION:Flagstaff\, AZ
URL:https://independencetraining.com/event/field-carbine-3/
END:VEVENT
BEGIN:VEVENT
DTSTART;VALUE=DATE:20241124
DTEND;VALUE=DATE:20241125
DTSTAMP:20260422T105203
CREATED:20240708T225009Z
LAST-MODIFIED:20240708T225009Z
UID:7478-1732406400-1732492799@independencetraining.com
SUMMARY:Winter Soldier
DESCRIPTION:Flagstaff\, AZ
URL:https://independencetraining.com/event/winter-soldier/
END:VEVENT
BEGIN:VEVENT
DTSTART;VALUE=DATE:20241126
DTEND;VALUE=DATE:20241127
DTSTAMP:20260422T105203
CREATED:20240613T181015Z
LAST-MODIFIED:20240613T181015Z
UID:7395-1732579200-1732665599@independencetraining.com
SUMMARY:Stop The Bleed
DESCRIPTION:Includes a Stop The Bleed kit
URL:https://independencetraining.com/event/stop-the-bleed-17/
END:VEVENT
BEGIN:VEVENT
DTSTART;VALUE=DATE:20241129
DTEND;VALUE=DATE:20241130
DTSTAMP:20260422T105203
CREATED:20231022T200901Z
LAST-MODIFIED:20240129T185512Z
UID:6328-1732838400-1732924799@independencetraining.com
SUMMARY:Black Friday
DESCRIPTION:Phoenix\, AZ
URL:https://independencetraining.com/event/black-friday/
END:VEVENT
BEGIN:VEVENT
DTSTART;VALUE=DATE:20241130
DTEND;VALUE=DATE:20241201
DTSTAMP:20260422T105203
CREATED:20230403T210435Z
LAST-MODIFIED:20240824T201611Z
UID:4447-1732924800-1733011199@independencetraining.com
SUMMARY:Defensive Carbine: AK-47 Focus
DESCRIPTION:Phoenix\, AZ
URL:https://independencetraining.com/event/defensive-carbine-ak-47-focus/
END:VEVENT
END:VCALENDAR