BEGIN:VCALENDAR
VERSION:2.0
PRODID:-//Independence Training - ECPv6.15.17//NONSGML v1.0//EN
CALSCALE:GREGORIAN
METHOD:PUBLISH
X-WR-CALNAME:Independence Training
X-ORIGINAL-URL:https://independencetraining.com
X-WR-CALDESC:Events for Independence Training
REFRESH-INTERVAL;VALUE=DURATION:PT1H
X-Robots-Tag:noindex
X-PUBLISHED-TTL:PT1H
BEGIN:VTIMEZONE
TZID:America/Denver
BEGIN:DAYLIGHT
TZOFFSETFROM:-0700
TZOFFSETTO:-0600
TZNAME:MDT
DTSTART:20240310T090000
END:DAYLIGHT
BEGIN:STANDARD
TZOFFSETFROM:-0600
TZOFFSETTO:-0700
TZNAME:MST
DTSTART:20241103T080000
END:STANDARD
BEGIN:DAYLIGHT
TZOFFSETFROM:-0700
TZOFFSETTO:-0600
TZNAME:MDT
DTSTART:20250309T090000
END:DAYLIGHT
BEGIN:STANDARD
TZOFFSETFROM:-0600
TZOFFSETTO:-0700
TZNAME:MST
DTSTART:20251102T080000
END:STANDARD
BEGIN:DAYLIGHT
TZOFFSETFROM:-0700
TZOFFSETTO:-0600
TZNAME:MDT
DTSTART:20260308T090000
END:DAYLIGHT
BEGIN:STANDARD
TZOFFSETFROM:-0600
TZOFFSETTO:-0700
TZNAME:MST
DTSTART:20261101T080000
END:STANDARD
END:VTIMEZONE
BEGIN:VEVENT
DTSTART;VALUE=DATE:20250801
DTEND;VALUE=DATE:20250802
DTSTAMP:20260421T184159
CREATED:20250718T212141Z
LAST-MODIFIED:20250718T212141Z
UID:9083-1754006400-1754092799@independencetraining.com
SUMMARY:Corporate Medical Training
DESCRIPTION:
URL:https://independencetraining.com/event/corporate-medical-training-141/
END:VEVENT
BEGIN:VEVENT
DTSTART;VALUE=DATE:20250803
DTEND;VALUE=DATE:20250804
DTSTAMP:20260421T184159
CREATED:20250718T212224Z
LAST-MODIFIED:20250718T212224Z
UID:9085-1754179200-1754265599@independencetraining.com
SUMMARY:Private Medical Training
DESCRIPTION:
URL:https://independencetraining.com/event/private-medical-training-28/
END:VEVENT
BEGIN:VEVENT
DTSTART;VALUE=DATE:20250805
DTEND;VALUE=DATE:20250806
DTSTAMP:20260421T184159
CREATED:20250718T212325Z
LAST-MODIFIED:20250718T212325Z
UID:9087-1754352000-1754438399@independencetraining.com
SUMMARY:Corporate Medical Training
DESCRIPTION:
URL:https://independencetraining.com/event/corporate-medical-training-142/
END:VEVENT
BEGIN:VEVENT
DTSTART;VALUE=DATE:20250806
DTEND;VALUE=DATE:20250808
DTSTAMP:20260421T184159
CREATED:20250718T212412Z
LAST-MODIFIED:20250718T212412Z
UID:9089-1754438400-1754611199@independencetraining.com
SUMMARY:Private Firearms Training
DESCRIPTION:
URL:https://independencetraining.com/event/private-firearms-training-52/
END:VEVENT
BEGIN:VEVENT
DTSTART;VALUE=DATE:20250807
DTEND;VALUE=DATE:20250811
DTSTAMP:20260421T184159
CREATED:20250718T212547Z
LAST-MODIFIED:20250718T212547Z
UID:9091-1754524800-1754870399@independencetraining.com
SUMMARY:NRL Ghost Hunter Finale
DESCRIPTION:
URL:https://independencetraining.com/event/nrl-ghost-hunter-finale/
END:VEVENT
BEGIN:VEVENT
DTSTART;VALUE=DATE:20250809
DTEND;VALUE=DATE:20250810
DTSTAMP:20260421T184159
CREATED:20241119T223423Z
LAST-MODIFIED:20241119T223423Z
UID:8049-1754697600-1754783999@independencetraining.com
SUMMARY:Stop The Bleed
DESCRIPTION:
URL:https://independencetraining.com/event/stop-the-bleed-33/
END:VEVENT
BEGIN:VEVENT
DTSTART;VALUE=DATE:20250811
DTEND;VALUE=DATE:20250812
DTSTAMP:20260421T184159
CREATED:20250718T212707Z
LAST-MODIFIED:20250718T212707Z
UID:9093-1754870400-1754956799@independencetraining.com
SUMMARY:Private Firearms Training
DESCRIPTION:
URL:https://independencetraining.com/event/private-firearms-training-53/
END:VEVENT
BEGIN:VEVENT
DTSTART;VALUE=DATE:20250812
DTEND;VALUE=DATE:20250813
DTSTAMP:20260421T184159
CREATED:20250807T170903Z
LAST-MODIFIED:20250807T170903Z
UID:9147-1754956800-1755043199@independencetraining.com
SUMMARY:Private Firearms Training
DESCRIPTION:
URL:https://independencetraining.com/event/private-firearms-training-55/
END:VEVENT
BEGIN:VEVENT
DTSTART;VALUE=DATE:20250812
DTEND;VALUE=DATE:20250813
DTSTAMP:20260421T184159
CREATED:20250807T170933Z
LAST-MODIFIED:20250807T170933Z
UID:9150-1754956800-1755043199@independencetraining.com
SUMMARY:Corporate Medical Training
DESCRIPTION:
URL:https://independencetraining.com/event/corporate-medical-training-150/
END:VEVENT
BEGIN:VEVENT
DTSTART;VALUE=DATE:20250813
DTEND;VALUE=DATE:20250814
DTSTAMP:20260421T184159
CREATED:20250807T171329Z
LAST-MODIFIED:20250807T171329Z
UID:9152-1755043200-1755129599@independencetraining.com
SUMMARY:Private Firearms Training
DESCRIPTION:
URL:https://independencetraining.com/event/private-firearms-training-57/
END:VEVENT
BEGIN:VEVENT
DTSTART;VALUE=DATE:20250813
DTEND;VALUE=DATE:20250814
DTSTAMP:20260421T184159
CREATED:20250807T171416Z
LAST-MODIFIED:20250807T171416Z
UID:9154-1755043200-1755129599@independencetraining.com
SUMMARY:Private Firearms Training
DESCRIPTION:
URL:https://independencetraining.com/event/private-firearms-training-59/
END:VEVENT
BEGIN:VEVENT
DTSTART;VALUE=DATE:20250814
DTEND;VALUE=DATE:20250815
DTSTAMP:20260421T184159
CREATED:20250807T171620Z
LAST-MODIFIED:20250807T171620Z
UID:9156-1755129600-1755215999@independencetraining.com
SUMMARY:Private Firearms Training
DESCRIPTION:
URL:https://independencetraining.com/event/private-firearms-training-60/
END:VEVENT
BEGIN:VEVENT
DTSTART;VALUE=DATE:20250814
DTEND;VALUE=DATE:20250815
DTSTAMP:20260421T184159
CREATED:20250807T171652Z
LAST-MODIFIED:20250807T171652Z
UID:9158-1755129600-1755215999@independencetraining.com
SUMMARY:Corporate Medical Training
DESCRIPTION:
URL:https://independencetraining.com/event/corporate-medical-training-151/
END:VEVENT
BEGIN:VEVENT
DTSTART;VALUE=DATE:20250815
DTEND;VALUE=DATE:20250816
DTSTAMP:20260421T184159
CREATED:20250106T190231Z
LAST-MODIFIED:20250706T202647Z
UID:8344-1755216000-1755302399@independencetraining.com
SUMMARY:EDC Combatives
DESCRIPTION:
URL:https://independencetraining.com/event/edc-combatives-13/
END:VEVENT
BEGIN:VEVENT
DTSTART;VALUE=DATE:20250815
DTEND;VALUE=DATE:20250816
DTSTAMP:20260421T184159
CREATED:20250807T171821Z
LAST-MODIFIED:20250807T171821Z
UID:9160-1755216000-1755302399@independencetraining.com
SUMMARY:Corporate Medical Training
DESCRIPTION:
URL:https://independencetraining.com/event/corporate-medical-training-152/
END:VEVENT
BEGIN:VEVENT
DTSTART;VALUE=DATE:20250816
DTEND;VALUE=DATE:20250817
DTSTAMP:20260421T184159
CREATED:20250807T172009Z
LAST-MODIFIED:20250807T172009Z
UID:9162-1755302400-1755388799@independencetraining.com
SUMMARY:Priavte Firearms Training
DESCRIPTION:
URL:https://independencetraining.com/event/priavte-firearms-training/
END:VEVENT
BEGIN:VEVENT
DTSTART;VALUE=DATE:20250817
DTEND;VALUE=DATE:20250818
DTSTAMP:20260421T184159
CREATED:20241119T224354Z
LAST-MODIFIED:20250706T202529Z
UID:8077-1755388800-1755475199@independencetraining.com
SUMMARY:Basic Handgun / AZ CCW
DESCRIPTION:
URL:https://independencetraining.com/event/basic-handgun-az-ccw-10/
END:VEVENT
BEGIN:VEVENT
DTSTART;VALUE=DATE:20250818
DTEND;VALUE=DATE:20250819
DTSTAMP:20260421T184159
CREATED:20250718T212801Z
LAST-MODIFIED:20250718T212801Z
UID:9095-1755475200-1755561599@independencetraining.com
SUMMARY:Corporate Medical Training
DESCRIPTION:
URL:https://independencetraining.com/event/corporate-medical-training-143/
END:VEVENT
BEGIN:VEVENT
DTSTART;VALUE=DATE:20250819
DTEND;VALUE=DATE:20250820
DTSTAMP:20260421T184159
CREATED:20250718T212826Z
LAST-MODIFIED:20250718T212826Z
UID:9097-1755561600-1755647999@independencetraining.com
SUMMARY:Corporate Medical Training
DESCRIPTION:
URL:https://independencetraining.com/event/corporate-medical-training-144/
END:VEVENT
BEGIN:VEVENT
DTSTART;VALUE=DATE:20250819
DTEND;VALUE=DATE:20250820
DTSTAMP:20260421T184159
CREATED:20250718T212856Z
LAST-MODIFIED:20250718T212856Z
UID:9099-1755561600-1755647999@independencetraining.com
SUMMARY:Private Firearms Training
DESCRIPTION:
URL:https://independencetraining.com/event/private-firearms-training-54/
END:VEVENT
BEGIN:VEVENT
DTSTART;VALUE=DATE:20250820
DTEND;VALUE=DATE:20250821
DTSTAMP:20260421T184159
CREATED:20250718T212934Z
LAST-MODIFIED:20250718T212934Z
UID:9101-1755648000-1755734399@independencetraining.com
SUMMARY:Corporate Medical Training
DESCRIPTION:
URL:https://independencetraining.com/event/corporate-medical-training-145/
END:VEVENT
BEGIN:VEVENT
DTSTART;VALUE=DATE:20250821
DTEND;VALUE=DATE:20250822
DTSTAMP:20260421T184159
CREATED:20250807T172307Z
LAST-MODIFIED:20250807T172307Z
UID:9164-1755734400-1755820799@independencetraining.com
SUMMARY:Private Firearms Training
DESCRIPTION:
URL:https://independencetraining.com/event/private-firearms-training-61/
END:VEVENT
BEGIN:VEVENT
DTSTART;VALUE=DATE:20250822
DTEND;VALUE=DATE:20250823
DTSTAMP:20260421T184159
CREATED:20250718T213016Z
LAST-MODIFIED:20250718T213016Z
UID:9103-1755820800-1755907199@independencetraining.com
SUMMARY:Corporate Medical Training
DESCRIPTION:
URL:https://independencetraining.com/event/corporate-medical-training-146/
END:VEVENT
BEGIN:VEVENT
DTSTART;VALUE=DATE:20250823
DTEND;VALUE=DATE:20250824
DTSTAMP:20260421T184159
CREATED:20241119T232151Z
LAST-MODIFIED:20241119T232151Z
UID:8150-1755907200-1755993599@independencetraining.com
SUMMARY:Practical Shotgun
DESCRIPTION:
URL:https://independencetraining.com/event/practical-shotgun-3/
END:VEVENT
BEGIN:VEVENT
DTSTART;VALUE=DATE:20250824
DTEND;VALUE=DATE:20250825
DTSTAMP:20260421T184159
CREATED:20241119T231822Z
LAST-MODIFIED:20241119T231822Z
UID:8144-1755993600-1756079999@independencetraining.com
SUMMARY:Advanced Carbine
DESCRIPTION:
URL:https://independencetraining.com/event/advanced-carbine-4/
END:VEVENT
BEGIN:VEVENT
DTSTART;VALUE=DATE:20250825
DTEND;VALUE=DATE:20250826
DTSTAMP:20260421T184159
CREATED:20250718T213124Z
LAST-MODIFIED:20250718T213124Z
UID:9107-1756080000-1756166399@independencetraining.com
SUMMARY:Corporate Medical Training
DESCRIPTION:
URL:https://independencetraining.com/event/corporate-medical-training-148/
END:VEVENT
BEGIN:VEVENT
DTSTART;VALUE=DATE:20250825
DTEND;VALUE=DATE:20250829
DTSTAMP:20260421T184159
CREATED:20250718T213057Z
LAST-MODIFIED:20250718T213057Z
UID:9105-1756080000-1756425599@independencetraining.com
SUMMARY:Corporate Medical Training
DESCRIPTION:
URL:https://independencetraining.com/event/corporate-medical-training-147/
END:VEVENT
BEGIN:VEVENT
DTSTART;VALUE=DATE:20250826
DTEND;VALUE=DATE:20250827
DTSTAMP:20260421T184159
CREATED:20241119T223517Z
LAST-MODIFIED:20241119T223517Z
UID:8051-1756166400-1756252799@independencetraining.com
SUMMARY:Stop The Bleed
DESCRIPTION:
URL:https://independencetraining.com/event/stop-the-bleed-34/
END:VEVENT
BEGIN:VEVENT
DTSTART;VALUE=DATE:20250826
DTEND;VALUE=DATE:20250829
DTSTAMP:20260421T184159
CREATED:20250718T213400Z
LAST-MODIFIED:20250718T213400Z
UID:9109-1756166400-1756425599@independencetraining.com
SUMMARY:Corporate Medical Training
DESCRIPTION:
URL:https://independencetraining.com/event/corporate-medical-training-149/
END:VEVENT
BEGIN:VEVENT
DTSTART;VALUE=DATE:20250831
DTEND;VALUE=DATE:20250901
DTSTAMP:20260421T184159
CREATED:20241119T230532Z
LAST-MODIFIED:20250706T202604Z
UID:8119-1756598400-1756684799@independencetraining.com
SUMMARY:Defensive Carbine
DESCRIPTION:
URL:https://independencetraining.com/event/defensive-carbine-9/
END:VEVENT
END:VCALENDAR