BEGIN:VCALENDAR
VERSION:2.0
PRODID:-//Independence Training - ECPv6.15.17//NONSGML v1.0//EN
CALSCALE:GREGORIAN
METHOD:PUBLISH
X-WR-CALNAME:Independence Training
X-ORIGINAL-URL:https://independencetraining.com
X-WR-CALDESC:Events for Independence Training
REFRESH-INTERVAL;VALUE=DURATION:PT1H
X-Robots-Tag:noindex
X-PUBLISHED-TTL:PT1H
BEGIN:VTIMEZONE
TZID:America/Denver
BEGIN:DAYLIGHT
TZOFFSETFROM:-0700
TZOFFSETTO:-0600
TZNAME:MDT
DTSTART:20250309T090000
END:DAYLIGHT
BEGIN:STANDARD
TZOFFSETFROM:-0600
TZOFFSETTO:-0700
TZNAME:MST
DTSTART:20251102T080000
END:STANDARD
BEGIN:DAYLIGHT
TZOFFSETFROM:-0700
TZOFFSETTO:-0600
TZNAME:MDT
DTSTART:20260308T090000
END:DAYLIGHT
BEGIN:STANDARD
TZOFFSETFROM:-0600
TZOFFSETTO:-0700
TZNAME:MST
DTSTART:20261101T080000
END:STANDARD
BEGIN:DAYLIGHT
TZOFFSETFROM:-0700
TZOFFSETTO:-0600
TZNAME:MDT
DTSTART:20270314T090000
END:DAYLIGHT
BEGIN:STANDARD
TZOFFSETFROM:-0600
TZOFFSETTO:-0700
TZNAME:MST
DTSTART:20271107T080000
END:STANDARD
END:VTIMEZONE
BEGIN:VEVENT
DTSTART;VALUE=DATE:20260704
DTEND;VALUE=DATE:20260705
DTSTAMP:20260421T093833
CREATED:20250917T180329Z
LAST-MODIFIED:20250917T180329Z
UID:9514-1783123200-1783209599@independencetraining.com
SUMMARY:Independence Day Action Rifle Match
DESCRIPTION:
URL:https://independencetraining.com/event/independence-day-action-rifle-match/
END:VEVENT
BEGIN:VEVENT
DTSTART;VALUE=DATE:20260707
DTEND;VALUE=DATE:20260708
DTSTAMP:20260421T093833
CREATED:20260302T212705Z
LAST-MODIFIED:20260302T212705Z
UID:10218-1783382400-1783468799@independencetraining.com
SUMMARY:Corporate Medical Training
DESCRIPTION:
URL:https://independencetraining.com/event/corporate-medical-training-240/
END:VEVENT
BEGIN:VEVENT
DTSTART;VALUE=DATE:20260710
DTEND;VALUE=DATE:20260711
DTSTAMP:20260421T093833
CREATED:20260105T191515Z
LAST-MODIFIED:20260105T191515Z
UID:9939-1783641600-1783727999@independencetraining.com
SUMMARY:EDC Combatives
DESCRIPTION:
URL:https://independencetraining.com/event/edc-combatives-24/
END:VEVENT
BEGIN:VEVENT
DTSTART;VALUE=DATE:20260711
DTEND;VALUE=DATE:20260712
DTSTAMP:20260421T093833
CREATED:20250917T180430Z
LAST-MODIFIED:20250917T180430Z
UID:9516-1783728000-1783814399@independencetraining.com
SUMMARY:Defensive Carbine
DESCRIPTION:
URL:https://independencetraining.com/event/defensive-carbine-14/
END:VEVENT
BEGIN:VEVENT
DTSTART;VALUE=DATE:20260711
DTEND;VALUE=DATE:20260712
DTSTAMP:20260421T093833
CREATED:20250917T180741Z
LAST-MODIFIED:20250917T180741Z
UID:9522-1783728000-1783814399@independencetraining.com
SUMMARY:Stop The Bleed
DESCRIPTION:
URL:https://independencetraining.com/event/stop-the-bleed-56/
END:VEVENT
BEGIN:VEVENT
DTSTART;VALUE=DATE:20260712
DTEND;VALUE=DATE:20260713
DTSTAMP:20260421T093833
CREATED:20250917T180532Z
LAST-MODIFIED:20250917T180532Z
UID:9518-1783814400-1783900799@independencetraining.com
SUMMARY:Advanced Carbine
DESCRIPTION:
URL:https://independencetraining.com/event/advanced-carbine-7/
END:VEVENT
BEGIN:VEVENT
DTSTART;VALUE=DATE:20260713
DTEND;VALUE=DATE:20260716
DTSTAMP:20260421T093833
CREATED:20260302T212806Z
LAST-MODIFIED:20260302T212806Z
UID:10220-1783900800-1784159999@independencetraining.com
SUMMARY:Corporate Medical Training
DESCRIPTION:
URL:https://independencetraining.com/event/corporate-medical-training-241/
END:VEVENT
BEGIN:VEVENT
DTSTART;VALUE=DATE:20260723
DTEND;VALUE=DATE:20260724
DTSTAMP:20260421T093833
CREATED:20260302T212902Z
LAST-MODIFIED:20260302T212902Z
UID:10222-1784764800-1784851199@independencetraining.com
SUMMARY:Corporate Medical Training
DESCRIPTION:
URL:https://independencetraining.com/event/corporate-medical-training-242/
END:VEVENT
BEGIN:VEVENT
DTSTART;VALUE=DATE:20260725
DTEND;VALUE=DATE:20260726
DTSTAMP:20260421T093833
CREATED:20250917T180624Z
LAST-MODIFIED:20250917T180624Z
UID:9520-1784937600-1785023999@independencetraining.com
SUMMARY:IFAK Life Saver
DESCRIPTION:
URL:https://independencetraining.com/event/ifak-life-saver-15/
END:VEVENT
BEGIN:VEVENT
DTSTART;VALUE=DATE:20260728
DTEND;VALUE=DATE:20260729
DTSTAMP:20260421T093833
CREATED:20250917T180818Z
LAST-MODIFIED:20250917T180818Z
UID:9524-1785196800-1785283199@independencetraining.com
SUMMARY:Stop The Bleed
DESCRIPTION:
URL:https://independencetraining.com/event/stop-the-bleed-57/
END:VEVENT
END:VCALENDAR